BEGIN:VCALENDAR
VERSION:2.0
PRODID:-//femvents.at - ECPv6.15.18//NONSGML v1.0//EN
CALSCALE:GREGORIAN
METHOD:PUBLISH
X-ORIGINAL-URL:https://www.femvents.at
X-WR-CALDESC:Veranstaltungen für femvents.at
REFRESH-INTERVAL;VALUE=DURATION:PT1H
X-Robots-Tag:noindex
X-PUBLISHED-TTL:PT1H
BEGIN:VTIMEZONE
TZID:Europe/Vienna
BEGIN:DAYLIGHT
TZOFFSETFROM:+0100
TZOFFSETTO:+0200
TZNAME:CEST
DTSTART:20250330T010000
END:DAYLIGHT
BEGIN:STANDARD
TZOFFSETFROM:+0200
TZOFFSETTO:+0100
TZNAME:CET
DTSTART:20251026T010000
END:STANDARD
BEGIN:DAYLIGHT
TZOFFSETFROM:+0100
TZOFFSETTO:+0200
TZNAME:CEST
DTSTART:20260329T010000
END:DAYLIGHT
BEGIN:STANDARD
TZOFFSETFROM:+0200
TZOFFSETTO:+0100
TZNAME:CET
DTSTART:20261025T010000
END:STANDARD
BEGIN:DAYLIGHT
TZOFFSETFROM:+0100
TZOFFSETTO:+0200
TZNAME:CEST
DTSTART:20270328T010000
END:DAYLIGHT
BEGIN:STANDARD
TZOFFSETFROM:+0200
TZOFFSETTO:+0100
TZNAME:CET
DTSTART:20271031T010000
END:STANDARD
END:VTIMEZONE
BEGIN:VEVENT
DTSTART;TZID=Europe/Vienna:20260115T100000
DTEND;TZID=Europe/Vienna:20260115T113000
DTSTAMP:20260422T141202
CREATED:20260107T102745Z
LAST-MODIFIED:20260107T102745Z
UID:10000615-1768471200-1768476600@www.femvents.at
SUMMARY:Soulful Business Networking
DESCRIPTION:✨ Soulful Business Networking – online | 15. Jänner ✨ \nDu hast Lust auf echtes Vernetzen – jenseits von Visitenkarten-Smalltalk und oberflächlichem „Ich bin\, ich kann\, ich biete“?\nDann ist dieses Format für dich 🤍 \nBeim Soulful Business Networking triffst du andere Unternehmerinnen in kleinen\, geschützten Gruppen. \nDu machst dich und dein Angebot sichtbar –\naber auf eine authentische\, tiefere und menschliche Art.\nEs geht nicht um perfekte Pitches\, sondern um: \ndeine Reise in die Selbstständigkeit\ndas\, wo du gerade stehst\nwas dich bewegt und antreibt \nUnd dann darf alles entstehen\, was entstehen möchte:\nVerbindung\, Inspiration\, Kooperationen und jemand\, der genau jetzt deine Dienstleistung/Produkt braucht. \n📅 Wann?\n🗓 15. Jänner\n⏰ 10:00 – 11:30 Uhr\n📍 online \n🔗 https://www.digitales-coworking.at/event/soulful-b/\nWenn du dir wünschst\, gesehen zu werden\, ohne dich verstellen zu müssen\, dann komm dazu.
URL:https://www.femvents.at/event/soulful-business-networking-4/
LOCATION:Online-Event\, Austria
CATEGORIES:Netzwerk-Treffen,Online-Event
ATTACH;FMTTYPE=image/jpeg:https://www.femvents.at/wp-content/uploads/2026/01/Soulful-Business-Networking-7.jpg
ORGANIZER;CN="Sarah Kerstin Breuer - Soulmates &amp%3B Businessfriends - digitales Coworking":MAILTO:hallo@digitales-coworking.at
GEO:47.516231;14.550072
END:VEVENT
BEGIN:VEVENT
DTSTART;TZID=Europe/Vienna:20260115T100000
DTEND;TZID=Europe/Vienna:20260115T150000
DTSTAMP:20260422T141202
CREATED:20260102T111634Z
LAST-MODIFIED:20260102T111634Z
UID:10000603-1768471200-1768489200@www.femvents.at
SUMMARY:JAHRESKOMPASS - der Jahresplanungs-Workshop für Unternehmerinnen für ein erfolgreiches 2026
DESCRIPTION:Hast du genug von dem ständigen Bauchgefühl: „Geht sich das überhaupt aus?“Fühlst du dich mehr ständig als selbständig\, weil Urlaub und Pausen immer zu kurz kommen?Möchtest du endlich Überblick schaffen\, damit dir SVS und Finanzamt keine Sorgen mehr bereiten? \nDann ist dieser Jahresplanungsworkshop genau der RICHTIGE für dich. \nWorkshop Inhalt:\n>>baust du dir ein stabiles Business Fundament für 2026 – ohne dabei auszubrennen\n>> setzt du klare Prioritäten\, wo du Geld verdienen und investieren willst – statt immer nur zu reagieren\n>> baust du dir ein System\, das Umsatz\, Kosten und Freizeit in Einklang bringt – ohne Excel-Stress oder Zahlendurcheinander.\n>> lösen wir die Angst vor unerwarteten Zahlungen – deine Planung umfasst Kontostand\, Rücklagen\, SVS und Finanzamt\, damit dich nichts mehr überrascht. \n\nWas dich erwartet\n\n\n\nStruktur und Klarheit auf Knopfdruck:  Eine Excel Vorlage die auf dich abgestimmt ist und dich nicht nur in dieesm Workshop sondern erfolgreich durch 2026 begleitet\nTräume die Realität werden dürfen: Wir verbinden Vision mit Zahlen\, Ambitionen mit Machbarkeit. So entsteht ein Plan\, der nicht verträumt\, sondern tragfähig ist\nSelbständig heißt nicht ständig: Lerne wie du bereits Anfang des Jahres deine Freizeit & Urlaube einplanst\nAngst verliert den Boden\, wenn du weißt wo du stehst: Du weißt nach dem Workshop genau\, wie viel du auf die Seite legen musst und wo du finanziell stehst. Das gibt dir Ruhe im Kopf – und Kontrolle über dein Handeln\nEin erweitertes Netzwerk für 2026: UnternehmerInnen die gleich ticken wie du
URL:https://www.femvents.at/event/jahreskompass-der-jahresplanungs-workshop-fuer-unternehmerinnen-fuer-ein-erfolgreiches-2026/
LOCATION:cosima community\, Neubaugasse 79/8\, Wien\, 1070\, Austria
CATEGORIES:Coaching,Wien,Workshop
ATTACH;FMTTYPE=image/jpeg:https://www.femvents.at/wp-content/uploads/2026/01/ninaromana-kerstinbreymann25-scaled.jpg
GEO:48.2058461;16.3490678
X-APPLE-STRUCTURED-LOCATION;VALUE=URI;X-ADDRESS=cosima community Neubaugasse 79/8 Wien 1070 Austria;X-APPLE-RADIUS=500;X-TITLE=Neubaugasse 79/8:geo:16.3490678,48.2058461
END:VEVENT
BEGIN:VEVENT
DTSTART;TZID=Europe/Vienna:20260115T183000
DTEND;TZID=Europe/Vienna:20260115T210000
DTSTAMP:20260422T141202
CREATED:20260109T094112Z
LAST-MODIFIED:20260109T094118Z
UID:10000652-1768501800-1768510800@www.femvents.at
SUMMARY:YOGA & WORTE Workshop
DESCRIPTION:Starte klar und kraftvoll ins neue Jahr mit Yoga und kreativem Schreiben! \nEin Abend der Bewegung\, Atmung und kreatives Schreiben verbindet. Dich erwartet ein aktiver\, fließender Yoga-Stil\, der Kraft\, Stabilität und Flexibilität vereint – mit bewusster Atmung und Raum für Leichtigkeit. \nIn dieser Kombination aus kraftvollem Yoga-Flow\, Schreibimpulsen und stillen Momenten nimmst du dir Zeit\, innezuhalten\, neue Perspektiven zu entdecken und deinen Fokus für 2026 klar auszurichten. Ein motivierender Abend mit Power\, Tiefe und Leichtigkeit zum Jahresstart. \n\nMit Sabine Mair (Texterin & Lektorin) und Doris Steiner (Yogalehrerin).\n\n\n\n\n\nWann: Donnerstag\, 15.01.2026\, 18:30-21:00 UhrOrt: atico – Raum für Begegnung\, Bierbaumstraße 25Preis: 57 EuroAnmeldung: yoga@studiodo.at\, 0676 450 2655\n\n\n\n\n\nKeine Vorkenntnisse notwendig.Nur die Lust\, dir Zeit für dich zu nehmen!\n\n\n\n\n\n Neujahrs-Angebot:\n\n\nBringe eine 2. Person zum Workshop mit und du erhältst 20 % auf den Kursbeitrag.
URL:https://www.femvents.at/event/yoga-worte-workshop/
LOCATION:atico – Raum für Begegnung\, Bierbaumstraße 25\, Hart bei Graz\, Steiermark\, 8075\, Austria
CATEGORIES:Steiermark,Workshop
ATTACH;FMTTYPE=image/jpeg:https://www.femvents.at/wp-content/uploads/2026/01/940x788px_fb_Beitrag_channel_yogaundworte_fokus_2026-scaled.jpg
GEO:47.0434822;15.5044179
X-APPLE-STRUCTURED-LOCATION;VALUE=URI;X-ADDRESS=atico – Raum für Begegnung Bierbaumstraße 25 Hart bei Graz Steiermark 8075 Austria;X-APPLE-RADIUS=500;X-TITLE=Bierbaumstraße 25:geo:15.5044179,47.0434822
END:VEVENT
END:VCALENDAR