BEGIN:VCALENDAR
VERSION:2.0
PRODID:-//femvents.at - ECPv6.15.18//NONSGML v1.0//EN
CALSCALE:GREGORIAN
METHOD:PUBLISH
X-ORIGINAL-URL:https://www.femvents.at
X-WR-CALDESC:Veranstaltungen für femvents.at
REFRESH-INTERVAL;VALUE=DURATION:PT1H
X-Robots-Tag:noindex
X-PUBLISHED-TTL:PT1H
BEGIN:VTIMEZONE
TZID:Europe/Vienna
BEGIN:DAYLIGHT
TZOFFSETFROM:+0100
TZOFFSETTO:+0200
TZNAME:CEST
DTSTART:20250330T010000
END:DAYLIGHT
BEGIN:STANDARD
TZOFFSETFROM:+0200
TZOFFSETTO:+0100
TZNAME:CET
DTSTART:20251026T010000
END:STANDARD
BEGIN:DAYLIGHT
TZOFFSETFROM:+0100
TZOFFSETTO:+0200
TZNAME:CEST
DTSTART:20260329T010000
END:DAYLIGHT
BEGIN:STANDARD
TZOFFSETFROM:+0200
TZOFFSETTO:+0100
TZNAME:CET
DTSTART:20261025T010000
END:STANDARD
BEGIN:DAYLIGHT
TZOFFSETFROM:+0100
TZOFFSETTO:+0200
TZNAME:CEST
DTSTART:20270328T010000
END:DAYLIGHT
BEGIN:STANDARD
TZOFFSETFROM:+0200
TZOFFSETTO:+0100
TZNAME:CET
DTSTART:20271031T010000
END:STANDARD
END:VTIMEZONE
BEGIN:VEVENT
DTSTART;TZID=Europe/Vienna:20260116T080000
DTEND;TZID=Europe/Vienna:20260118T120000
DTSTAMP:20260422T141153
CREATED:20251217T134325Z
LAST-MODIFIED:20251217T134325Z
UID:10000589-1768550400-1768737600@www.femvents.at
SUMMARY:🌹 VENUS Rebirth Experience - Deine Rückkehr ins Empfangen von Geld & Kunden🌹
DESCRIPTION:Herzlich Willkommen! \n📅 16.–18. Jänner 2026 in Neusiedl am See \n🌹 VENUS REBIRTH Experience – Wo du aufhörst zu funktionieren und beginnst zu empfangen\nGeld. Kunden. Wertschätzung. Nicht durch Tun – sondern durch Verkörperung. Du hast viel erreicht. Du bist stark. Verantwortlich. Leistungsfähig.\nUnd gleichzeitig spürst du:\nSo wie bisher will ich nicht mehr weitermachen.\n• Nicht noch mehr tun.\n• Nicht noch mehr halten.\n• Nicht noch mehr leisten. \nDenn tief in dir lebt diese Sehnsucht:\n✨ endlich langsamer werden\n✨ nach Hause kommen – in dich\n✨ weich sein dürfen\n✨ dich tragen lassen\n✨ magnetisch empfangen\, was du dir wünschst \nGeld.Kunden.Wertschätzung.Luxus. \n🌹 Nicht\, weil du dich anstrengst – sondern weil du du bist.\n🌙 Der stille Schmerz des Funktionsmodus\nViele Frauen leben im Funktionsmodus\, ohne es zu merken.\nSie:\n– organisieren\n– entscheiden\n– halten alles zusammen\n– sind immer „on“\nUnd auch wenn im Außen alles läuft\, ist im Inneren oft:\n• Müdigkeit\n• innere Leere\n• Enge im Körper\n• ein permanentes „Ich muss“ \nVielleicht wünschst du dir schon länger: eine Auszeit.Eine Pause.Einen Rückzug. \n🌹 Doch was du wirklich brauchst\, ist keine Pause vom Leben.\nDu brauchst eine Rückkehr zu dir.\n🌹 Warum dein nächstes Level nicht im Tun liegt\nDu hast gelernt:\nErfolg entsteht durch Strategie\, Disziplin und Durchhalten.\nDoch für Frauen gibt es eine andere Wahrheit: \n✨ Magnetismus entsteht im Körper.\n✨ Im Nervensystem.\n✨ In Sicherheit.\n✨ In Weichheit. \nMagnetische Frauen ziehen an\, weil sie empfangen können.\n– Geld.\n– Kunden.\n– Wertschätzung. \nNicht als Ziel – sondern als natürliche Folge ihrer Verkörperung.\nVENUS REBIRTH ist der Raum\, in dem du genau diesen Zustand wieder aktivierst.\n🌹 VENUS REBIRTH ist kein Retreat – Es ist ein Identitätswechsel\nKein Wellness.\nKein Rückzug\, um danach wieder zu funktionieren. \nVENUS REBIRTH ist eine Schwelle. Ein Portal. Ein Übergang.\nVon:\n– Funktionieren → Empfangen\n– Druck → Sicherheit\n– Kontrolle → Vertrauen\n– Anspannung → Weiblichkeit \nDu kommst zurück:\nin deinen Körper\nin dein Herz\nin deine Wahrheit \nUnd genau dort beginnt das Leben\, dich zu versorgen statt zu fordern.\n🌙 Die vier Portale deines Rebirths\n(deine vier Schlüssel zurück ins Empfangen)\n🌹 Portal 1 – Ausstieg aus dem Funktionsmodus\nWir lösen Druck\, Verantwortung und Daueranspannung.\nDein Nervensystem darf endlich loslassen. \n🌹 Portal 2 – Herzöffnung & Venus-Heilung\nEmpfangen wird wieder sicher.\nDein Körper erinnert sich an Genuss\, Weichheit und magnetische Präsenz. \n🌹 Portal 3 – Vision empfangen statt planen\nKeine Ziele. Kein Brainstorming.\nDeine Vision entsteht aus deinem inneren Source Field. \n🌹 Portal 4 – Venus-high Identität Aktivierung\nDu aktivierst die Frau\, die:\n– klar entscheidet\n– weich bleibt\n– magnetisch wirkt\n– mühelos empfängt \nViele Frauen sagen hier nur:\n„Ich bin zuhause. Und alles fließt.“\n🌹 Was sich nach VENUS REBIRTH verändert\nDu wirst:\n✓ nicht mehr getrieben\n✓ sicher in dir\n✓ weich im Körper\n✓ klar in Entscheidungen\n✓ offen im Herzen\n✓ präsent statt angespannt\n✓ magnetisch für Geld\, Kunden & Wertschätzung \nFrauen beschreiben es so: „Ich habe aufgehört zu kämpfen – und plötzlich kam alles zu mir.“\n🌙 Für wen diese Experience ist\nVENUS REBIRTH ist für dich\, wenn du:\n🔥 im Funktionsmodus feststeckst\n🔥 viel gibst und wenig empfängst\n🔥 Erfolg willst\, der sich leicht anfühlt\n🔥 Luxus leben willst\, ohne Härte\n🔥 spürst\, dass 2026 anders wird\n🔥 bereit bist\, dich selbst wieder zu wählen \nNicht für:\n– Frauen\, die nur entspannen wollen\n– Frauen\, die noch überlegen\n– Frauen\, die auf ein Zeichen warten \nWenn du es fühlst – das IST dein Zeichen.\n🌹 Wann & Wo\n📅 16.–18. Jänner 2026\nFreitag 16:00 – Sonntag Mittag\n📍 Hotel Wende – Neusiedl am See\nZimmer bitte selbst buchen und meinen Namen angeben\n👉 https://www.hotel-wende.at \n✨ Nur 8 Frauen. Intim. Tief. Heilig. \n👑 Deine Entscheidung\nFrauen buchen VENUS REBIRTH:\nSondern weil sie fühlen:\n„Ich will nicht mehr kämpfen.“\n„Ich will empfangen.“\n„Ich bin bereit für Leichtigkeit.“ \n🌹 VENUS REBIRTH Experience\n💫 Nur € 999 brutto bis 22. 12. 24:59 dann springt der Preis nochmals\n👉 Hör auf zu funktionieren.\n👉 Komm nach Hause.\n👉 Lass Geld\, Kunden & Wertschätzung zu dir kommen.
URL:https://www.femvents.at/event/%f0%9f%8c%b9-venus-rebirth-experience-deine-rueckkehr-ins-empfangen-von-geld-kunden%f0%9f%8c%b9/
LOCATION:Hotel Wende Neusiedl am See\, Seestrasse 40\, Neusiedl am See\, Burgenland\, 7100\, Austria
CATEGORIES:Burgenland,Frauenkreis
ATTACH;FMTTYPE=image/png:https://www.femvents.at/wp-content/uploads/2025/12/Venus-Rebirth.png
GEO:47.9403565;16.8442591
X-APPLE-STRUCTURED-LOCATION;VALUE=URI;X-ADDRESS=Hotel Wende Neusiedl am See Seestrasse 40 Neusiedl am See Burgenland 7100 Austria;X-APPLE-RADIUS=500;X-TITLE=Seestrasse 40:geo:16.8442591,47.9403565
END:VEVENT
BEGIN:VEVENT
DTSTART;TZID=Europe/Vienna:20260116T140000
DTEND;TZID=Europe/Vienna:20260117T163000
DTSTAMP:20260422T141153
CREATED:20260107T152057Z
LAST-MODIFIED:20260107T152209Z
UID:10000634-1768572000-1768667400@www.femvents.at
SUMMARY:Impulsseminar Frauenfitness
DESCRIPTION:Fortbildungen: FIT-Sport\nImpulsseminar Frauenfitness\nFortbildung\nIn dieser Fortbildung bekommen Übungsleiter:innen\, Trainer:innen und Interessierte ein Rüstzeug in die Hand\, um Bewegungseinheiten speziell für die Zielgruppe „Frauen“ gestalten und ihnen mit wertvollen Tipps zur Seite stehen zu können. Der Fokus der Fortbildung besteht aus den Themen Bewegung\, Ernährung und mentales Wohlbefinden. \nIn Theorie- und Praxiseinheiten werden folgende Inhalte vermittelt: \n\nPhysiologie des weiblichen Körpers und seine Veränderungen im Laufe des Lebens\nZyklusbasiertes Training\nWechseljahre – Symptome der Wechseljahre\nTrainingskonzepte in Theorie und Praxis (Krafttraining mit Freigeräten\, Hiit & Sprungkrafttraining)\nErnährung (mindful eating) und Ideen für gesunde Mahlzeiten und Snacks\nMentaltraining & Stressmanagement – was ein positives Mindset bewirken kann\nAerobic Basics für die Vereinseinheit\nTipps für den Alltag\nZeit zum persönlichen Erfahrungsaustausch\n\n\n\n\n\nZielgruppe \nalle interessierten Personen\, die zukünftig Sporteinheiten mit der Zielgruppe Frauen anleiten wollen \nKursreferentInnen\n\n\nJulia Zwonarits MA\, Dipl. Fitness- & Personal Trainerin\, MamaWORKOUT-Postnataltrainerin\, Beckenbodentrainerin\, Dipl. Ernährungstrainerin
URL:https://www.femvents.at/event/65836/
LOCATION:Eisenstadt\, Eisenstadt\, Austria
CATEGORIES:Burgenland,Kurs,Sport
ATTACH;FMTTYPE=image/png:https://www.femvents.at/wp-content/uploads/2025/05/cropped-LogoFavicon.png
GEO:47.8404525;16.5252498
END:VEVENT
BEGIN:VEVENT
DTSTART;TZID=Europe/Vienna:20260116T160000
DTEND;TZID=Europe/Vienna:20260117T180000
DTSTAMP:20260422T141153
CREATED:20251030T125855Z
LAST-MODIFIED:20260107T143012Z
UID:10000460-1768579200-1768672800@www.femvents.at
SUMMARY:HORMON VITALITY Workshop
DESCRIPTION:✨ Hormone in Balance mit Yoga & Ernährung ✨\n\nHormone verstehen – und ins Gleichgewicht bringen\n\n\nHORMON VITALITY ist kein Trend\, sondern eine Einladung\, den eigenen Körper neu kennenzulernen – mit all seinen feinen Signalen und Bedürfnissen. Wer sich erlaubt\, offen und neugierig zu bleiben\, kann durch Hormonyoga und Ernährung nicht nur Beschwerden lindern\, sondern Vitalität\, innere Ruhe und Lebensfreude zurückgewinnen.\n\n\nEin Workshop\, der verbindet – Körper und Geist\, Wissen und Praxis- für alle Frauen. WIEN Zentrum – Dein Power-Duo 🧘‍♀️Yoga & Ernährung 🥑\n\n16./17. Jänner 2026 – WIEN – Termine und Infos unter www.yogavibe.at\n\nFür mehr Vitalität\, Gelassenheit & innere Harmonie! \nFühlst du dich manchmal müde\, gestresst oder einfach nicht im Flow? Das Gute daran: dein Körper sendet dir Signale. Lerne sie richtig und beizeiten zu deuten. Deinen Hormonhaushalt kannst du auch ganz natürlich unterstützen – mit Yoga & hormongerechter Ernährung. Wusstest du\, dass\, dein Körper einer inneren 24h-Uhr folgt? ⏰ Hormone steuern so gut wie alles in unserem Körper – auch unsere Laune\, Energielevel und Schlaf. \n🌿 Dein Benefit im Workshop\nDu lernst\, wie du durch gezielte Yogaübungen & Ernährung deine innere Uhr harmonisierst – für mehr Balance\, Power & Lebensfreude! \n👉 Starte jetzt deine ganzheitliche Reise zu hormoneller Balance und innerer Harmonie!\nAnmeldung: yogavibevienna@gmail.com \nWeitere Infos: www.yogavibe.at/termine \n\nYoga reguliert den Hormonstatus\, wirkt präventiv gegen Müdigkeit\, Schlafstörungen\, Stimmungsschwankungen\, Hitzewallungen oder Konzentrationsprobleme u.v.m.\n\n\nEine hormongerechte Ernährung unterstützt die Innere Balance\, indem sie den Blutzucker stabilisiert\, das Hunger- und Sättigungshormon reguliert\, die Schilddrüsenproduktion stärkt und die Cortisol Regulation (Stresshomron) verbessert u.v.m.\n\nHormonyoga kann sowohl in den wecsheljahren wie auch bei Kinderwunsch\nviel bewirken. Es hilft gegen Beschwerden wie Hitzewallungen\, Schlafstörungen\, Stimmungsschwankungen\, Haut- und Haarproblemen\, geringer Knochendichte\, trockenen Schleimhäuten und Energiemangel. \nZum Hintergrund: Die Übungsreihe Hormon-Yoga wurde von Dinah Rodrigues entwickelt und verhilft bereits seit Jahrzehnten Frauen zu mehr Wohlbefinden.\nEs basiert auf einer Mischung aus Körperübungen\, Atemtechnik und mentaler Energielenkung. Die Übungen regen die weiblichen\, hormonerzeugenden Drüsen und Organe\, wie Eierstöcke\, Nebennieren\, Hirnanhangdrüse und Schilddrüse an und harmonisieren den Hormonhauahalt. In Kombination mit der richtigen Ernährung zum richtigen Zeitpunkt erhältst du in diesem Workshop effektive Tools um deine Beschwerden zu lindern und dein Wohlbefinden zu erhöhen. \n👉 Starte jetzt deine ganzheitliche Reise zu hormoneller Balance und innerer Harmonie!\nAnmeldung: yogavibevienna@gmail.com \nWeitere Infos: www.yogavibe.at/termine \n16./17. Jänner 2026 – 16-20 UHR und 10-18 UHR\, Wien Zentrum \n\n 
URL:https://www.femvents.at/event/hormon-vitality-workshop-2/
LOCATION:Wien\, wien\, Wien\, 1060\, Austria
CATEGORIES:Vortrag,Wien,Workshop
ATTACH;FMTTYPE=image/jpeg:https://www.femvents.at/wp-content/uploads/2025/10/1-2.jpg
ORGANIZER;CN="YOGAVIBE":MAILTO:office@yogavibe.at
GEO:48.1945985;16.3504336
END:VEVENT
BEGIN:VEVENT
DTSTART;TZID=Europe/Vienna:20260117T093000
DTEND;TZID=Europe/Vienna:20260117T120000
DTSTAMP:20260422T141153
CREATED:20251210T103038Z
LAST-MODIFIED:20251210T103038Z
UID:10000560-1768642200-1768651200@www.femvents.at
SUMMARY:Mummy and Me
DESCRIPTION:Ein liebevoller Workshop für Mädchen von 7–12 Jahren und ihren Müttern\, großen Schwestern\, Tanten\, Lieblingsmenschen \nGemeinsam tauchen wir in die spannende Zeit des Wandels ein: Was passiert im Körper\, wenn wir erwachsen werden? Wie können wir verstehen\, was Hormone mit uns machen – und warum wir nicht „launisch“\, sondern zyklisch sind? Wie kann man sich auf die erste Periode vorbereiten?\nMit Wissen\, Herz und Humor stärken wir Körperbewusstsein\, Selbstwert und die Verbindung zwischen Mutter und Tochter. Wir sprechen über Menstruationsprodukte\, Körperwissen und Kommunikation – offen\, ehrlich und bestärkend. \nEin Kreis voller Vertrauen\, Leichtigkeit und Verbundenheit. \nAls Sexualpädagogin bringe ich meinen Methodenkoffer mit und freue mich auf einen schönen gemeinsamen Vormittag\, bei dem wir uns rund um die Themen Menstruation\, Zyklus und Körperveränderungen kümmern. Eine frühzeitige und kindgerechte Aufklärung ist mir wichtig um Mythen keinen Raum zu lassen und das Selbstbewusstsein der Kinder und Jugendlichen zu fördern. \nAnmeldung für den workshop bitte an Michelle.thaler@spektrum-liebe.at oder einfach eine Nachricht/Whatsapp an 0665 655 0 123 8 \nIch freue mich auf eine feine gemeinsame Zeit \nMichelle
URL:https://www.femvents.at/event/mummy-and-me/
LOCATION:Praxis-Raum\, Gaisbergstraße 11 a\, Salzburg\, Salzburg\, 5020\, Austria
CATEGORIES:Frauenkreis,Salzburg,Workshop
ATTACH;FMTTYPE=image/jpeg:https://www.femvents.at/wp-content/uploads/2025/12/IMG_2421-scaled.jpg
ORGANIZER;CN="Michelle Thaler - Spektrum Liebe":MAILTO:michelle.thaler@spektrum-liebe.at
GEO:47.8013327;13.0661382
X-APPLE-STRUCTURED-LOCATION;VALUE=URI;X-ADDRESS=Praxis-Raum Gaisbergstraße 11 a Salzburg Salzburg 5020 Austria;X-APPLE-RADIUS=500;X-TITLE=Gaisbergstraße 11 a:geo:13.0661382,47.8013327
END:VEVENT
BEGIN:VEVENT
DTSTART;TZID=Europe/Vienna:20260117T160000
DTEND;TZID=Europe/Vienna:20260117T190000
DTSTAMP:20260422T141153
CREATED:20251125T055549Z
LAST-MODIFIED:20251125T114938Z
UID:10000534-1768665600-1768676400@www.femvents.at
SUMMARY:Schreibwerkstatt - „Schreiben\, um zu fühlen – ein poetischer Safe Space“
DESCRIPTION:Dieser Workshop ist ein Raum für Menschen\, die schreiben wollen – nicht perfekt\, nicht nach Regeln\, nicht „richtig“.Sondern ehrlich. Sichtbar. Echt. \nHier darfst du Worte finden\, die vielleicht schon lange in dir liegen.Wir schreiben\, um zu sortieren.Um zu heilen.Um all das auszudrücken\, wofür im Alltag oft kein Platz ist. \nIn einem geschützten Kreis („Safe Space“) tauchen wir gemeinsam in kleine Schreibübungen\, poetische Impulse und freie Texte ein.Du kannst Texte mitbringen\, vorlesen oder einfach nur mitschreiben – alles darf\, nichts muss.Alles bleibt in unserem Circle. \nDieser Workshop ist für alle\, die Poesie lieben\, Tiefe suchen oder einfach wieder Zugang zu ihrer kreativen Stimme finden möchten.Für Menschen\, die fühlen\, wahrnehmen und erschaffen wollen – ohne Druck\, ohne Perfektion. \nEs gibt kein Richtig oder Falsch.Nur Worte\, die auftauchen. Und Raum\, in dem sie wirken dürfen. \nEine Einladung\, zu schreiben\, zu atmen\, zu spüren –und vielleicht ein Stück mehr bei dir selbst anzukommen. \nHallo ihr Lieben\, ich bin Jasmin.Ich schreibe seit vielen Jahren\, mal für mich\, mal für andere\, und liebe es\, Gedanken\, Gefühle und Geschichten in Worte zu fassen. Nach meiner Schauspielausbildung habe ich mich entschieden\, mein Schreiben nach außen zu bringen – in Workshops\, Poetry Slams und für Songtexte.In meinem Workshop geht es um Kreativität\, Tiefe und Ehrlichkeit: Wir schreiben\, teilen\, lernen voneinander und schaffen einen sicheren Raum\, in dem jede Stimme zählt. Ich freue mich darauf\, gemeinsam mit euch zu schreiben\, Impulse zu geben und neue Wege zu entdecken. \nIch freue mich auf dich!
URL:https://www.femvents.at/event/schreibwerkstatt-schreiben-um-zu-fuehlen-ein-poetischer-safe-space/
LOCATION:La Vie Coworking\, Wolf-Dietrich-Straße 9\, Salzburg\, Salzburg\, 5020\, Austria
CATEGORIES:Salzburg,Workshop
ATTACH;FMTTYPE=image/png:https://www.femvents.at/wp-content/uploads/2025/11/Schreiben-um-zu-fuehlen-–-eine-poetische-Schreibwerkstatt-1.png
ORGANIZER;CN="Jasmin Lerch":MAILTO:jasmin.lerch@hotmail.com
GEO:47.8048508;13.047892
X-APPLE-STRUCTURED-LOCATION;VALUE=URI;X-ADDRESS=La Vie Coworking Wolf-Dietrich-Straße 9 Salzburg Salzburg 5020 Austria;X-APPLE-RADIUS=500;X-TITLE=Wolf-Dietrich-Straße 9:geo:13.047892,47.8048508
END:VEVENT
END:VCALENDAR