BEGIN:VCALENDAR
VERSION:2.0
PRODID:-//femvents.at - ECPv6.15.18//NONSGML v1.0//EN
CALSCALE:GREGORIAN
METHOD:PUBLISH
X-ORIGINAL-URL:https://www.femvents.at
X-WR-CALDESC:Veranstaltungen für femvents.at
REFRESH-INTERVAL;VALUE=DURATION:PT1H
X-Robots-Tag:noindex
X-PUBLISHED-TTL:PT1H
BEGIN:VTIMEZONE
TZID:Europe/Vienna
BEGIN:DAYLIGHT
TZOFFSETFROM:+0100
TZOFFSETTO:+0200
TZNAME:CEST
DTSTART:20250330T010000
END:DAYLIGHT
BEGIN:STANDARD
TZOFFSETFROM:+0200
TZOFFSETTO:+0100
TZNAME:CET
DTSTART:20251026T010000
END:STANDARD
BEGIN:DAYLIGHT
TZOFFSETFROM:+0100
TZOFFSETTO:+0200
TZNAME:CEST
DTSTART:20260329T010000
END:DAYLIGHT
BEGIN:STANDARD
TZOFFSETFROM:+0200
TZOFFSETTO:+0100
TZNAME:CET
DTSTART:20261025T010000
END:STANDARD
BEGIN:DAYLIGHT
TZOFFSETFROM:+0100
TZOFFSETTO:+0200
TZNAME:CEST
DTSTART:20270328T010000
END:DAYLIGHT
BEGIN:STANDARD
TZOFFSETFROM:+0200
TZOFFSETTO:+0100
TZNAME:CET
DTSTART:20271031T010000
END:STANDARD
END:VTIMEZONE
BEGIN:VEVENT
DTSTART;TZID=Europe/Vienna:20260119T090000
DTEND;TZID=Europe/Vienna:20260119T120000
DTSTAMP:20260422T122442
CREATED:20251216T104002Z
LAST-MODIFIED:20251216T104002Z
UID:10000580-1768813200-1768824000@www.femvents.at
SUMMARY:Digifit - Zoomen wie ein Profi: Online Workshops hosten
DESCRIPTION:Das Angebot richtet sich an Frauen\, die Zoom bereits verwenden und selbst Online-Meetings hosten möchten. \nLernen Sie die Funktionen kennen\, gestalten und hosten Sie Online-Meetings. Die Basis-Funktionen und Grundeinstellungen\, wie Meetings planen\, Teilnehmerinnen einladen\, Warteraum einrichten sind ebenso Thema wie die erweiterten Tools. Der Workshop bietet die Möglichkeit\, vorhandene Kenntnisse zu vertiefen und die umfangreichen Möglichkeiten von Zoom kennenzulernen. Gemeinsam sehen wir uns an\, wie Breakout-Rooms\, Umfragen und Whiteboards verwendet werden. Darüber hinaus sind Sicherheit und Rechtevergabe wichtige Themen. Erweitern Sie Ihre Fähigkeiten und gestalten Sie Ihre nächsten Meetings mit mehr Sicherheit. \nBitte bringen Sie Ihr eigenes Gerät mit (Laptop oder Tablet). Damit Sie später mit der Nutzung vertraut sind. Wenn Sie kein eigenes Gerät haben\, geben Sie das bitte im Anmeldeformular bekannt. Wir stellen Ihnen dann ein Arbeitsgerät zur Verfügung.
URL:https://www.femvents.at/event/digifit-zoomen-wie-ein-profi-online-workshops-hosten-2/
LOCATION:Soziales Netzwerk Oberndorf\, Salzburgerstraße 73/1\, 5110 Oberndorf
CATEGORIES:Salzburg,Workshop
ATTACH;FMTTYPE=image/jpeg:https://www.femvents.at/wp-content/uploads/2025/12/iStock-1290123067.jpg
ORGANIZER;CN="Frau &amp%3B Arbeit":MAILTO:b.karl@frau-und-arbeit.at
GEO:47.9437639;12.9417876
X-APPLE-STRUCTURED-LOCATION;VALUE=URI;X-ADDRESS=Soziales Netzwerk Oberndorf Salzburgerstraße 73/1 5110 Oberndorf;X-APPLE-RADIUS=500;X-TITLE=Salzburgerstraße 73/1:geo:12.9417876,47.9437639
END:VEVENT
BEGIN:VEVENT
DTSTART;TZID=Europe/Vienna:20260119T170000
DTEND;TZID=Europe/Vienna:20260119T180000
DTSTAMP:20260422T122442
CREATED:20260112T093634Z
LAST-MODIFIED:20260112T093634Z
UID:10000672-1768842000-1768845600@www.femvents.at
SUMMARY:„On the Plate. Off the Plate. Wie das\, was uns nährt\, mentale Stärke und Performance prägt“
DESCRIPTION:Career Session mit Katrin Schwarzl: „On the Plate. Off the Plate. Wie das\, was uns nährt\, mentale Stärke und Performance prägt“ \nSeid dabei bei der Webinar-Serie Career Sessions. Inhaltlich gehen wir auf wichtige Themen für die Karriere von Frauen ein. Die Career Session am Montag\, 19. Jänner um 17:00 findet mit Katrin Schwarzl\, Integrative Health Coach und K.health-Gründerin\, zum Thema „On the Plate. Off the Plate. Wie das\, was uns nährt\, mentale Stärke und Performance prägt“ statt. \nGesundheit ist kein Nice-to-have\, sondern die Grundlage für nachhaltigen Erfolg. In dieser Career Session erklärt Health Coach Katrin Schwarzl\, wie ganzheitliches Wohlbefinden eure Energie\, Klarheit und Leistungsfähigkeit im Berufsalltag stärkt – von Ernährung über Bewegung bis Regeneration. Im Fokus stehen mentale Stärke\, innere Balance und alltagstaugliche Routinen\, die sich auch mit vollen Terminkalendern und Führungsverantwortung vereinbaren lassen. Ziel ist kein perfekter Lifestyle\, sondern ein tragfähiges Fundament\, auf dem ihr langfristig wirksam und gesund bleiben könnt. \nDatum: 19. Januar\nUhrzeit: 17:00 – 18:00\nOrt: Online\, Zoom\nZum Inhalt:\nIn diesem Webinar lernt ihr das Konzept „On the Plate / Off the Plate“ kennen und erfahrt\, was euch über die Ernährung hinaus im Alltag nährt – und was Energie entzieht. Ihr bekommt einen Einblick\, wie Wohlbefinden\, mentale Gesundheit und Energie aufeinander aufbauen und wie die K.health Method Ernährung\, mentale Klarheit und stabile Routinen für nachhaltige mentale Gesundheit verbindet – auch im Arbeitskontext und auf Reisen. \nDas erwartet euch:\n\nEinführung in Primary & Secondary Food und das On-/Off-the-Plate-Modell\nVerstehen\, wie Ernährung\, Energie\, Fokus und Stressregulation zusammenhängen\nPraktische\, alltagstaugliche Gewohnheiten für mehr Energie und mentale Klarheit\nÜberblick über die „K.health Methode“ als integrativen Ansatz\n\nAnmeldung:\nDie Teilnahme ist kostenlos. Hier könnt ihr euch anmelden: Anmeldeformular \nAufgepasst: Ende Jänner launchen wir unseren neuen Career Campus. Ab dem Launch kostet die Teilnahme 29 € pro Career Session. \nTipp: Mit dem sheconomy Community Abo um nur 99 € pro Jahr ist eure Teilnahme bei allen Career Sessions inkludiert – plus 4 x Printmagazin & E-Paper und she Event Fixplatz in AT oder DE. Jetzt Mitglied in der sheconomy Community werden.  \nZur Referentin:\nKatrin Schwarzl ist Gründerin von K.health – einem integrativen Health-Coaching-Business für Frauen in Führungsrollen. Nach über zwölf Jahren in internationalen Unternehmen und vielen Jahren im Ausland verbindet sie fundiertes Wissen in Ernährung\, Energie und mentaler Gesundheit zu einem ganzheitlichen Ansatz für nachhaltige Stärke.
URL:https://www.femvents.at/event/on-the-plate-off-the-plate-wie-das-was-uns-naehrt-mentale-staerke-und-performance-praegt/
LOCATION:Online-Event\, Austria
CATEGORIES:Online-Event
ATTACH;FMTTYPE=image/png:https://www.femvents.at/wp-content/uploads/2026/01/Career-Session-mit-Katrin-Schwarzl.png
GEO:47.516231;14.550072
END:VEVENT
END:VCALENDAR