BEGIN:VCALENDAR
VERSION:2.0
PRODID:-//femvents.at - ECPv6.15.18//NONSGML v1.0//EN
CALSCALE:GREGORIAN
METHOD:PUBLISH
X-WR-CALNAME:femvents.at
X-ORIGINAL-URL:https://www.femvents.at
X-WR-CALDESC:Veranstaltungen für femvents.at
REFRESH-INTERVAL;VALUE=DURATION:PT1H
X-Robots-Tag:noindex
X-PUBLISHED-TTL:PT1H
BEGIN:VTIMEZONE
TZID:Europe/Vienna
BEGIN:DAYLIGHT
TZOFFSETFROM:+0100
TZOFFSETTO:+0200
TZNAME:CEST
DTSTART:20250330T010000
END:DAYLIGHT
BEGIN:STANDARD
TZOFFSETFROM:+0200
TZOFFSETTO:+0100
TZNAME:CET
DTSTART:20251026T010000
END:STANDARD
BEGIN:DAYLIGHT
TZOFFSETFROM:+0100
TZOFFSETTO:+0200
TZNAME:CEST
DTSTART:20260329T010000
END:DAYLIGHT
BEGIN:STANDARD
TZOFFSETFROM:+0200
TZOFFSETTO:+0100
TZNAME:CET
DTSTART:20261025T010000
END:STANDARD
BEGIN:DAYLIGHT
TZOFFSETFROM:+0100
TZOFFSETTO:+0200
TZNAME:CEST
DTSTART:20270328T010000
END:DAYLIGHT
BEGIN:STANDARD
TZOFFSETFROM:+0200
TZOFFSETTO:+0100
TZNAME:CET
DTSTART:20271031T010000
END:STANDARD
END:VTIMEZONE
BEGIN:VEVENT
DTSTART;TZID=Europe/Vienna:20260120T180000
DTEND;TZID=Europe/Vienna:20260120T200000
DTSTAMP:20260422T122146
CREATED:20260113T102750Z
LAST-MODIFIED:20260113T102750Z
UID:10000676-1768932000-1768939200@www.femvents.at
SUMMARY:Naturkosmetik Workshop
DESCRIPTION:Ein Abend in entspannter Atmosphäre. \nSei kreativ und kreiere mit uns deine Naturkosmetik mit hochwertigen ätherischen Ölen. \nDeine Naturkosmetik\, sowie die Rezepte kannst du selbstverständlich mit nach Hause nehmen. \nMaterialkosten: € 15\,00 \nAnmeldung per Email: \ninfo@tropfenweiseglueck.at oder \nÜber Instagram: @tropfenweiseglueck
URL:https://www.femvents.at/event/naturkosmetik-workshop/
LOCATION:Kufstein\, Kufstein\, Tirol\, Austria
CATEGORIES:Tirol,Workshop
ATTACH;FMTTYPE=image/png:https://www.femvents.at/wp-content/uploads/2026/01/Naturkosmetik-Workshop_20260112_200409_0000.png
GEO:47.58237;12.16275
END:VEVENT
BEGIN:VEVENT
DTSTART;TZID=Europe/Vienna:20260120T190000
DTEND;TZID=Europe/Vienna:20260120T213000
DTSTAMP:20260422T122146
CREATED:20260108T133615Z
LAST-MODIFIED:20260108T133615Z
UID:10000647-1768935600-1768944600@www.femvents.at
SUMMARY:THE:Sisters Meet Up - Mehrgewichtigkeit\, Körper- und Vielfalt
DESCRIPTION:🎉Jedes Jahr aufs Neue sind wir umgeben von immer denselben Vorsätzen: „Dieses Mal wirklich abnehmen\, schlank und in shape kommen!“ \n🥊2026 hittet der Schlankheitskult dank #Skinnytok\, Abnehmsspritzen und co. noch mal anders. Die umfassende Konfrontation mit idealisierten\, oft bearbeiteten Körperbildern nimmt uns nicht nur die Vielfalt menschlicher Körperformen und Größen\, sondern befördert auch ein Klima der Intoleranz\, Ausgrenzung. Das macht uns nachweislich krank. \n💥Wir widmen uns im ersten Sisters Meet Up im neuen Jahr der Mehrgewichtigkeit und fragen\, wie betroffene Personen die Deutungshoheit über ihren Körper zurückgewinnen\, frei und selbstbestimmt leben können. 🔬Wie lässt sich den wachsenden Herausforderungen und hartnäckigen Vorurteilen begegnen? Wie helfen Erfahrungen dabei Strategien für mehr Empowerment zu entwickeln? \n👗Gemeinsam mit unseren Gästin und Plus-Size Expertin Bobby Herrmann-Thurner @bobby_curvect möchten wir diesen Fragen nachgehen und Impulse für mehr Akzeptanz\, Respekt und Gleichberechtigung geben. Sei dabei! \n🗣️Anschließend bleibt wie immer ausreichend Zeit zum Kennenlernen\, Ausrauschen und Netzwerken. \n📌 // Was? THE:Sisters Meet Up – Mehrgewichtigkeit\, Körper- und Vielfalt\n⏰// Wann? Di\, 20.1.2026\, um 19 Uhr\n📍// Wo? WUK\, Währinger Str. 59\, 1090 Wien \n👑// Mit? Bobby Herrnann-Thurner\n🐭// Wer? Für alle Frauen und als Frauen gelesene Personen \n✍🏻// Anmeldung ist nicht erforderlich. Schnapp dir deine Freund:innen und come as you are!
URL:https://www.femvents.at/event/thesisters-meet-up-mehrgewichtigkeit-koerper-und-vielfalt/
LOCATION:wuk\, Währinger Str. 59\, Wien\, Wien\, 1090\, Austria
CATEGORIES:After Work,Frauenkreis,Meetup,Netzwerk-Treffen,Wien
ATTACH;FMTTYPE=image/jpeg:https://www.femvents.at/wp-content/uploads/2026/01/Kopie-von-FB-Header-Event-34.jpg
ORGANIZER;CN="THE%3ASorority":MAILTO:events@sorority.at
GEO:48.2225707;16.3529887
X-APPLE-STRUCTURED-LOCATION;VALUE=URI;X-ADDRESS=wuk Währinger Str. 59 Wien Wien 1090 Austria;X-APPLE-RADIUS=500;X-TITLE=Währinger Str. 59:geo:16.3529887,48.2225707
END:VEVENT
END:VCALENDAR