BEGIN:VCALENDAR
VERSION:2.0
PRODID:-//femvents.at - ECPv6.15.18//NONSGML v1.0//EN
CALSCALE:GREGORIAN
METHOD:PUBLISH
X-WR-CALNAME:femvents.at
X-ORIGINAL-URL:https://www.femvents.at
X-WR-CALDESC:Veranstaltungen für femvents.at
REFRESH-INTERVAL;VALUE=DURATION:PT1H
X-Robots-Tag:noindex
X-PUBLISHED-TTL:PT1H
BEGIN:VTIMEZONE
TZID:Europe/Vienna
BEGIN:DAYLIGHT
TZOFFSETFROM:+0100
TZOFFSETTO:+0200
TZNAME:CEST
DTSTART:20250330T010000
END:DAYLIGHT
BEGIN:STANDARD
TZOFFSETFROM:+0200
TZOFFSETTO:+0100
TZNAME:CET
DTSTART:20251026T010000
END:STANDARD
BEGIN:DAYLIGHT
TZOFFSETFROM:+0100
TZOFFSETTO:+0200
TZNAME:CEST
DTSTART:20260329T010000
END:DAYLIGHT
BEGIN:STANDARD
TZOFFSETFROM:+0200
TZOFFSETTO:+0100
TZNAME:CET
DTSTART:20261025T010000
END:STANDARD
BEGIN:DAYLIGHT
TZOFFSETFROM:+0100
TZOFFSETTO:+0200
TZNAME:CEST
DTSTART:20270328T010000
END:DAYLIGHT
BEGIN:STANDARD
TZOFFSETFROM:+0200
TZOFFSETTO:+0100
TZNAME:CET
DTSTART:20271031T010000
END:STANDARD
END:VTIMEZONE
BEGIN:VEVENT
DTSTART;TZID=Europe/Vienna:20260121T153000
DTEND;TZID=Europe/Vienna:20260121T173000
DTSTAMP:20260422T122146
CREATED:20260107T145248Z
LAST-MODIFIED:20260107T145248Z
UID:10000628-1769009400-1769016600@www.femvents.at
SUMMARY:Workshopreihe für weibliches Empowerment
DESCRIPTION:Woher kommen meine Stärken? Meine Stärken und die Verbindung zu meinen Ressourcen finden und die eigene Identität und Einzigartigkeit mit dem Blick auf den Hintergrund des Familiensystems erkennen. \nEine kostenlose Workshopreihe für mehr Selbstbewusstsein und Klarheit in einer gemütlichen\, freudvollen Atmosphäre. \nFolgetermine: 03.02.\, 18.02. und 04.03.2026.
URL:https://www.femvents.at/event/workshopreihe-fuer-weibliches-empowerment/
LOCATION:Güssing\, Güssing\, 7540\, Austria
CATEGORIES:Burgenland,Workshop
ATTACH;FMTTYPE=image/gif:https://www.femvents.at/wp-content/uploads/2026/01/feminina.gif
GEO:47.05932;16.32449
END:VEVENT
BEGIN:VEVENT
DTSTART;TZID=Europe/Vienna:20260121T183000
DTEND;TZID=Europe/Vienna:20260121T200000
DTSTAMP:20260422T122146
CREATED:20260107T142042Z
LAST-MODIFIED:20260107T142125Z
UID:10000625-1769020200-1769025600@www.femvents.at
SUMMARY:Selbstvertrauen und Selbstwert
DESCRIPTION:Im aktuellen Seminarangebot dreht sich alles um die Themen Selbstbewusstsein und Selbstvertrauen. In diesem Workshop werden Strategien aufgezeigt\, um das Selbstwertgefühl zu stärken\, beispielsweise durch das Erkennen von Stärken\, das Überwinden negativer Denkmuster und das Erlernen von Techniken zur Bewältigung von Stress. Die Veranstaltung umfasst praktische Übungen zur Achtsamkeit\, Entspannung oder für das bewusste Verlassen der Komfortzone. Die Inhalte konzentrieren sich darauf\, eine positivere Einstellung zu sich selbst zu entwickeln und die Fähigkeit zu verbessern\, Herausforderungen selbstsicher zu meistern. \nSchließlich fördert ein starkes und verlässliches Selbstwertgefühl das Wohlbefinden\, die Beziehungen und natürlich auch die körperliche und mentale Gesundheit! \nVortragende: Mag. Ulrike Urtz\, \nKlinische und Gesundheitspsychologin\nWann: Mi\, 21.01.2026\nBeginn: 18:30 Uhr (NEU!)\nWo: im Veranstaltungsraum von FRAU iDA\nKosten: Pay as you wish*\nAnmeldung: www.frau-ida.at/frausein
URL:https://www.femvents.at/event/selbstvertrauen-und-selbstwert/
LOCATION:FRAU iDA\, Hauptplatz 16\, Zwettl\, Niederösterreich\, 3910\, Austria
CATEGORIES:Niederösterreich,Vortrag
ATTACH;FMTTYPE=image/jpeg:https://www.femvents.at/wp-content/uploads/2025/08/1.1_Logo_FRAUiDA.jpg
ORGANIZER;CN="FRAU iDA":MAILTO:office@frau-ida.at
GEO:48.6041614;15.167567
X-APPLE-STRUCTURED-LOCATION;VALUE=URI;X-ADDRESS=FRAU iDA Hauptplatz 16 Zwettl Niederösterreich 3910 Austria;X-APPLE-RADIUS=500;X-TITLE=Hauptplatz 16:geo:15.167567,48.6041614
END:VEVENT
END:VCALENDAR