BEGIN:VCALENDAR
VERSION:2.0
PRODID:-//femvents.at - ECPv6.15.18//NONSGML v1.0//EN
CALSCALE:GREGORIAN
METHOD:PUBLISH
X-ORIGINAL-URL:https://www.femvents.at
X-WR-CALDESC:Veranstaltungen für femvents.at
REFRESH-INTERVAL;VALUE=DURATION:PT1H
X-Robots-Tag:noindex
X-PUBLISHED-TTL:PT1H
BEGIN:VTIMEZONE
TZID:Europe/Vienna
BEGIN:DAYLIGHT
TZOFFSETFROM:+0100
TZOFFSETTO:+0200
TZNAME:CEST
DTSTART:20250330T010000
END:DAYLIGHT
BEGIN:STANDARD
TZOFFSETFROM:+0200
TZOFFSETTO:+0100
TZNAME:CET
DTSTART:20251026T010000
END:STANDARD
BEGIN:DAYLIGHT
TZOFFSETFROM:+0100
TZOFFSETTO:+0200
TZNAME:CEST
DTSTART:20260329T010000
END:DAYLIGHT
BEGIN:STANDARD
TZOFFSETFROM:+0200
TZOFFSETTO:+0100
TZNAME:CET
DTSTART:20261025T010000
END:STANDARD
BEGIN:DAYLIGHT
TZOFFSETFROM:+0100
TZOFFSETTO:+0200
TZNAME:CEST
DTSTART:20270328T010000
END:DAYLIGHT
BEGIN:STANDARD
TZOFFSETFROM:+0200
TZOFFSETTO:+0100
TZNAME:CET
DTSTART:20271031T010000
END:STANDARD
END:VTIMEZONE
BEGIN:VEVENT
DTSTART;TZID=Europe/Vienna:20260122T180000
DTEND;TZID=Europe/Vienna:20260122T200000
DTSTAMP:20260422T141147
CREATED:20251023T110335Z
LAST-MODIFIED:20260107T143354Z
UID:10000428-1769104800-1769112000@www.femvents.at
SUMMARY:Glow to Go – Naturkosmetik\, die wirkt
DESCRIPTION:Für alle\, die natürliche Pflege lieben – frisch\, fruchtig und voller Pflanzenpower. \nLerne\, wie du aus einfachen Zutaten aus Küche und Garten hochwertige Naturkosmetik herstellen kannst! In diesem Workshop zauberst du ein belebendes Kaffeepeeling\, ein fruchtig-frisches Waschgel und ein pflegendes Karottenöl – für eine rundum natürliche Beauty-Routine\, die deiner Haut gut tut.
URL:https://www.femvents.at/event/glow-to-go-naturkosmetik-die-wirkt/
LOCATION:VHS Deutsch Wagram\, Friedhofallee 7\, Deutsch Wagram\, Niederösterreich\, 2232\, Austria
CATEGORIES:Niederösterreich,Workshop
ATTACH;FMTTYPE=image/jpeg:https://www.femvents.at/wp-content/uploads/2025/10/pexels-alesiakozik-7797744-1-scaled.jpg
ORGANIZER;CN="Katharina Hansi":MAILTO:kathi@unmaskednature.com
GEO:48.2979103;16.5605938
X-APPLE-STRUCTURED-LOCATION;VALUE=URI;X-ADDRESS=VHS Deutsch Wagram Friedhofallee 7 Deutsch Wagram Niederösterreich 2232 Austria;X-APPLE-RADIUS=500;X-TITLE=Friedhofallee 7:geo:16.5605938,48.2979103
END:VEVENT
BEGIN:VEVENT
DTSTART;TZID=Europe/Vienna:20260122T180000
DTEND;TZID=Europe/Vienna:20260122T200000
DTSTAMP:20260422T141147
CREATED:20251216T100640Z
LAST-MODIFIED:20251216T100640Z
UID:10000579-1769104800-1769112000@www.femvents.at
SUMMARY:Business Workshop für Gründerinnen & Unternehmerinnen
DESCRIPTION:Own Your Business – Mit Strategie und Klarheit zu deinem Businessmodell \nDer Workshop eignet sich sowohl für Frauen in der Gründungsphase\, als auch für Unternehmerinnen\, die ihr Businesskonzept schärfen wollen. \nVortragende: Stefanie Eller – Unternehmensberaterin\, Systemische Coachin\, Juristin
URL:https://www.femvents.at/event/business-workshop-fuer-gruenderinnen-unternehmerinnen/
LOCATION:andys.cc – Büros & Coworking in Bad Ischl\, Bahnhofstrasse 8\, 4820 Bad Ischl\, Oberösterreich\, 4820\, Austria
CATEGORIES:Oberösterreich,Salzburg,Workshop
ATTACH;FMTTYPE=image/jpeg:https://www.femvents.at/wp-content/uploads/2025/12/Stefanie-Eller.jpg
GEO:47.7118874;13.6266076
X-APPLE-STRUCTURED-LOCATION;VALUE=URI;X-ADDRESS=andys.cc – Büros & Coworking in Bad Ischl Bahnhofstrasse 8 4820 Bad Ischl Oberösterreich 4820 Austria;X-APPLE-RADIUS=500;X-TITLE=Bahnhofstrasse 8:geo:13.6266076,47.7118874
END:VEVENT
BEGIN:VEVENT
DTSTART;TZID=Europe/Vienna:20260122T190000
DTEND;TZID=Europe/Vienna:20260122T200000
DTSTAMP:20260422T141147
CREATED:20260108T211424Z
LAST-MODIFIED:20260108T211424Z
UID:10000650-1769108400-1769112000@www.femvents.at
SUMMARY:Investieren lernen für Frauen
DESCRIPTION:Unsicher beim Thema Geldanlage?\nDann ist dieses Webinar genau für dich gemacht: Speziell für Frauen\, die ihr Geld nicht länger auf dem Sparbuch versauern lassen wollen. \nLerne in einfachen Schritten\, wie du sicher und ohne kompliziertes Fachchinesisch Vermögen aufbaust – ganz ohne Vorwissen. \nStarte jetzt deinen Weg zur finanziellen Unabhängigkeit – verständlich\, klar und auf Augenhöhe. \n\n\nICH ZEIGE DIR IM WEBINAR\, WIE DU…\n\n\n\n\n… dein Geld strategisch planst und dir Schritt für Schritt ein Vermögen aufbaust. \n\n\n\n\n… deine Ängste vor dem Investieren überwindest und endlich ins Handeln kommst. \n\n\n\n\n… verschiedene Anlagemöglichkeiten gezielt und langfristig für deinen Vermögensaufbau nutzt – ohne Finanzkauderwelsch. \n\n\n\n\n… echte finanzielle Sicherheit gewinnst – mit einem klaren Fahrplan statt 1000 Theorien. \n👉 Melde dich gleich für mein kostenfreies Webinar an!
URL:https://www.femvents.at/event/investieren-lernen-fuer-frauen/
LOCATION:Live-Online-Seminar
CATEGORIES:Online-Event
ATTACH;FMTTYPE=image/jpeg:https://www.femvents.at/wp-content/uploads/2026/01/Bye-bye-Sparbuch-Sujet-hochkant.jpg
END:VEVENT
BEGIN:VEVENT
DTSTART;TZID=Europe/Vienna:20260122T190000
DTEND;TZID=Europe/Vienna:20260122T210000
DTSTAMP:20260422T141147
CREATED:20251209T073257Z
LAST-MODIFIED:20251209T073257Z
UID:10000559-1769108400-1769115600@www.femvents.at
SUMMARY:Female Business Meetup Graz
DESCRIPTION:Übersicht\n\n\n\n\n\nLebst du oder kommst du aus Graz oder Umgebung\, bist selbständig und hast Lust mit coolen Frauen zu Netzwerken?\n\n\n\nSuchst du nach gleichgesinnten\, selbstständigen Frauen\, die dich inspirieren und unterstützen? \nDann bist du bei uns genau richtig! \nHier hast du die Möglichkeit\, dich mit spannenden Frauen\, Gründerinnen\, Freelancerinnen und selbständigen Ladys aus verschiedenen Branchen zu verbinden und dir ein starkes Netzwerk aufzubauen\, das zu deiner „Business Family“ wird. \nWarum Netzwerken? \nDurch den Austausch mit anderen Frauen kannst du: \n\nWissen erweitern: Hol dir Tipps\, Erfahrungen und frische Ideen für dein Business.\n\n\nKooperationen & Kontakte: Triff Frauen für spannende Kooperationen\, neue Kundinnen und wertvolle Geschäftsbeziehungen.\n\n\nStärke dein Selbstbewusstsein: Support und ehrliches Feedback geben dir Rückenwind. Durch ein starkes Umfeld\, wirst du dich in deiner Selbständigkeit nie wieder allein fühlen!\n\n\nWerde sichtbar mit deinem Business: Zeige dich und sprich über dein Business in einem geschützten Raum mit Frauen\, die dich verstehen und bestärken.\n\n\nFreundschaften: Du hast die Möglichkeiten echte Verbindungen fürs Leben zu knüpfen\, die deine Interessen teilen.\n\nDas erwartet dich: \nJeden Monat laden wir dich ein\, einen inspirierenden Abend mit selbstständigen Frauen\, Gründerinnen und Unternehmerinnen zu verbringen. \nNeben einer kleinen Vorstellungsrunde erwarten dich empowernde Gespräche mit Gleichgesinnten und jede Menge Spaß! \nSchließe dich einem Netzwerk von starken Frauen an\, die zusammen an ihrem Wachstum arbeiten\, ihre Träume verwirklichen und sich gegenseitig unterstützen. Spricht dich das an? \nDann sei dabei und sichere dir schnell deinen Platz! \nFacts: \n\nDas Ticket kostet 15 Euro.\n\n\nNach einer kleinen Vorstellungsrunde kannst du dich mit anderen gleichgesinnten Frauen austauschen und netzwerken.\n\n\nWir haben einen Tisch auf den Namen „Golden Females“ im Restaurant reserviert. Dort kannst du leckere Speisen und Drinks genießen. Diese sind auf Selbstzahlerbasis.\n\n\nDas Treffen findet monatlich und immer in wechselnder Location statt. Dieses Mal sind wir im San Pietro & San Bar\, St. Peter Hauptstraße 141\, 8042 Graz.\n\n\nWir freuen uns wenn du pünktlich um 19.00 Uhr erscheinst.\n\nFolge uns auf Eventbrite und auf Instagram unter https://www.instagram.com/golden_females und verpasse kein Event! \nTrage dich auch gern in den Newsletter ein\, um keine unserer Events zu verpassen: \nFemale Business Newsletter \n \nWir freuen uns riesig darauf\, dich kennenzulernen! \n🤍 \nGOLDEN FEMALES
URL:https://www.femvents.at/event/female-business-meetup-graz-2/
LOCATION:San Pietro & San Bar\, St. Peter Hauptstraße 141\, Graz\, Steiermark\, 8042\, Austria
CATEGORIES:Netzwerk-Treffen,Steiermark
ATTACH;FMTTYPE=image/png:https://www.femvents.at/wp-content/uploads/2025/12/Graz-Hintergrund.png
GEO:47.0504343;15.4802392
X-APPLE-STRUCTURED-LOCATION;VALUE=URI;X-ADDRESS=San Pietro & San Bar St. Peter Hauptstraße 141 Graz Steiermark 8042 Austria;X-APPLE-RADIUS=500;X-TITLE=St. Peter Hauptstraße 141:geo:15.4802392,47.0504343
END:VEVENT
END:VCALENDAR