BEGIN:VCALENDAR
VERSION:2.0
PRODID:-//femvents.at - ECPv6.15.18//NONSGML v1.0//EN
CALSCALE:GREGORIAN
METHOD:PUBLISH
X-ORIGINAL-URL:https://www.femvents.at
X-WR-CALDESC:Veranstaltungen für femvents.at
REFRESH-INTERVAL;VALUE=DURATION:PT1H
X-Robots-Tag:noindex
X-PUBLISHED-TTL:PT1H
BEGIN:VTIMEZONE
TZID:Europe/Vienna
BEGIN:DAYLIGHT
TZOFFSETFROM:+0100
TZOFFSETTO:+0200
TZNAME:CEST
DTSTART:20250330T010000
END:DAYLIGHT
BEGIN:STANDARD
TZOFFSETFROM:+0200
TZOFFSETTO:+0100
TZNAME:CET
DTSTART:20251026T010000
END:STANDARD
BEGIN:DAYLIGHT
TZOFFSETFROM:+0100
TZOFFSETTO:+0200
TZNAME:CEST
DTSTART:20260329T010000
END:DAYLIGHT
BEGIN:STANDARD
TZOFFSETFROM:+0200
TZOFFSETTO:+0100
TZNAME:CET
DTSTART:20261025T010000
END:STANDARD
BEGIN:DAYLIGHT
TZOFFSETFROM:+0100
TZOFFSETTO:+0200
TZNAME:CEST
DTSTART:20270328T010000
END:DAYLIGHT
BEGIN:STANDARD
TZOFFSETFROM:+0200
TZOFFSETTO:+0100
TZNAME:CET
DTSTART:20271031T010000
END:STANDARD
END:VTIMEZONE
BEGIN:VEVENT
DTSTART;TZID=Europe/Vienna:20260124T090000
DTEND;TZID=Europe/Vienna:20260124T170000
DTSTAMP:20260422T141149
CREATED:20251128T065518Z
LAST-MODIFIED:20251128T065518Z
UID:10000546-1769245200-1769274000@www.femvents.at
SUMMARY:SHE LEADS - Der Lebe.Stark Leadership Day
DESCRIPTION:Ein ganzer Tag nur für dich und deine innere Führung. \nRaus aus dem Funktionsmodus\, rein in die natürliche Kraft\, Klarheit und Selbstbestimmung. \nDer Lebe.Stark Leadership-Day ist für Frauen in Führungspositionen\, die spüren\, dass sie mehr sind\, als nur eine Rolle und bereit sind\, sich selbst wieder an erste Stelle zu setzen.
URL:https://www.femvents.at/event/she-leads-der-lebe-stark-leadership-day/
LOCATION:cosima community\, Neubaugasse 79/8\, Wien\, 1070\, Austria
CATEGORIES:Coaching,Wien,Workshop
ATTACH;FMTTYPE=image/jpeg:https://www.femvents.at/wp-content/uploads/2025/11/SHE-LEADS_20251127_220818_0000-scaled.jpg
ORGANIZER;CN="Ulrike Baumgartner | Sabine Linhart":MAILTO:Office@lebestark.at
GEO:48.2058461;16.3490678
X-APPLE-STRUCTURED-LOCATION;VALUE=URI;X-ADDRESS=cosima community Neubaugasse 79/8 Wien 1070 Austria;X-APPLE-RADIUS=500;X-TITLE=Neubaugasse 79/8:geo:16.3490678,48.2058461
END:VEVENT
BEGIN:VEVENT
DTSTART;TZID=Europe/Vienna:20260124T100000
DTEND;TZID=Europe/Vienna:20260124T123000
DTSTAMP:20260422T141149
CREATED:20251002T181237Z
LAST-MODIFIED:20260107T143421Z
UID:10000347-1769248800-1769257800@www.femvents.at
SUMMARY:WORKSHOP: FACE & YIN YOGA.
DESCRIPTION:Schenke dir einmal im Monat einen Moment voller Achtsamkeit\, Schönheit und Selbstliebe – jedes Mal mit einem neuen Thema & Inhalt. \nWorkshop Ablauf:\nLeitmotiv im Januar: Loslassen & Selbstvertrauen \n\n1\,5 Stunden Face Yoga (du bekommst ein Handout)\n1 Stunde Yin Yoga\nim Anschluss: gemeinsamer Lunch (optional)\n\nWann: 24.01. von 10:00 – 12:30 Uhr\nWo: Inama Institut I Seeham\nInvestition in dich: € 89\nTermine:  24.01.  \n** sehr kleine Gruppengröße (exklusiv) \nDu lernst wie du mit Face Yoga deine Gesichtsmuskulatur sanft aktivierst\, Verspannungen löst und deinen natürlichen Glow weckst. \nVORTEILE:\n\n\n\n\nnatürliches Lifting: strafft die Muskulatur\nlösen von Spannungen: wirkt stresslösend (Kiefer\, Nacken\, Stirn)\nFalten sanft glätten:  unterstützt die Hautelastizität\nSchwellungen reduzieren: aktiviert den Lymphfluss hilft bei Tränensäcken / Wassereinlagerungen\nGesichtszüge definieren: kräftigt Kiefer\, Wangen & Hals\n\n\n\n\nDanach tauchen wir in die wohltuende Ruhe des Yin Yoga ein – mit achtsamen Dehnungen\, bewusstem Atmen und Ankommen bei dir selbst. \nVORTEILE YIN YOGA:\n\nöffnet tief liegende Faszien & dehnt sanft den Körper\nfördert tiefe Entspannung & innere Ruhe\nunterstützt emotionales Loslassen und Regeneration\n\nFreue mich auf Dich! \nAlice Fabiola \nMAIL: hello@alicefabiola.com\nMOBIL: +43 660 2271645
URL:https://www.femvents.at/event/workshop-face-yin-yoga-5/
LOCATION:inama Institut\, BioArt Campus\, Biodorf-Weg 4\, Seeham\, Salzburg\, 5164\, Austria
CATEGORIES:Frauenkreis,Kurs,Retreat,Salzburg,Workshop
ATTACH;FMTTYPE=image/jpeg:https://www.femvents.at/wp-content/uploads/2025/10/FACE-YOGA-NOVEMBER-Kopie-2.jpg
GEO:47.9710151;13.076887
X-APPLE-STRUCTURED-LOCATION;VALUE=URI;X-ADDRESS=inama Institut BioArt Campus Biodorf-Weg 4 Seeham Salzburg 5164 Austria;X-APPLE-RADIUS=500;X-TITLE=Biodorf-Weg 4:geo:13.076887,47.9710151
END:VEVENT
BEGIN:VEVENT
DTSTART;TZID=Europe/Vienna:20260124T153000
DTEND;TZID=Europe/Vienna:20260124T173000
DTSTAMP:20260422T141149
CREATED:20260109T133114Z
LAST-MODIFIED:20260112T100755Z
UID:10000668-1769268600-1769275800@www.femvents.at
SUMMARY:Face Yoga Workshop mit Barbara
DESCRIPTION:Face Yoga Workshop mit Barbara \nIN DIESEM WORKSHOP LERNST DU\n\ndie natürliche Methode des Face Yoga kennen\, mit der du die Muskeln in deinem Gesicht wie in deinem Körper trainieren kannst\, sodass du automatisch dein Gesicht straffst und verjüngst.\nwie du in nur 5 Minuten täglich schon nach kurzer Zeit positive Veränderungen bemerkst\, sodass selbst dein Umfeld wahrnimmt\, dass du jünger wirkst.\nwie du durch die Übungen dein Hautbild verbessern kannst\, sodass du weniger Make Up brauchst um toll auszusehen.\nwie andere Menschen deine positive Veränderung bemerken und du mehr Komplimente bekommst.\nwie toll dein Tag beginnt\, wenn du morgens mit ein paar Minuten Face Yoga startest
URL:https://www.femvents.at/event/face-yoga-workshop-mit-barbara-2/
LOCATION:1180\, Gersthoferstrasse 109\, Gersthoferstrasse 109\, Wien\, Wien\, 1180\, Austria
CATEGORIES:Wien,Workshop
ATTACH;FMTTYPE=image/jpeg:https://www.femvents.at/wp-content/uploads/2026/01/13-DSC04380-scaled.jpg
ORGANIZER;CN="Mag.Barbara Vogler-Hemzal":MAILTO:bv@barbarafaceyoga.com
GEO:48.2369512;16.3231968
X-APPLE-STRUCTURED-LOCATION;VALUE=URI;X-ADDRESS=1180 Gersthoferstrasse 109 Gersthoferstrasse 109 Wien Wien 1180 Austria;X-APPLE-RADIUS=500;X-TITLE=Gersthoferstrasse 109:geo:16.3231968,48.2369512
END:VEVENT
BEGIN:VEVENT
DTSTART;TZID=Europe/Vienna:20260124T180000
DTEND;TZID=Europe/Vienna:20260124T190000
DTSTAMP:20260422T141149
CREATED:20260107T105238Z
LAST-MODIFIED:20260107T105238Z
UID:10000616-1769277600-1769281200@www.femvents.at
SUMMARY:Faszien\, die Speicher der Emotionen
DESCRIPTION:Ich freue mich sehr darauf\, einen Vortrag über Faszien und somit auch über die Methode Holistic Fascial Bodywork zu halten. \nErfahre\, wie Faszien unseren ganzen Körper und unsere Gefühlswelt beeinflussen und wie unsere Vergangenheit unseren Körper formt. Anschließend gehen wir noch in die Selbsterfahrung. \nDas Event ist kostenfrei. \nAnmeldung an sophia.lachmund@gmx.at oder bei Instagram @sophia_lachmund
URL:https://www.femvents.at/event/faszien-die-speicher-der-emotionen/
LOCATION:Dorfsalon\, Johann-Böhm-Straße 17\, Lenzing\, Oberösterreich\, 4860\, Austria
CATEGORIES:Oberösterreich,Vortrag
ATTACH;FMTTYPE=image/png:https://www.femvents.at/wp-content/uploads/2026/01/Faszien-die-Speicher-deiner-Emotionen2.png
ORGANIZER;CN="Sophia Lachmund":MAILTO:sophia.lachmund@gmx.at
GEO:47.9754382;13.607567
X-APPLE-STRUCTURED-LOCATION;VALUE=URI;X-ADDRESS=Dorfsalon Johann-Böhm-Straße 17 Lenzing Oberösterreich 4860 Austria;X-APPLE-RADIUS=500;X-TITLE=Johann-Böhm-Straße 17:geo:13.607567,47.9754382
END:VEVENT
END:VCALENDAR