BEGIN:VCALENDAR
VERSION:2.0
PRODID:-//femvents.at - ECPv6.15.18//NONSGML v1.0//EN
CALSCALE:GREGORIAN
METHOD:PUBLISH
X-ORIGINAL-URL:https://www.femvents.at
X-WR-CALDESC:Veranstaltungen für femvents.at
REFRESH-INTERVAL;VALUE=DURATION:PT1H
X-Robots-Tag:noindex
X-PUBLISHED-TTL:PT1H
BEGIN:VTIMEZONE
TZID:Europe/Vienna
BEGIN:DAYLIGHT
TZOFFSETFROM:+0100
TZOFFSETTO:+0200
TZNAME:CEST
DTSTART:20250330T010000
END:DAYLIGHT
BEGIN:STANDARD
TZOFFSETFROM:+0200
TZOFFSETTO:+0100
TZNAME:CET
DTSTART:20251026T010000
END:STANDARD
BEGIN:DAYLIGHT
TZOFFSETFROM:+0100
TZOFFSETTO:+0200
TZNAME:CEST
DTSTART:20260329T010000
END:DAYLIGHT
BEGIN:STANDARD
TZOFFSETFROM:+0200
TZOFFSETTO:+0100
TZNAME:CET
DTSTART:20261025T010000
END:STANDARD
BEGIN:DAYLIGHT
TZOFFSETFROM:+0100
TZOFFSETTO:+0200
TZNAME:CEST
DTSTART:20270328T010000
END:DAYLIGHT
BEGIN:STANDARD
TZOFFSETFROM:+0200
TZOFFSETTO:+0100
TZNAME:CET
DTSTART:20271031T010000
END:STANDARD
END:VTIMEZONE
BEGIN:VEVENT
DTSTART;VALUE=DATE:20260129
DTEND;VALUE=DATE:20260202
DTSTAMP:20260422T141151
CREATED:20251026T132530Z
LAST-MODIFIED:20251026T132530Z
UID:10000439-1769644800-1769990399@www.femvents.at
SUMMARY:Freeride Ski Camp für Frauen in Gastein
DESCRIPTION:#shadesofwinter Signature Freeride Camp in Gastein by Sandra Lahnsteiner-Wagner\nFür alle\, die beim Freeriden schon zuhause sind – und noch mehr rausholen wollen. \nPowder\, Lines\, kleine Drops\, neue Herausforderungen und richtig viel Spaß im Gelände: Wir feilen an Technik\, Timing und Mindset – in einem sicheren Rahmen\, in dem Vertrauen und Teamgeist zählen. Lawinensicherheit gehört selbstverständlich dazu – genauso wie das gute Gefühl\, die eigene Spur zu ziehen. \nUnter der Leitung von Sandra Lahnsteiner-Wagner – professionelle Freeriderin\, Filmemacherin und staatlich geprüfte Skiführerin – begleiten dich zwei weitere erfahrene weibliche Guides durch drei intensive Tage in den Skigebieten von Gastein. \nBasecamp ist das Hotel Miramonte in Bad Gastein – der perfekte Ort\, um nach einem Tag im Schnee zu entspannen\, sich auszutauschen und gemeinsam auf die nächsten Lines anzustoßen.
URL:https://www.femvents.at/event/freeride-ski-camp-fuer-frauen-in-gastein/
LOCATION:Gastein
CATEGORIES:Salzburg,Sport
ATTACH;FMTTYPE=image/jpeg:https://www.femvents.at/wp-content/uploads/2025/10/Signature-Freeride-26_kl.jpg
GEO:47.516231;14.550072
END:VEVENT
BEGIN:VEVENT
DTSTART;TZID=Europe/Vienna:20260129T180000
DTEND;TZID=Europe/Vienna:20260129T200000
DTSTAMP:20260422T141152
CREATED:20260127T123930Z
LAST-MODIFIED:20260127T130254Z
UID:10000712-1769709600-1769716800@www.femvents.at
SUMMARY:Female Afterwork – Das beste Networking Event für Frauen in Salzburg
DESCRIPTION:Ein kuratiertes Afterwork-Networking für Frauen aus Wirtschaft\, Unternehmertum und Führung. \n\n\n\n\nHerzlich Willkommen! \nWerde Teil dieses wertvollen Abends für Geschäftsfrauen. \nDas Leaders in Heels Afterwork bringt Frauen aus Wirtschaft\, Unternehmertum und Führung in entspannter Afterwork-Atmosphäre zusammen. Ziel des Abends ist der Austausch unter Gleichgesinnten\, neue Impulse aus der Praxis und das Knüpfen nachhaltiger Kontakte über Branchen hinweg. \nImpulsgeberin des Abends: Gerti Gruber\, MBA\nZu Gast ist Gerti Gruber\, MBA\, Salzburger Unternehmerin und Vorstandsmitglied von Frau in der Wirtschaft Salzburg. \nIn einem kurzen Impuls spricht sie über ihre Erfahrungen als Unternehmerin\, über Leadership im unternehmerischen Alltag sowie über Sichtbarkeit und Verantwortung in wirtschaftlichen Netzwerken. Im Anschluss gibt es Raum für Fragen und persönlichen Austausch. \nAblauf\n\nAnkommen & Afterwork-Getränk\nImpuls & Gespräch\nOffenes Networking\n\nZielgruppe\nDas Event richtet sich an Frauen\, die: \n\nunternehmerisch tätig sind oder Führungsverantwortung tragen\nsich fachlich und persönlich weiterentwickeln möchten\nWert auf Austausch in einem professionellen\, offenen Rahmen legen
URL:https://www.femvents.at/event/female-afterwork-das-beste-networking-event-fuer-frauen-in-salzburg/
LOCATION:Brunos Salzburg\, Untersbergstraße 14\, Salzburg\, 5020
CATEGORIES:Netzwerk-Treffen,Salzburg
ATTACH;FMTTYPE=image/png:https://www.femvents.at/wp-content/uploads/2026/01/afterworkSalzburg.png
GEO:47.7965141;13.0350498
X-APPLE-STRUCTURED-LOCATION;VALUE=URI;X-ADDRESS=Brunos Salzburg Untersbergstraße 14 Salzburg 5020;X-APPLE-RADIUS=500;X-TITLE=Untersbergstraße 14:geo:13.0350498,47.7965141
END:VEVENT
BEGIN:VEVENT
DTSTART;TZID=Europe/Vienna:20260129T181500
DTEND;TZID=Europe/Vienna:20260129T210000
DTSTAMP:20260422T141152
CREATED:20251217T155006Z
LAST-MODIFIED:20251217T155006Z
UID:10000570-1769710500-1769720400@www.femvents.at
SUMMARY:Money Matters – Finanzplanung für Unternehmerinnen
DESCRIPTION:Herzliche Einladung zum sechsten „Females Fit for Finance“-Meetup! \nThema: Baue dein Unternehmen auf einem soliden Finanzplan auf mit Anna Rennhofer \n💬 Über das Event \nGute Ideen brauchen gute Zahlen!\nViele Frauen starten mit Leidenschaft in die Selbständigkeit – doch sobald es um Finanzen geht\, wird es oft unübersichtlich. Wie plane ich Einnahmen\, Ausgaben\, Gewinn und Steuern realistisch? Was kann ich mir auszahlen? Und wie bleibe ich liquide\, auch wenn mal Flaute herrscht? \nIn diesem praxisnahen Vortrag zeigt Anna Rennhofer\, wie du dein Unternehmen auf einem soliden Finanzplan aufbaust – Schritt für Schritt und ohne Fachchinesisch. Ziel ist es\, finanzielle Klarheit zu schaffen und dich zu befähigen\, dein Business selbstbewusst und strukturiert zu führen. \n🧭 Inhalt des Impuls-Vortrags \nAnna führt dich durch die wichtigsten Schritte einer soliden Finanzplanung: \n✅ Einnahmen und Ausgaben realistisch einschätzen\n✅ Gewinne planen und Rücklagen clever bilden\n✅ Steuern und Abgaben rechtzeitig berücksichtigen\n✅ Mit Struktur und Überblick dein Business steuern \nDer Vortrag richtet sich an Frauen\, die selbständig sind oder es werden möchten – und endlich Zahlenverständnis\, Sicherheit und Struktur in ihre Finanzen bringen wollen. \n👩‍💼 Über Anna Rennhofer \nAnna Rennhofer ist Finanzmentorin und Unternehmensberaterin aus Wien. Sie begleitet Selbständige und Gründer:innen dabei\, ihre Finanzen zu verstehen\, zu planen und bewusst zu steuern. Ihr Ziel: mehr Klarheit\, Struktur und Sicherheit im Business – damit du gute Entscheidungen auf Basis guter Zahlen treffen kannst.\nMehr über sie: www.anna-rennhofer.at \n🕕 Ablauf des Abends \n🕕 18:15 Uhr – Ankommen & Netzwerken: bitte kommt rechtzeitig vor Beginn des Vortrages\, damit das Ephata-Team genügend Zeit hat\, euch kulinarisch zu versorgen. 🥪\n🎤 ~ 19:00 Uhr – Impulsvortrag von Anna Rennhofer\n💬 Interaktive Q&A-Session\n🤝 Austausch und Diskussion unter den Teilnehmerinnen \n🗓️ Anmeldung \nDie Veranstaltung ist kostenlos\, wir freuen uns über eine freiwillige Kulturspende vor Ort.\nBitte meldet euch über Meetup an – sollte das nicht funktionieren\, gerne per E-Mail an femalesfinance@gmx.net. \nWir freuen uns auf einen inspirierenden Abend voller Klarheit\, Zahlen und Selbstvertrauen! 💪 \nWir freuen uns auf euer Kommen!\nMarika & Sara von Females Fit for Finance \n📸 Hinweis zu Fotos und Videos \nWir weisen darauf hin\, dass am Veranstaltungsort Fotos und Videos angefertigt und zum Zweck der Veranstaltungsdokumentation im Internet und in Drucksorten veröffentlicht werden.
URL:https://www.femvents.at/event/money-matters-finanzplanung-fuer-unternehmerinnen/
LOCATION:Wien\, wien\, Wien\, 1060\, Austria
CATEGORIES:Vortrag,Wien
ATTACH;FMTTYPE=image/png:https://www.femvents.at/wp-content/uploads/2025/12/Ankuendigung-Event-Money-Matters.png
GEO:48.1945985;16.3504336
END:VEVENT
BEGIN:VEVENT
DTSTART;TZID=Europe/Vienna:20260129T183000
DTEND;TZID=Europe/Vienna:20260129T210000
DTSTAMP:20260422T141152
CREATED:20260107T095226Z
LAST-MODIFIED:20260107T095226Z
UID:10000613-1769711400-1769720400@www.femvents.at
SUMMARY:FEMclub Netzwerktreffen
DESCRIPTION:Die FEMclub-Netzwerktreffen sind kein klassisches Networking. Hier treffen Unternehmerinnen\, Macherinnen und Visionärinnen auf echten Austausch\, klare Worte und starke Verbindungen. Kein Verkaufsdruck\, kein Smalltalk – dafür Inspiration\, Sichtbarkeit und Frauen\, die wissen\, was sie wollen. Offen für Mitglieder und Nicht-Mitglieder.
URL:https://www.femvents.at/event/femclub-netzwerktreffen-2/
LOCATION:Tänzerei Klagenfurt\, Schleppe Platz 5\, 9020 Klagenfurt\, Schleppe Platz 5\, Klagenfurt\, Kärnten\, 9020\, Austria
CATEGORIES:Kärnten,Netzwerk-Treffen
ATTACH;FMTTYPE=image/png:https://www.femvents.at/wp-content/uploads/2026/01/Wir-passen-nicht-in-Schubladen.-Wir-sprengen-sie.-1.png
GEO:46.6412688;14.2876213
X-APPLE-STRUCTURED-LOCATION;VALUE=URI;X-ADDRESS=Tänzerei Klagenfurt Schleppe Platz 5 9020 Klagenfurt Schleppe Platz 5 Klagenfurt Kärnten 9020 Austria;X-APPLE-RADIUS=500;X-TITLE=Schleppe Platz 5:geo:14.2876213,46.6412688
END:VEVENT
BEGIN:VEVENT
DTSTART;TZID=Europe/Vienna:20260129T183000
DTEND;TZID=Europe/Vienna:20260129T210000
DTSTAMP:20260422T141152
CREATED:20260120T192124Z
LAST-MODIFIED:20260120T192124Z
UID:10000693-1769711400-1769720400@www.femvents.at
SUMMARY:Money Matters - Finanzplanung für Unternehmerinnen
DESCRIPTION:Herzliche Einladung zum sechsten „Females Fit for Finance“-Meetup! \n**Thema**: Baue dein Unternehmen auf einem soliden Finanzplan auf\nmit Anna Rennhofer \n💬 **Über das Event** \nGute Ideen brauchen gute Zahlen!\nViele Frauen starten mit Leidenschaft in die Selbständigkeit – doch sobald es um Finanzen geht\, wird es oft unübersichtlich. Wie plane ich Einnahmen\, Ausgaben\, Gewinn und Steuern realistisch? Was kann ich mir auszahlen? Und wie bleibe ich liquide\, auch wenn mal Flaute herrscht? \nIn diesem praxisnahen Vortrag zeigt Anna Rennhofer\, wie du dein Unternehmen auf einem soliden Finanzplan aufbaust – Schritt für Schritt und ohne Fachchinesisch. Ziel ist es\, finanzielle Klarheit zu schaffen und dich zu befähigen\, dein Business selbstbewusst und strukturiert zu führen. \n🧭 **Inhalt des Impuls-Vortrags** \nAnna führt dich durch die wichtigsten Schritte einer soliden Finanzplanung: \n✅ Einnahmen und Ausgaben realistisch einschätzen\n✅ Gewinne planen und Rücklagen clever bilden\n✅ Steuern und Abgaben rechtzeitig berücksichtigen\n✅ Mit Struktur und Überblick dein Business steuern \nDer Vortrag richtet sich an Frauen\, die selbständig sind oder es werden möchten – und endlich Zahlenverständnis\, Sicherheit und Struktur in ihre Finanzen bringen wollen. \n**Über Anna Rennhofer** \nAnna Rennhofer ist Finanzmentorin und Unternehmensberaterin aus Wien. Sie begleitet Selbständige und Gründer:innen dabei\, ihre Finanzen zu verstehen\, zu planen und bewusst zu steuern. Ihr Ziel: mehr Klarheit\, Struktur und Sicherheit im Business – damit du gute Entscheidungen auf Basis guter Zahlen treffen kannst.\nMehr über sie: www.anna-rennhofer.at \n🕕 **Ablauf des Abends** \n🕕 18:15 Uhr – Ankommen & Netzwerken: bitte kommt rechtzeitig vor Beginn des Vortrages\, damit das Ephata-Team genügend Zeit hat\, euch kulinarisch zu versorgen. 🥪\n🎤 ~ 19:00 Uhr – Impulsvortrag von Anna Rennhofer\n💬 Interaktive Q&A-Session\n🤝 Austausch und Diskussion unter den Teilnehmerinnen \n🗓️ **Anmeldung** \nDie Veranstaltung ist kostenlos\, wir freuen uns über eine freiwillige Kulturspende vor Ort.\nBitte meldet euch über Meetup an – sollte das nicht funktionieren\, gerne per E-Mail an femalesfinance@gmx.net. \nWir freuen uns auf einen inspirierenden Abend voller Klarheit\, Zahlen und Selbstvertrauen! 💪 \nWir freuen uns auf euer Kommen!\nMarika & Sara von Females Fit for Finance \n📸 **Hinweis zu Fotos und Videos** \nWir weisen darauf hin\, dass am Veranstaltungsort Fotos und Videos angefertigt und zum Zweck der Veranstaltungsdokumentation im Internet und in Drucksorten veröffentlicht werden.
URL:https://www.femvents.at/event/money-matters-finanzplanung-fuer-unternehmerinnen-2/
LOCATION:Café Ephata\, Garbergasse 14\, Wien\, Wien\, 1060\, Austria
CATEGORIES:After Work,Meetup,Vortrag,Wien
ATTACH;FMTTYPE=image/png:https://www.femvents.at/wp-content/uploads/2026/01/IMG_4206-1.png
ORGANIZER;CN="Females fit for Finance":MAILTO:sara.bratke@hotmail.com
GEO:48.1932526;16.3439753
X-APPLE-STRUCTURED-LOCATION;VALUE=URI;X-ADDRESS=Café Ephata Garbergasse 14 Wien Wien 1060 Austria;X-APPLE-RADIUS=500;X-TITLE=Garbergasse 14:geo:16.3439753,48.1932526
END:VEVENT
BEGIN:VEVENT
DTSTART;TZID=Europe/Vienna:20260129T190000
DTEND;TZID=Europe/Vienna:20260129T200000
DTSTAMP:20260422T141152
CREATED:20260115T110634Z
LAST-MODIFIED:20260115T110634Z
UID:10000681-1769713200-1769716800@www.femvents.at
SUMMARY:Gründerinnen-Sprechstunde: Fempreneur
DESCRIPTION:Du möchtest dich selbstständig machen aber hast noch 1000 Fragen?\n💬 Komm zum zweiwöchentlichen Online-Expertinnen-Talk für Gründerinnen (in spe) zu allen Fragen rund um deine Selbstständigkeit! \nIn diesem kostenlosen Webinar erwartet dich: \n\nOffene Q&A-Session zu allen Themen der Unternehmensgründung\nPraxisnahe Antworten auf deine individuellen Herausforderungen\nVernetzung mit Gleichgesinnten in entspannter Atmosphäre\nWertvolle Impulse und konkrete Handlungsschritte\n\nDetails:\n🗓️ Jeden zweiten Donnerstag\n⏰ 19:00 Uhr\n💻 Via Zoom\n💰 Kostenlos \nBringe deine Fragen mit oder höre einfach zu und lass dich inspirieren.\nDieser interaktive Austausch ist perfekt für dich\, egal ob du… \n\nmit dem Gedanken spielst\, dich selbstständig zu machen\nkonkrete Schritte zur Gründung planst\nbereits gegründet hast und vor neuen Herausforderungen stehst\n\n👩‍💼 Über den Host:\nIsabella ist diplomierte psychologische Beraterin\, Business Coach\, Trainerin für Erwachsenenbildung und zertifiziert für systemische Aufstellungsarbeit. Mit 14+ Jahren Erfahrung als selbstständige Senior UX-Designerin bringt sie einen reichen Erfahrungsschatz in der Zusammenarbeit mit Kund:innen in ganz Europa mit. ✨ \n🔗 Melde dich jetzt für einen der nächsten Termine an! \nhttps://scheduler.zoom.us/isabella-raunigk/fempreneur-after-work
URL:https://www.femvents.at/event/gruenderinnen-sprechstunde-fempreneur-13/
LOCATION:Online-Event\, Austria
CATEGORIES:After Work,Coaching,Frauenkreis,Netzwerk-Treffen,Online-Event
ATTACH;FMTTYPE=image/png:https://www.femvents.at/wp-content/uploads/2026/01/1-3.png
ORGANIZER;CN="Mind Distillery":MAILTO:hello@mind-distillery.com
GEO:47.516231;14.550072
END:VEVENT
END:VCALENDAR