BEGIN:VCALENDAR
VERSION:2.0
PRODID:-//femvents.at - ECPv6.15.18//NONSGML v1.0//EN
CALSCALE:GREGORIAN
METHOD:PUBLISH
X-WR-CALNAME:femvents.at
X-ORIGINAL-URL:https://www.femvents.at
X-WR-CALDESC:Veranstaltungen für femvents.at
REFRESH-INTERVAL;VALUE=DURATION:PT1H
X-Robots-Tag:noindex
X-PUBLISHED-TTL:PT1H
BEGIN:VTIMEZONE
TZID:Europe/Vienna
BEGIN:DAYLIGHT
TZOFFSETFROM:+0100
TZOFFSETTO:+0200
TZNAME:CEST
DTSTART:20250330T010000
END:DAYLIGHT
BEGIN:STANDARD
TZOFFSETFROM:+0200
TZOFFSETTO:+0100
TZNAME:CET
DTSTART:20251026T010000
END:STANDARD
BEGIN:DAYLIGHT
TZOFFSETFROM:+0100
TZOFFSETTO:+0200
TZNAME:CEST
DTSTART:20260329T010000
END:DAYLIGHT
BEGIN:STANDARD
TZOFFSETFROM:+0200
TZOFFSETTO:+0100
TZNAME:CET
DTSTART:20261025T010000
END:STANDARD
BEGIN:DAYLIGHT
TZOFFSETFROM:+0100
TZOFFSETTO:+0200
TZNAME:CEST
DTSTART:20270328T010000
END:DAYLIGHT
BEGIN:STANDARD
TZOFFSETFROM:+0200
TZOFFSETTO:+0100
TZNAME:CET
DTSTART:20271031T010000
END:STANDARD
END:VTIMEZONE
BEGIN:VEVENT
DTSTART;VALUE=DATE:20260129
DTEND;VALUE=DATE:20260202
DTSTAMP:20260422T141013
CREATED:20251026T132530Z
LAST-MODIFIED:20251026T132530Z
UID:10000439-1769644800-1769990399@www.femvents.at
SUMMARY:Freeride Ski Camp für Frauen in Gastein
DESCRIPTION:#shadesofwinter Signature Freeride Camp in Gastein by Sandra Lahnsteiner-Wagner\nFür alle\, die beim Freeriden schon zuhause sind – und noch mehr rausholen wollen. \nPowder\, Lines\, kleine Drops\, neue Herausforderungen und richtig viel Spaß im Gelände: Wir feilen an Technik\, Timing und Mindset – in einem sicheren Rahmen\, in dem Vertrauen und Teamgeist zählen. Lawinensicherheit gehört selbstverständlich dazu – genauso wie das gute Gefühl\, die eigene Spur zu ziehen. \nUnter der Leitung von Sandra Lahnsteiner-Wagner – professionelle Freeriderin\, Filmemacherin und staatlich geprüfte Skiführerin – begleiten dich zwei weitere erfahrene weibliche Guides durch drei intensive Tage in den Skigebieten von Gastein. \nBasecamp ist das Hotel Miramonte in Bad Gastein – der perfekte Ort\, um nach einem Tag im Schnee zu entspannen\, sich auszutauschen und gemeinsam auf die nächsten Lines anzustoßen.
URL:https://www.femvents.at/event/freeride-ski-camp-fuer-frauen-in-gastein/
LOCATION:Gastein
CATEGORIES:Salzburg,Sport
ATTACH;FMTTYPE=image/jpeg:https://www.femvents.at/wp-content/uploads/2025/10/Signature-Freeride-26_kl.jpg
GEO:47.516231;14.550072
END:VEVENT
BEGIN:VEVENT
DTSTART;VALUE=DATE:20260131
DTEND;VALUE=DATE:20260202
DTSTAMP:20260422T141013
CREATED:20260109T101323Z
LAST-MODIFIED:20260109T101323Z
UID:10000656-1769817600-1769990399@www.femvents.at
SUMMARY:Grundlagenkurs Salzburg: Art Therapy Essentials
DESCRIPTION:Zwei Tage voller Farbe\, Intuition & Selbstausdruck.Dieser Grundlagenkurs öffnet dir die Welt der Kunsttherapie – als Tool für persönliche Entwicklung\, kreative Begleitung und tiefe Selbstwahrnehmung. \nDu brauchst keine Vorkenntnisse – nur Lust auf kreatives Forschen und neue Perspektiven. \nWarum Kunsttherapie? \nWeil der Stift sagt\, was dein Mund nicht kann.Weil Farben Dinge zeigen\, die du vielleicht längst vergessen hast.Weil kreative Prozesse transformieren – ohne Druck\, ohne Bewertung\, ohne Ziel.
URL:https://www.femvents.at/event/grundlagenkurs-salzburg-art-therapy-essentials/
LOCATION:liebestrunken I SELF LOVE CLUB\, Lederergasse 3\, Salzburg\, Salzburg\, 5020\, Austria
CATEGORIES:Salzburg,Workshop
ATTACH;FMTTYPE=image/jpeg:https://www.femvents.at/wp-content/uploads/2026/01/JulyHellbrunnSchmuck29-scaled.jpg
ORGANIZER;CN="SELF LOVE CLUB @liebestrunken":MAILTO:hey@liebestrunken.com
GEO:47.802268;13.0445985
X-APPLE-STRUCTURED-LOCATION;VALUE=URI;X-ADDRESS=liebestrunken I SELF LOVE CLUB Lederergasse 3 Salzburg Salzburg 5020 Austria;X-APPLE-RADIUS=500;X-TITLE=Lederergasse 3:geo:13.0445985,47.802268
END:VEVENT
BEGIN:VEVENT
DTSTART;TZID=Europe/Vienna:20260131T100000
DTEND;TZID=Europe/Vienna:20260201T180000
DTSTAMP:20260422T141013
CREATED:20251028T145952Z
LAST-MODIFIED:20251028T150047Z
UID:10000449-1769853600-1769968800@www.femvents.at
SUMMARY:1. Frequenz-Reise im Jahres-Zyklus mit der Geistigen Welt und Naturwesen
DESCRIPTION:3 Möglichkeiten für diese Reise im Jahre 2026\n  \n1 – Erlebnis für Dich\nJedes der acht Wochenenden ist einzeln erlebbar und steht unter einem anderen Thema. Die Geistige Welt und ich begleiten Dich in Deiner Frequenz\, welche gerade im Jahres-Zyklus gesehen werden möchte\, um\nDich in Deinem Wachstum zu unterstützen. \n2 A – Erlebnisse für Dich mit den Mond-Frequenzen\nVier Wochenenden mit der Geistigen Welt\, der weiblichen Energie und meiner Begleitung erleben\, fühlen und integrieren. Erlaube Dir\, Dich zu sehen\, anzunehmen und zu sein im Hier und Jetzt. Jahres-Zyklus und Weiblicher-Zykus gehen Hand in Hand. \n2 B – Erlebnisse für Dich mit den Sonnen-Frequenzen\nVier Wochenenden mit der Geistigen Welt\, der männlichen Energie und meiner Begleitung erleben\, fühlen und integrieren. Erlaube Dir\, Deine ureigene männliche Energie zu sehen\, zu spüren und anzunehmen. Der männliche Teil in Dir findet gehör und nimmt seinen rechtmässigen Platz ein\, in Dir. \n3 – Erlebnisse für Dich in der Jahres-Frequenz  \nAcht Wochenenden in der Frequenz der Geistigen Welt\, den  Jahres-Zyklus\, den weiblichen und männlichen Energien und meiner Begleitung. Du findest Deinen eigenen Zugang zu den Frequenzen des Jahres-Zykluses. Dein Individualität findet Ausdruck im gemeinsamen Sein und Du erkennst welchen großartigen Platz Du im großen Ganzen einnimmst. \nDie Reise beginnt bei Dir und endet bei Dir\, jedoch bist Du dabei nie alleine. \n  \nTermine\n1. WE: 31.01 – 01.02.2026 (Mond) – Das Licht ist zurück\n2. WE: 21.03. – 22.03.2026 (Sonne) – Gleichgewicht\n3. WE: 02.05. – 03.05.2026 (Mond) – Liebe liegt in d. Luft\n4. WE: 20.06. – 21.06.2026 (Sonne) – Gipfelmoment\n5. WE: 01.08. – 02.08.2026 (Mond) – Fülle pur\n6. WE: 19.09. – 20.09.2026 (Sonne) – Gleichklang\n7. WE: 31.10. – 01.11.2026 (Mond) – Neuausrichtung\n8. WE: 19.12. – 20.12.2026 (Sonne) – Geburt des Lichtes \nSamstag: 10.00 bis 18.00 Uhr\nSonntag: 10.00 bis 17.00 Uhr \nKleidung der Witterung entsprechend
URL:https://www.femvents.at/event/1-frequenz-reise-im-jahres-zyklus-mit-der-geistigen-welt-und-naturwesen/
LOCATION:Haus der Begegnungen\, Pramhof 3\, St. Florian am Inn\, Oberösterreich\, 4782\, Austria
CATEGORIES:Frauenkreis,Oberösterreich,Retreat
ATTACH;FMTTYPE=image/png:https://www.femvents.at/wp-content/uploads/2025/10/Logo.png
ORGANIZER;CN="Frequenze Medium Monja Brunner":MAILTO:info@monja-brunner.com
GEO:48.4333808;13.4660064
X-APPLE-STRUCTURED-LOCATION;VALUE=URI;X-ADDRESS=Haus der Begegnungen Pramhof 3 St. Florian am Inn Oberösterreich 4782 Austria;X-APPLE-RADIUS=500;X-TITLE=Pramhof 3:geo:13.4660064,48.4333808
END:VEVENT
BEGIN:VEVENT
DTSTART;TZID=Europe/Vienna:20260201T090000
DTEND;TZID=Europe/Vienna:20260201T163000
DTSTAMP:20260422T141013
CREATED:20260120T074001Z
LAST-MODIFIED:20260120T074001Z
UID:10000690-1769936400-1769963400@www.femvents.at
SUMMARY:ELEVATION DAY
DESCRIPTION:Das Netzwerk-Event für selbständige Frauen\, das Dich 2026 aufs nächste Level von Sichtbarkeit\, Kunden & Umsatz katapultiert \n\n\n\n\nWelcome to ELEVATION DAY.\nDem Tag\, an dem Du Dich in einer neuen Version erlebst – klarer\, sichtbarer und erfolgreicher in Deinem Business. \nFür selbständige Frauen\, die 2026 nicht mehr suchen\, zweifeln oder herumprobieren wollen\, sondern bereit sind zu wachsen\, zu kreieren und Kund:innen zu gewinnen\, die wirklich passen. \nWir – Sarah\, Kerstin und Julia – sind Deine Hosts an diesem Tag und öffnen den Raum\, damit Du 2026 als Personal Brand für Deine Wunschkund:innen unübersehbar wirst und mit Leichtigkeit Umsätze generierst. \nDer ELEVATION DAY verbindet Business-Klarheit mit echtem Netzwerken.\nDu bekommst strategische Impulse und begegnest Frauen\, die – wie Du – vorangehen wollen. \nAn diesem Tag erlebst Du die entscheidenden Shifts in DeinerPositionierung. Sichtbarkeit. Selbstführung. \nDu lernst: \n\nwie Du Deine Begeisterung\, Werte und Angebote fühlbar machst\, so dass Sichtbarkeit leicht wird\nwie Du aus innerer Sicherheit führst – statt aus Druck oder Daueranspannung\nwie Perfect Matches mit Deinen Wunschkund:innen entstehen – und sie bei Dir buchen\n\nDu bekommst klare Antworten auf Deine konkreten Fragen – keine allgemeinen Tipps.\nUnd Du vernetzt Dich mit inspirierenden Frauen und findest Buddies\, Kooperationen und Perfect Matches. \nDich erwarten: \n\n3 starke Vorträge\, die Deine Sichtbarkeit\, Energie und Sales sofort shiften\nTable Sessions mit 5 Expertinnen für individuelles Feedback & konkrete Umsetzungsschritte zu Deinem Business\neine Celebration Session\, die Du nicht vergessen wirst\nNetzwerken & gemeinsamer Lunch\, um Dich nach Herzenlust zu connecten\n\nEs ist kein Zufall\, dass Du das hier liest. \nBuche den ELEVATION DAY.\nNicht\, weil es nett klingt.\nSondern weil Du keine Lust mehr hast\, Dir selbst im Weg zu stehen\, sondern gemeinsam mit anderen Frauen\, Dein Business voller Freude und Klarheit wachsen zu lassen. \n\nBuche dein Ticket unter dem folgenden Link: \nSHE LEADS – Elevation Day 02-26 \nWir sehen uns dort\nSarah\, Kerstin und Julia
URL:https://www.femvents.at/event/elevation-day/
LOCATION:Gründwerk Dachau\, München\, Wettersteinring 17\, Dachau\, Bayern\, 85221\, Germany
CATEGORIES:Meetup,Netzwerk-Treffen,Retreat
ATTACH;FMTTYPE=image/png:https://www.femvents.at/wp-content/uploads/2026/01/Elevation-Day-Netzwerk.png
GEO:48.2422623;11.4496479
X-APPLE-STRUCTURED-LOCATION;VALUE=URI;X-ADDRESS=Gründwerk Dachau München Wettersteinring 17 Dachau Bayern 85221 Germany;X-APPLE-RADIUS=500;X-TITLE=Wettersteinring 17:geo:11.4496479,48.2422623
END:VEVENT
BEGIN:VEVENT
DTSTART;TZID=Europe/Vienna:20260201T190000
DTEND;TZID=Europe/Vienna:20260201T203000
DTSTAMP:20260422T141013
CREATED:20260130T142417Z
LAST-MODIFIED:20260130T142417Z
UID:10000734-1769972400-1769977800@www.femvents.at
SUMMARY:Female Motion Lab - Vollmond Yoga
DESCRIPTION:Der Vollmond verstärkt Energie und Emotionen; in dieser Yoga-Praxis nutzen wir sanfte Bewegungen\, den Atem und die Stille\, um loszulassen und uns neu auszurichten. \nDamit unsere Veranstaltungen für jede*n zugänglich sind\, läuft dieser Abend auf ehrlicher Spendenbasis (Richtwert: 8–15 €). \nKann vor Ort bar oder per PayPal gezahlt werden.
URL:https://www.femvents.at/event/female-motion-lab-vollmond-yoga/
LOCATION:Irā Yoga Studio\, Brixner Str. 4\, Innsbruck\, Tirol\, 6020\, Austria
CATEGORIES:Frauenkreis,Meditation,Tirol
ATTACH;FMTTYPE=image/png:https://www.femvents.at/wp-content/uploads/2026/01/Female-Motion-Lab.png
GEO:47.2647518;11.3992359
X-APPLE-STRUCTURED-LOCATION;VALUE=URI;X-ADDRESS=Irā Yoga Studio Brixner Str. 4 Innsbruck Tirol 6020 Austria;X-APPLE-RADIUS=500;X-TITLE=Brixner Str. 4:geo:11.3992359,47.2647518
END:VEVENT
END:VCALENDAR