BEGIN:VCALENDAR
VERSION:2.0
PRODID:-//femvents.at - ECPv6.15.18//NONSGML v1.0//EN
CALSCALE:GREGORIAN
METHOD:PUBLISH
X-WR-CALNAME:femvents.at
X-ORIGINAL-URL:https://www.femvents.at
X-WR-CALDESC:Veranstaltungen für femvents.at
REFRESH-INTERVAL;VALUE=DURATION:PT1H
X-Robots-Tag:noindex
X-PUBLISHED-TTL:PT1H
BEGIN:VTIMEZONE
TZID:Europe/Vienna
BEGIN:DAYLIGHT
TZOFFSETFROM:+0100
TZOFFSETTO:+0200
TZNAME:CEST
DTSTART:20250330T010000
END:DAYLIGHT
BEGIN:STANDARD
TZOFFSETFROM:+0200
TZOFFSETTO:+0100
TZNAME:CET
DTSTART:20251026T010000
END:STANDARD
BEGIN:DAYLIGHT
TZOFFSETFROM:+0100
TZOFFSETTO:+0200
TZNAME:CEST
DTSTART:20260329T010000
END:DAYLIGHT
BEGIN:STANDARD
TZOFFSETFROM:+0200
TZOFFSETTO:+0100
TZNAME:CET
DTSTART:20261025T010000
END:STANDARD
BEGIN:DAYLIGHT
TZOFFSETFROM:+0100
TZOFFSETTO:+0200
TZNAME:CEST
DTSTART:20270328T010000
END:DAYLIGHT
BEGIN:STANDARD
TZOFFSETFROM:+0200
TZOFFSETTO:+0100
TZNAME:CET
DTSTART:20271031T010000
END:STANDARD
END:VTIMEZONE
BEGIN:VEVENT
DTSTART;TZID=Europe/Vienna:20260202T190000
DTEND;TZID=Europe/Vienna:20260202T213000
DTSTAMP:20260420T091326
CREATED:20260127T123200Z
LAST-MODIFIED:20260127T123200Z
UID:10000711-1770058800-1770067800@www.femvents.at
SUMMARY:Frauenkreis* - TRUTH. Meine Wahrheit sprechen und leben.
DESCRIPTION:Women’s* Circle „Inner Truth – Returning to Yourself“ 💛 \nNicht länger verstecken.\nNicht länger bloß funktionieren müssen\, ständig optimieren\, anpassen.\nSondern dich erinnern\, wer du wirklich bist. \nDieser Women’s* Circle ist eine Einladung\, dich für dieses Jahr\, ähnlich wie von strengen Neujahresvorsätzen\, auch von strenger Selbstoptimierung\, MÜSSEN und SOLLEN zu verabschieden und statt Erwartungen von außen deine inneren Wahrheiten als Kompass zu nutzen. \nMit somatischen Übungen und geführter Meditation hören und spüren wir tief nach innen:  \nWie willst du leben? Wie willst du lieben? Was ist wahr für dich\, jenseits von Druck\, fixen Rollen und äußeren Erwartungen? \nEin Raum für honest self expression:\nSilencing und Tone Policing bleiben vor der Tür.\nHier darfst du üben\, dich authentisch auszudrücken und dich tiefer und kraftvoll in deiner Wahrheit zu verankern. \nEin kraftvolles Thema\, um bewusst ins neue Jahr zu starten:\nWelche Wahrheiten warten darauf\, von dir liebevoll entdeckt zu werden? Was hält dich noch zurück? Und wie kannst du in diesem Jahr wirklich für dich und dein Wohlbefinden losgehen?  \nEine Einladung deine Wahrheiten (wieder) zu entdecken\, anzuerkennen\, deine Wahrheit authentisch zu sprechen und Schritt für Schritt zu leben. \nIch freue mich darauf\, gemeinsam mit euch Innenschau zu halten\, und – wie immer – einen Raum zu öffnen\, in dem das volle Spektrum all deiner Facetten und Emotionen Platz und Ausdruck finden dürfen ✨ \nAlles Liebe\, Jasmin 💛 \n📅 Montag\, 2. Februar 2026\n⏰ 19.00 bis 21.30 Uhr\n📍 1150 Wien (nähe U3 Schweglerstraße)\n👉🏻 Teilnahmebeitrag: EUR 30\n🗣️ Deutsch\n💌 Anmeldung unter diesem Link:\n https://form.jotform.com/252513432956357 \n*Der Kreis ist offen für Menschen die sich als Frau* verstehen oder Personen die Erfahrungen gemacht haben\, die typischerweise mit einer weiblichen Sozialisation verbunden sind. \nWenn du noch weitere Fragen hast\, schreib mir gerne eine email oder dm. \n💌 Du hast keine Zeit aber kennst jemanden\, für die das interessant ist? Dann leite diese Einladung doch gerne weiter! \n➡️Mehr Infos über mich und meine Arbeit (Workshops und psychologische Beratung)\nwww.heartscape.at/womens-circles\n www.instagram.com/heartscape.at \n🎁 Du kannst auch Gutscheine an deine liebsten für die Teilnahme an einem Circle verschenken.
URL:https://www.femvents.at/event/frauenkreis-truth-meine-wahrheit-sprechen-und-leben/
LOCATION:Benedikt-Schellinger-Gasse\, 1150 Wien\, Wien\, Wien\, 1150\, Austria
CATEGORIES:Coaching,Frauenkreis,Meditation,Meetup,Wien,Workshop
ATTACH;FMTTYPE=image/png:https://www.femvents.at/wp-content/uploads/2026/01/IMG_3493.png
ORGANIZER;CN="heartscape.at":MAILTO:jasmin@heartscape.at
GEO:48.1919814;16.3324557
END:VEVENT
END:VCALENDAR