BEGIN:VCALENDAR
VERSION:2.0
PRODID:-//femvents.at - ECPv6.15.18//NONSGML v1.0//EN
CALSCALE:GREGORIAN
METHOD:PUBLISH
X-ORIGINAL-URL:https://www.femvents.at
X-WR-CALDESC:Veranstaltungen für femvents.at
REFRESH-INTERVAL;VALUE=DURATION:PT1H
X-Robots-Tag:noindex
X-PUBLISHED-TTL:PT1H
BEGIN:VTIMEZONE
TZID:Europe/Vienna
BEGIN:DAYLIGHT
TZOFFSETFROM:+0100
TZOFFSETTO:+0200
TZNAME:CEST
DTSTART:20250330T010000
END:DAYLIGHT
BEGIN:STANDARD
TZOFFSETFROM:+0200
TZOFFSETTO:+0100
TZNAME:CET
DTSTART:20251026T010000
END:STANDARD
BEGIN:DAYLIGHT
TZOFFSETFROM:+0100
TZOFFSETTO:+0200
TZNAME:CEST
DTSTART:20260329T010000
END:DAYLIGHT
BEGIN:STANDARD
TZOFFSETFROM:+0200
TZOFFSETTO:+0100
TZNAME:CET
DTSTART:20261025T010000
END:STANDARD
BEGIN:DAYLIGHT
TZOFFSETFROM:+0100
TZOFFSETTO:+0200
TZNAME:CEST
DTSTART:20270328T010000
END:DAYLIGHT
BEGIN:STANDARD
TZOFFSETFROM:+0200
TZOFFSETTO:+0100
TZNAME:CET
DTSTART:20271031T010000
END:STANDARD
END:VTIMEZONE
BEGIN:VEVENT
DTSTART;TZID=Europe/Vienna:20260207T093000
DTEND;TZID=Europe/Vienna:20260207T120000
DTSTAMP:20260420T091506
CREATED:20260204T101750Z
LAST-MODIFIED:20260204T101750Z
UID:10000762-1770456600-1770465600@www.femvents.at
SUMMARY:Damensalon
DESCRIPTION:🧭ladykompass präsentiert: den Damensalon! ✨Jeden 1. Samstag im Monat in meiner Gemeinschaftspraxis von 9:45-12:00 \n✨Damensalon ist ein kreativer Raum für Frauen\, um sich auszutauschen\, gemeinsam zu wachsen und die eigenen Stärken bewusster wahrzunehmen.  💪🏼 \nHier kannst du dich auf deinem Weg zu dir selbst begleiten lassen und lernen\, deinen inneren Raum in eine persönliche Wohlfühloase zu verwandeln – begleitet durch einen erfahrenen Coach.  🫶 \nInklusive: Wasser\, Kaffee\, Tee\, Snacks und Kekse für alle Teilnehmerinnen.  \nTeilnahmegebühr: 30 € (29 € + 1 € Spende an das Frauenhaus).  \n**Anmeldung:** per E-Mail an info@ladykompass.at \nTeilnehmerinnen begrenzt❣️
URL:https://www.femvents.at/event/damensalon-3/
LOCATION:1180\, Gersthoferstrasse 109\, Gersthoferstrasse 109\, Wien\, Wien\, 1180\, Austria
CATEGORIES:Frauenkreis,Wien
ATTACH;FMTTYPE=image/jpeg:https://www.femvents.at/wp-content/uploads/2026/02/c33a9ff1-a22b-459a-aa46-e54613e493b1.jpeg
ORGANIZER;CN="Silvia Hummel":MAILTO:Info@ladykompass.at
GEO:48.2369512;16.3231968
X-APPLE-STRUCTURED-LOCATION;VALUE=URI;X-ADDRESS=1180 Gersthoferstrasse 109 Gersthoferstrasse 109 Wien Wien 1180 Austria;X-APPLE-RADIUS=500;X-TITLE=Gersthoferstrasse 109:geo:16.3231968,48.2369512
END:VEVENT
BEGIN:VEVENT
DTSTART;TZID=Europe/Vienna:20260207T100000
DTEND;TZID=Europe/Vienna:20260207T180000
DTSTAMP:20260420T091506
CREATED:20260108T072717Z
LAST-MODIFIED:20260108T072717Z
UID:10000640-1770458400-1770487200@www.femvents.at
SUMMARY:IM KREIS DER WEIBLICHEN KRÄFTE (Seminarzyklus\, 5 Module)
DESCRIPTION:Erinnern. Verbinden. Verkörpern.  \nDieser Seminarzyklus aus fünf Tagen führt dich in die elementaren Kräfte des Weiblichen. Vier Tage öffnen je drei archetypische Energien – zwölf Bewegungen\, die in dir wirken und sich Schicht für Schicht entfalten. Im fünften Modul finden all diese Kräfte zusammen und verdichten sich zu einem Ganzen\, einem inneren Gesamtkunstwerk – getragen von der Alchemistin\, dem Prinzip bewusster Wandlung. \n​So formen die fünf Tore einen Kreis der Transformation: vom Vertrauen zur Klarheit\, von der Hingabe zur Selbstermächtigung. Die Alchimistin bildet die Mitte dieses Kreises. Sie vereint alle Energien und erinnert dich daran\, dass Wandlung kein Kampf ist\, sondern eine Rückkehr zu deiner Essenz. \nDieser Seminarzyklus richtet sich an Frauen\, die sich selbst tiefer spüren möchten – frei von Rollen\, Erwartungen und alten Bildern. Eine liebevolle Erinnerung an das\, was in dir lebt: Stärke\, Zartheit und Licht. \nModule:• Die Unschuldige – Vertrauen\, Neubeginn\, Hingabe (07.02.2026)• Die Nährende – Fülle\, Fürsorge\, Selbstwert (07.03.2026)• Die Starke – Mut\, Grenzen\, innere Kraft (04.04.2026)• Die Weise – Klarheit\, Erkenntnis\, Intuition (02.05.2026)• Die Alchemistin – Transformation\, Integration\, Ganzheit (27.06.2026) \nTermine (jeweils): 10:00–18:00Ort: 4502 Weichstetten\nAnmeldung über das Formular: www.source-praxis.at/kontakt.\nAuf Wunsch ist ein telefonisches Vorgespräch möglich: 0677 / 644 207 44. \nwww.source-praxis.at/seminare
URL:https://www.femvents.at/event/im-kreis-der-weiblichen-kraefte-seminarzyklus-5-module/
LOCATION:Weichstetten\, Weichstetten\, Austria
CATEGORIES:Frauenkreis,Kurs,Meditation,Oberösterreich,Retreat,Soundhealing,Workshop
ATTACH;FMTTYPE=image/jpeg:https://www.femvents.at/wp-content/uploads/2026/01/Flyer-Archetypen-A6-ZW.jpg
GEO:48.12146;14.32131
END:VEVENT
BEGIN:VEVENT
DTSTART;TZID=Europe/Vienna:20260207T150000
DTEND;TZID=Europe/Vienna:20260207T180000
DTSTAMP:20260420T091506
CREATED:20260207T062817Z
LAST-MODIFIED:20260207T062817Z
UID:10000780-1770476400-1770487200@www.femvents.at
SUMMARY:TCM trifft Déesse Cosmetics
DESCRIPTION:Schau vorbei am Samstag\, 7. Februar 2026 im Herzraum der @schnaufpause.at in Strasswalchen! \nEs erwarten euch interessante Vorträge zum Thema Detox\, die Pflege der Schönheit von innen & außen. Und natürlich gibts auch die Must Haves des Déesse Sortiments zu sehen! \nDie liebe @danielakreiseder\, TCM Ernährungsberaterin und unter anderem auch Expertin für Moxibustion und Feuer -Schröpfen erzählt euch mehr über ihre Fachgebiete… \nmehr Infos gerne unter 066475018949
URL:https://www.femvents.at/event/tcm-trifft-deesse-cosmetics/
LOCATION:Schnaufpause\, Salzburgerstraße 15a\, 5204 Straßwalchen\, Salzburgerstraße 15a\, 5204 Straßwalchen\, 5204 Straßwalchen\, Salzburg\, 5204\, Austria
CATEGORIES:Salzburg
ATTACH;FMTTYPE=image/jpeg:https://www.femvents.at/wp-content/uploads/2026/02/Variante-6-TCM-trifft-DS-Strawa-07-02-2026.jpg
GEO:47.9773347;13.2541305
X-APPLE-STRUCTURED-LOCATION;VALUE=URI;X-ADDRESS=Schnaufpause Salzburgerstraße 15a 5204 Straßwalchen Salzburgerstraße 15a 5204 Straßwalchen 5204 Straßwalchen Salzburg 5204 Austria;X-APPLE-RADIUS=500;X-TITLE=Salzburgerstraße 15a\, 5204 Straßwalchen:geo:13.2541305,47.9773347
END:VEVENT
BEGIN:VEVENT
DTSTART;TZID=Europe/Vienna:20260207T160000
DTEND;TZID=Europe/Vienna:20260207T190000
DTSTAMP:20260420T091506
CREATED:20260201T161200Z
LAST-MODIFIED:20260201T161200Z
UID:10000738-1770480000-1770490800@www.femvents.at
SUMMARY:Zyklus Zirkel Baden
DESCRIPTION:Der Zyklus Zirkel ist ein monatliches Treffen\, in dem wir Frauen über alles sprechen können\, was uns mit oder ohne Zyklus beschäftigt. Jeder Termin widmet sich einem anderen Thema.
URL:https://www.femvents.at/event/zyklus-zirkel-baden-5/
LOCATION:Das Yogaprojekt Studio\, Pelzgasse 18\, 2500 Baden\, Pelzgasse 18\, Baden\, Niederösterreich\, 2500\, Austria
CATEGORIES:Frauenkreis,Niederösterreich
ATTACH;FMTTYPE=image/jpeg:https://www.femvents.at/wp-content/uploads/2026/02/1000120428.jpg
ORGANIZER;CN="Katharina Gl%C3%B6ckel":MAILTO:katharina.gloeckel@gmail.com
GEO:48.00821;16.2284136
X-APPLE-STRUCTURED-LOCATION;VALUE=URI;X-ADDRESS=Das Yogaprojekt Studio Pelzgasse 18 2500 Baden Pelzgasse 18 Baden Niederösterreich 2500 Austria;X-APPLE-RADIUS=500;X-TITLE=Pelzgasse 18:geo:16.2284136,48.00821
END:VEVENT
BEGIN:VEVENT
DTSTART;TZID=Europe/Vienna:20260207T180000
DTEND;TZID=Europe/Vienna:20260207T200000
DTSTAMP:20260420T091506
CREATED:20260107T105300Z
LAST-MODIFIED:20260107T135643Z
UID:10000617-1770487200-1770494400@www.femvents.at
SUMMARY:Frauenkreis sink into you
DESCRIPTION:Hast du Lust auf einen Abend\, der nur dir und deinem Körper gehört? \nEcht\, roh und ohne Wertung. \nWir machen nichts weg\, wir beschönigen nicht. Wir sind einfach mit allem was sich zeigen mag und die Magie wird sich dadurch von alleine entfalten. \nErlebe\, wie es ist\, wenn alles sein darf. \nStarke Emotionen\, Tabuthemen\, Sicherheit\, Glück. \nSpürst du den Ruf in deinem Körper? Dann folge ihm und sei dabei. \nIch freue mich auf dich! \nAnmeldung an sophia.lachmund@gmx.at oder bei Instagram @sophia_lachmund
URL:https://www.femvents.at/event/frauenkreis-sink-into-you/
LOCATION:Dorfsalon\, Johann-Böhm-Straße 17\, Lenzing\, Oberösterreich\, 4860\, Austria
CATEGORIES:Frauenkreis,Oberösterreich
ATTACH;FMTTYPE=image/png:https://www.femvents.at/wp-content/uploads/2026/01/sink-into-you-1080-x-1080-px.png
ORGANIZER;CN="Sophia Lachmund":MAILTO:sophia.lachmund@gmx.at
GEO:47.9754382;13.607567
X-APPLE-STRUCTURED-LOCATION;VALUE=URI;X-ADDRESS=Dorfsalon Johann-Böhm-Straße 17 Lenzing Oberösterreich 4860 Austria;X-APPLE-RADIUS=500;X-TITLE=Johann-Böhm-Straße 17:geo:13.607567,47.9754382
END:VEVENT
END:VCALENDAR