BEGIN:VCALENDAR
VERSION:2.0
PRODID:-//femvents.at - ECPv6.15.18//NONSGML v1.0//EN
CALSCALE:GREGORIAN
METHOD:PUBLISH
X-WR-CALNAME:femvents.at
X-ORIGINAL-URL:https://www.femvents.at
X-WR-CALDESC:Veranstaltungen für femvents.at
REFRESH-INTERVAL;VALUE=DURATION:PT1H
X-Robots-Tag:noindex
X-PUBLISHED-TTL:PT1H
BEGIN:VTIMEZONE
TZID:Europe/Vienna
BEGIN:DAYLIGHT
TZOFFSETFROM:+0100
TZOFFSETTO:+0200
TZNAME:CEST
DTSTART:20250330T010000
END:DAYLIGHT
BEGIN:STANDARD
TZOFFSETFROM:+0200
TZOFFSETTO:+0100
TZNAME:CET
DTSTART:20251026T010000
END:STANDARD
BEGIN:DAYLIGHT
TZOFFSETFROM:+0100
TZOFFSETTO:+0200
TZNAME:CEST
DTSTART:20260329T010000
END:DAYLIGHT
BEGIN:STANDARD
TZOFFSETFROM:+0200
TZOFFSETTO:+0100
TZNAME:CET
DTSTART:20261025T010000
END:STANDARD
BEGIN:DAYLIGHT
TZOFFSETFROM:+0100
TZOFFSETTO:+0200
TZNAME:CEST
DTSTART:20270328T010000
END:DAYLIGHT
BEGIN:STANDARD
TZOFFSETFROM:+0200
TZOFFSETTO:+0100
TZNAME:CET
DTSTART:20271031T010000
END:STANDARD
END:VTIMEZONE
BEGIN:VEVENT
DTSTART;VALUE=DATE:20260208
DTEND;VALUE=DATE:20260209
DTSTAMP:20260420T091326
CREATED:20260109T101211Z
LAST-MODIFIED:20260109T101211Z
UID:10000654-1770508800-1770595199@www.femvents.at
SUMMARY:Selflove Sunday
DESCRIPTION:Gönn dir einen Sonntag voller Selflove-Magic mit Selbstliebe-Trainerin Caterina. \nJede Session ist ein eigenes Highlight: Du kannst sie einzeln buchen oder dir gleich mehrere sichern und vom Vorteilspreis profitieren. \nOb Journaling\, Mind-Impulse oder sanfte Selflove-Practices: Dieser Sonntag gehört nur dir. Komm vorbei\, tauch tief ein und starte die neue Woche mit klarer Energie & viel Liebe zu dir selbst. \n\nEinzelsessions buchbar\ngünstiger Bundle-Preis für mehrere Sessions
URL:https://www.femvents.at/event/selflove-sunday/
LOCATION:liebestrunken I SELF LOVE CLUB\, Lederergasse 3\, Salzburg\, Salzburg\, 5020\, Austria
CATEGORIES:Meditation,Meetup,Salzburg,Workshop
ATTACH;FMTTYPE=image/jpeg:https://www.femvents.at/wp-content/uploads/2026/01/WhatsApp-Bild-2025-09-09-um-14.15.57_b90d5ef4-scaled.jpg
ORGANIZER;CN="SELF LOVE CLUB @liebestrunken":MAILTO:hey@liebestrunken.com
GEO:47.802268;13.0445985
X-APPLE-STRUCTURED-LOCATION;VALUE=URI;X-ADDRESS=liebestrunken I SELF LOVE CLUB Lederergasse 3 Salzburg Salzburg 5020 Austria;X-APPLE-RADIUS=500;X-TITLE=Lederergasse 3:geo:13.0445985,47.802268
END:VEVENT
BEGIN:VEVENT
DTSTART;TZID=Europe/Vienna:20260208T140000
DTEND;TZID=Europe/Vienna:20260208T210000
DTSTAMP:20260420T091326
CREATED:20260205T115859Z
LAST-MODIFIED:20260205T115859Z
UID:10000694-1770559200-1770584400@www.femvents.at
SUMMARY:🌊✨ Liquid Love - 🐈 edition
DESCRIPTION:A Sensual Ocean of Bodies for Vulva owners ✨🌊 \nwith Shirka & Teresa \nImagine this… \n😌 Naked bodies and slippery gel\n🤲 Sensual touch without goal or intention\n🫧 Floating between skins and dissolving into sensation\n🐈 only \n🌀 We invite you to a sensual\, almost meditative journey of touch that might get spicy 🌶 \nOngoing skin-to-skin touch is one of the most beautiful things you can feel. It releases happiness hormones and creates a heart-opening body-high.🫰 \n💫 Why a Vulva-Owners-Only Liquid Love? \nBecause sometimes magic happens when people with the same kind of delicious anatomy come together 🌺 \nWe create a soft\, sensual cocoon where vulva owners can explore touch\, pleasure\, curiosity\, and connection without explaining\, performing\, or holding back 💦✨ \n🐌 Slow\, guided experience\, with time to integrate.\n🤝 You will touch and be touched by vulva owners of all genders. 🏳️‍🌈\n🔥 Location with Sauna\n🌿 We use Nuru Gel – instead of oil \n  \n📅 Sunday\, 08 February  /  14:00 – 21:00h\n📍 1060 Vienna\n💰120€-150€ (55€ Fair-ticket upon request) \n✍🏼 Ready to melt? – Sign up here! https://tillshirka.com/intimacy-workshop/liquid-love-pussy
URL:https://www.femvents.at/event/%f0%9f%8c%8a%e2%9c%a8-liquid-love-%f0%9f%90%88-edition/
LOCATION:Institut Hara\, Magdalenenstraße 4\, Wien\, Wien\, 1060\, Austria
CATEGORIES:Wien,Workshop
ATTACH;FMTTYPE=image/jpeg:https://www.femvents.at/wp-content/uploads/2026/01/1000039941.jpg
ORGANIZER;CN="Shirka &amp%3B Teresa":MAILTO:play@tillshirka.com
GEO:48.1964287;16.3550047
X-APPLE-STRUCTURED-LOCATION;VALUE=URI;X-ADDRESS=Institut Hara Magdalenenstraße 4 Wien Wien 1060 Austria;X-APPLE-RADIUS=500;X-TITLE=Magdalenenstraße 4:geo:16.3550047,48.1964287
END:VEVENT
BEGIN:VEVENT
DTSTART;TZID=Europe/Vienna:20260208T150000
DTEND;TZID=Europe/Vienna:20260208T173000
DTSTAMP:20260420T091326
CREATED:20260109T101134Z
LAST-MODIFIED:20260109T101134Z
UID:10000653-1770562800-1770571800@www.femvents.at
SUMMARY:Selbstliebe-Workshop: Der ehrliche Weg zurück zu dir
DESCRIPTION:Dein innerer Kritiker ist zu laut? Deine Ansprüche fühlen sich wie eine Endlos-To-Do-Liste an? Es ist Zeit\, das zu ändern. In diesem Workshop mit Selbstliebe-Trainerin Caterina lernst du\, Red Flags zu erkennen\, deinen inneren Kritiker auf lautlos zu stellen und stärkende Routinen für den Alltag zu entwickeln. \nMit modernen Tools und ehrlicher Anleitung sprengst du alte Blockaden und schaffst dir die Basis für echte Selbstliebe.
URL:https://www.femvents.at/event/selbstliebe-workshop-der-ehrliche-weg-zurueck-zu-dir/
LOCATION:liebestrunken I SELF LOVE CLUB\, Lederergasse 3\, Salzburg\, Salzburg\, 5020\, Austria
CATEGORIES:Salzburg,Workshop
ATTACH;FMTTYPE=image/jpeg:https://www.femvents.at/wp-content/uploads/2026/01/Linoprint.jpg
ORGANIZER;CN="SELF LOVE CLUB @liebestrunken":MAILTO:hey@liebestrunken.com
GEO:47.802268;13.0445985
X-APPLE-STRUCTURED-LOCATION;VALUE=URI;X-ADDRESS=liebestrunken I SELF LOVE CLUB Lederergasse 3 Salzburg Salzburg 5020 Austria;X-APPLE-RADIUS=500;X-TITLE=Lederergasse 3:geo:13.0445985,47.802268
END:VEVENT
BEGIN:VEVENT
DTSTART;TZID=Europe/Vienna:20260208T181500
DTEND;TZID=Europe/Vienna:20260208T210000
DTSTAMP:20260420T091326
CREATED:20260109T101238Z
LAST-MODIFIED:20260109T101238Z
UID:10000655-1770574500-1770584400@www.femvents.at
SUMMARY:Offline Affairs
DESCRIPTION:Diese Offline Experience ist für alle\, die…… wieder in Bücher eintauchen\, Journaling ausprobieren\, puzzeln\, Mandalas malen oder einfach kreativ sein und aufatmen möchten – in einem Raum\, in dem alle genau das tun: Bewusste Me-Time gönnen\, ohne Druck\, und ohne Bildschirm. \nDieses Event schenkt dir bewusst Zeit für dich selbst. Einfach mal abschalten\, neue Leute kennenlernen und die kleinen Dinge genießen\, für die im Alltag oft kein Platz bleibt. Und ja: Wir nehmen dir dein Smartphone wirklich ab. \nDas Programm:18:15 – 18:30 | Drop In & mach’s dir gemütlich18:30 – 19:30 | Connect with yourself19:30 – 20:30 | Connect with others – if you feel to20:30 – 21:00 | Wrap-up & Goodbye
URL:https://www.femvents.at/event/offline-affairs/
LOCATION:liebestrunken I SELF LOVE CLUB\, Lederergasse 3\, Salzburg\, Salzburg\, 5020\, Austria
CATEGORIES:Frauenkreis,Meditation,Meetup,Salzburg,Workshop
ATTACH;FMTTYPE=image/jpeg:https://www.femvents.at/wp-content/uploads/2026/01/Offline-Afterwork-Affairs2.jpg
ORGANIZER;CN="SELF LOVE CLUB @liebestrunken":MAILTO:hey@liebestrunken.com
GEO:47.802268;13.0445985
X-APPLE-STRUCTURED-LOCATION;VALUE=URI;X-ADDRESS=liebestrunken I SELF LOVE CLUB Lederergasse 3 Salzburg Salzburg 5020 Austria;X-APPLE-RADIUS=500;X-TITLE=Lederergasse 3:geo:13.0445985,47.802268
END:VEVENT
END:VCALENDAR