BEGIN:VCALENDAR
VERSION:2.0
PRODID:-//femvents.at - ECPv6.15.18//NONSGML v1.0//EN
CALSCALE:GREGORIAN
METHOD:PUBLISH
X-WR-CALNAME:femvents.at
X-ORIGINAL-URL:https://www.femvents.at
X-WR-CALDESC:Veranstaltungen für femvents.at
REFRESH-INTERVAL;VALUE=DURATION:PT1H
X-Robots-Tag:noindex
X-PUBLISHED-TTL:PT1H
BEGIN:VTIMEZONE
TZID:Europe/Vienna
BEGIN:DAYLIGHT
TZOFFSETFROM:+0100
TZOFFSETTO:+0200
TZNAME:CEST
DTSTART:20250330T010000
END:DAYLIGHT
BEGIN:STANDARD
TZOFFSETFROM:+0200
TZOFFSETTO:+0100
TZNAME:CET
DTSTART:20251026T010000
END:STANDARD
BEGIN:DAYLIGHT
TZOFFSETFROM:+0100
TZOFFSETTO:+0200
TZNAME:CEST
DTSTART:20260329T010000
END:DAYLIGHT
BEGIN:STANDARD
TZOFFSETFROM:+0200
TZOFFSETTO:+0100
TZNAME:CET
DTSTART:20261025T010000
END:STANDARD
BEGIN:DAYLIGHT
TZOFFSETFROM:+0100
TZOFFSETTO:+0200
TZNAME:CEST
DTSTART:20270328T010000
END:DAYLIGHT
BEGIN:STANDARD
TZOFFSETFROM:+0200
TZOFFSETTO:+0100
TZNAME:CET
DTSTART:20271031T010000
END:STANDARD
END:VTIMEZONE
BEGIN:VEVENT
DTSTART;TZID=Europe/Vienna:20260209T170000
DTEND;TZID=Europe/Vienna:20260209T180000
DTSTAMP:20260420T072500
CREATED:20260112T094059Z
LAST-MODIFIED:20260112T094150Z
UID:10000673-1770656400-1770660000@www.femvents.at
SUMMARY:„Aus der Kinderstube in die Führungsriege“
DESCRIPTION:Career Session mit Julia Rathjen: „Aus der Kinderstube in die Führungsriege“ \nSeid dabei bei der Webinar-Serie Career Sessions. Inhaltlich gehen wir auf wichtige Themen für die Karriere von Frauen ein. Die Career Session am Montag\, 9. Februar um 17:00 findet mit Therapeutin und Unternehmensberaterin Julia Rathjen zum Thema „Aus der Kinderstube in die Führungsriege“ statt. \nVerhaltensmuster und tief verankerte\, oft kritische Annahmen über uns formen unsere Karriere. In dieser Career Session verbindet Julia Rathjen aktuellste Erkenntnisse der Neurowissenschaften mit alltagstauglichen Tools zur Selbstreflexion\, Erweiterung der Komfortzone und Emotionsregulation. \n\nDatum: 9. Februar\nUhrzeit: 17:00 – 18:00\nOrt: Online\, Zoom\n\nZum Inhalt:\nDie Therapeutin und Unternehmensberaterin zeigt auf\, wie unterschiedliche Prägungen der Vergangenheit ihre Wirkung (oft unbewusst und unfreiwillig) im Heute entfalten und wie Bindungstheorie\, Körpersprache\, Denk- und Verhaltensmuster auf Basis der interpersonellen Neurobiologie wertvolle Hinweise liefern\, wie wir mit mehr Authentizität und Gelassenheit mit uns und anderen umgehen. \nDas erwartet euch:\n\nGrundlagen zur interpersonellen Neurobiologie: das passiert\, wenn wir miteinander sind\nWie Muster entstehen und wir aus ihnen heraustreten können\nAlltagsnahe Beispiele: nonverbales Konfliktverhalten\, Biases und Blindspots aufgrund frühkindlicher Prägungen\nWarum keine Kindheit perfekt sein kann\nBest of Besserfühlen durch Mini-Übungen\nBonus: Traumasensibler Umgang mit akuter emotionaler Überlastung im Arbeitsalltag\n\nFür alle Frauen\, die ihre Vergangenheit als Gerüst und nicht Korsett erleben\, Grenzen setzen und halten und gehirngerechte Kommunikation und Führung gestalten möchten. \nAnmeldung:\nJetzt kostenlos anmelden. Meldet euch bis 31. Januar kostenlos zu dieser Career Session an – bevor unser neuer Career Campus offiziell gelauncht wird! Ab dem Launch kostet die Teilnahme 29 € pro Session. \nTipp: Mit dem sheconomy Community Abo um nur 99 € pro Jahr ist eure Teilnahme bei allen Career Sessions inkludiert – plus 4 x Printmagazin & E-Paper und she Event Fixplatz in AT oder DE. Jetzt Mitglied in der sheconomy Community werden.  \nZur Referentin:\nJulia Rathjen arbeitet in privater\, traumasensibler Praxis in Berlin und online\, sowie als Beraterin für Unternehmen und öffentliche Träger im Bereich relationaler und integrativer Neurowissenschaft. Mit einem ganzheitlichen Fokus auf Emotionsregulation\, Narrativ und systemische Gesundheit\, bietet sie multimodale Therapie\, anwendbare\, niedrigschwellige Psychoedukation und die Begleitung akuter Belastungssituationen für Einzelpersonen\, Zweierdynamiken und Teams.
URL:https://www.femvents.at/event/aus-der-kinderstube-in-die-fuehrungsriege/
LOCATION:Online-Event\, Austria
CATEGORIES:Online-Event
ATTACH;FMTTYPE=image/png:https://www.femvents.at/wp-content/uploads/2026/01/Career-Session-mit-Julia-Rathjen.png
GEO:47.516231;14.550072
END:VEVENT
END:VCALENDAR