BEGIN:VCALENDAR
VERSION:2.0
PRODID:-//femvents.at - ECPv6.15.18//NONSGML v1.0//EN
CALSCALE:GREGORIAN
METHOD:PUBLISH
X-WR-CALNAME:femvents.at
X-ORIGINAL-URL:https://www.femvents.at
X-WR-CALDESC:Veranstaltungen für femvents.at
REFRESH-INTERVAL;VALUE=DURATION:PT1H
X-Robots-Tag:noindex
X-PUBLISHED-TTL:PT1H
BEGIN:VTIMEZONE
TZID:Europe/Vienna
BEGIN:DAYLIGHT
TZOFFSETFROM:+0100
TZOFFSETTO:+0200
TZNAME:CEST
DTSTART:20250330T010000
END:DAYLIGHT
BEGIN:STANDARD
TZOFFSETFROM:+0200
TZOFFSETTO:+0100
TZNAME:CET
DTSTART:20251026T010000
END:STANDARD
BEGIN:DAYLIGHT
TZOFFSETFROM:+0100
TZOFFSETTO:+0200
TZNAME:CEST
DTSTART:20260329T010000
END:DAYLIGHT
BEGIN:STANDARD
TZOFFSETFROM:+0200
TZOFFSETTO:+0100
TZNAME:CET
DTSTART:20261025T010000
END:STANDARD
BEGIN:DAYLIGHT
TZOFFSETFROM:+0100
TZOFFSETTO:+0200
TZNAME:CEST
DTSTART:20270328T010000
END:DAYLIGHT
BEGIN:STANDARD
TZOFFSETFROM:+0200
TZOFFSETTO:+0100
TZNAME:CET
DTSTART:20271031T010000
END:STANDARD
END:VTIMEZONE
BEGIN:VEVENT
DTSTART;TZID=Europe/Vienna:20260211T090000
DTEND;TZID=Europe/Vienna:20260211T120000
DTSTAMP:20260420T072349
CREATED:20260204T144325Z
LAST-MODIFIED:20260204T144325Z
UID:10000764-1770800400-1770811200@www.femvents.at
SUMMARY:Warum du als Keynote Speakerin die Bühne erobern solltest
DESCRIPTION:Hast du schon einmal mit einem Bühnenauftritt geliebäugelt? Dich gefragt\, wie es wäre\, Speakerin zu sein? \nSichtbarkeit passiert nicht nur online. Manchmal ist die direkteste Abkürzung zur Reichweite ganz analog: eine Bühne. 🎤🗯️ \nAm Mittwoch\, den 11. Februar hat die feministische PR-Agentur FURORE Brand Communications deshalb einen super Gast: In einem kostenfreien Online-Workshop zeigt dir Kathrin Katz von der Female Speakers Academy wie du dich als Speakerin positionierst\, mit einer starken Botschaft überzeugst und die Bühne gezielt als Sichtbarkeits-Booster für dein Business nutzt. \nDu bekommst nicht nur einen Schwung Motivation\, sondern auch konkrete Tools\, mit denen du dich bei Auftritten sicher fühlst\, statt dich einfach irgendwie durchzuwurschteln. \n👉 Du willst dabei sein?\nSchreib uns eine Mail an hallo@sorgfuerfurore.at und abonniere unseren Newsletter (Anmeldeformular Newsletter) – so landet der Zugangslink pünktlich und entspannt in deinem Postfach.
URL:https://www.femvents.at/event/warum-du-als-keynote-speakerin-die-buehne-erobern-solltest/
LOCATION:Online-Event\, Austria
CATEGORIES:Online-Event,Workshop
ATTACH;FMTTYPE=image/jpeg:https://www.femvents.at/wp-content/uploads/2026/02/copyright_biancaku╠ebler-5922-scaled.jpg
ORGANIZER;CN="Julia Breitkopf":MAILTO:hallo@sorgfuerfurore.at
GEO:47.516231;14.550072
END:VEVENT
END:VCALENDAR