BEGIN:VCALENDAR
VERSION:2.0
PRODID:-//femvents.at - ECPv6.15.18//NONSGML v1.0//EN
CALSCALE:GREGORIAN
METHOD:PUBLISH
X-WR-CALNAME:femvents.at
X-ORIGINAL-URL:https://www.femvents.at
X-WR-CALDESC:Veranstaltungen für femvents.at
REFRESH-INTERVAL;VALUE=DURATION:PT1H
X-Robots-Tag:noindex
X-PUBLISHED-TTL:PT1H
BEGIN:VTIMEZONE
TZID:Europe/Vienna
BEGIN:DAYLIGHT
TZOFFSETFROM:+0100
TZOFFSETTO:+0200
TZNAME:CEST
DTSTART:20250330T010000
END:DAYLIGHT
BEGIN:STANDARD
TZOFFSETFROM:+0200
TZOFFSETTO:+0100
TZNAME:CET
DTSTART:20251026T010000
END:STANDARD
BEGIN:DAYLIGHT
TZOFFSETFROM:+0100
TZOFFSETTO:+0200
TZNAME:CEST
DTSTART:20260329T010000
END:DAYLIGHT
BEGIN:STANDARD
TZOFFSETFROM:+0200
TZOFFSETTO:+0100
TZNAME:CET
DTSTART:20261025T010000
END:STANDARD
BEGIN:DAYLIGHT
TZOFFSETFROM:+0100
TZOFFSETTO:+0200
TZNAME:CEST
DTSTART:20270328T010000
END:DAYLIGHT
BEGIN:STANDARD
TZOFFSETFROM:+0200
TZOFFSETTO:+0100
TZNAME:CET
DTSTART:20271031T010000
END:STANDARD
END:VTIMEZONE
BEGIN:VEVENT
DTSTART;TZID=Europe/Vienna:20260213T083000
DTEND;TZID=Europe/Vienna:20260213T153000
DTSTAMP:20260420T072347
CREATED:20260123T143027Z
LAST-MODIFIED:20260123T143337Z
UID:10000705-1770971400-1770996600@www.femvents.at
SUMMARY:Professionelles Fotoshooting für deine Marke
DESCRIPTION:Personal Branding Day – Business Fotos & Markenauftritt \nPerfekt für Selbstständige\, die sich authentische und professionelle Branding-Fotos wünschen – ohne stundenlanges Shooten und ohne sich dabei unwohl zu fühlen.\n\nDu brauchst neue Bilder für deine Website\, LinkedIn\, Instagram oder deinen nächsten Launch?\nDu möchtest sichtbar sein\, fühlst dich bei klassischen Fotoshootings aber schnell überfordert?\n\nDann sind unsere Personal Branding Days genau das Richtige für dich:\nein klar strukturierter Ablauf\, eine entspannte Atmosphäre und Ergebnisse\, die du sofort einsetzen kannst.\nUnd dabei ist es ganz egal ob du gerade frisch gründest\, dein Branding neu ausrichtest\, deine Sichtbarkeit erhöhen willst oder regelmäßig frischen Content benötigst.\n\n \nWas erwartet dich:\n\n\ntypgerechtes Make-up & Hairstyling\ndein persönliches Branding-Shooting (45 Minuten reine Shootingzeit)\nBearbeitung der besten 8 Bilder(weitere Bilder optional zubuchbar)\nVorbereitungsguide mit Outfit-Empfehlungen\neinfache kommerzielle Nutzungsrechte (Website\, Social Media & Print)\ngroßräumiges Studio in Wien
URL:https://www.femvents.at/event/professionelles-fotoshooting-fuer-deine-marke/
LOCATION:Schottenfeldgasse 41-43\, 1070 Wien
CATEGORIES:Wien,Workshop
ATTACH;FMTTYPE=image/jpeg:https://www.femvents.at/wp-content/uploads/2026/01/Personal-Branding-Day-13.02.2026.jpg
END:VEVENT
BEGIN:VEVENT
DTSTART;TZID=Europe/Vienna:20260213T173000
DTEND;TZID=Europe/Vienna:20260213T200000
DTSTAMP:20260420T072347
CREATED:20260206T165758Z
LAST-MODIFIED:20260206T170054Z
UID:10000775-1771003800-1771012800@www.femvents.at
SUMMARY:Galentin's day: ein Hoch auf die Freund:innenschaft!
DESCRIPTION:Am 13.2. schaffen wir im Lili im 18. Bezirk Platz für alle\, die Sisterhood\, Freund:innenschaft und Solidarität feiern. In gemütlicher Runde kannst du aus diesen Programmpunkten wählen: \n\nGalentine’s-Collagen\nPostkarten\nLiebesrief an dich oder Freund:innen\nRole Models: Biografien\, die inspirieren\nIch sehe dich – Portraits zeichnen\n\nEs gibt Vino + alkoholfreie Drinks\, Platz für Austausch und Teilen von Geschichten und  gegenseitigem Mutmachen – kurz\, ein kreatives Beisammensein in guter und wohlgesonnener Gesellschaft. \nKomm allein\, zu zweit\, zu dritt\, und zelebriere die Freund:innenschaft mit uns. \nAchtung\, begrenzte Teilnehmer:innenanzahl\nvon ca. 17:30 bis 20:00\nTeilnahmegebühr 40\,00 Euro \nBei gemeinsamer Anmeldung: 35\,00 Euro pro Person
URL:https://www.femvents.at/event/galentins-day-ein-hoch-auf-die-freundinnenschaft/
LOCATION:Das Lili\, Türkenschanzplatz 1\, Wien\, Wien\, 1180\, Austria
CATEGORIES:After Work,Frauenkreis,Kurs,Wien,Workshop
ATTACH;FMTTYPE=image/jpeg:https://www.femvents.at/wp-content/uploads/2026/02/Galentines-day-im-Lili-jpg.jpg
ORGANIZER;CN="Studio LIA":MAILTO:hallo@studiolia.at
GEO:48.2354061;16.3272588
X-APPLE-STRUCTURED-LOCATION;VALUE=URI;X-ADDRESS=Das Lili Türkenschanzplatz 1 Wien Wien 1180 Austria;X-APPLE-RADIUS=500;X-TITLE=Türkenschanzplatz 1:geo:16.3272588,48.2354061
END:VEVENT
BEGIN:VEVENT
DTSTART;TZID=Europe/Vienna:20260213T173000
DTEND;TZID=Europe/Vienna:20260213T203000
DTSTAMP:20260420T072347
CREATED:20251223T113148Z
LAST-MODIFIED:20251223T113148Z
UID:10000594-1771003800-1771014600@www.femvents.at
SUMMARY:THE:Workshop "Erwecke und erforsche deine WutKraft"
DESCRIPTION:Workshop „Erwecke und erforsche deine WutKraft„\nDie feminine Wut ist eine kraftvolle Kraft. Doch du wurdest dazu konditioniert\, deine Wut zu unterdrücken\, da sie als unweiblich und unangemessen angesehen wird. Infolgedessen wendest du deine Wut oft nach innen. Sie kann sich dann als toxische Scham\, passiv-aggressives Verhalten oder in „zufälligen“ Wutausbrüchen manifestieren. \nIndem du deine Wut annimmst\, kannst du jedoch deinen inneren gesunden „Nein“ vertrauen\, Grenzen setzen und letztlich eine Zukunft im Einklang mit deinen Werten gestalten. Deshalb hat Felicia diesen Workshop als sicheren Raum konzipiert\, um unterdrückte Wut in transformative Kraft zu kanalisieren. \nWas dich erwartet\n\nVerstehe die sozialen Skripte\, die Grundlagen deines Nervensystems und den Zweck von Wut\nDeine Wut durch deinen Körper zulassen\, fühlen und halten durch praktische somatische Übungen\, die du auch zu Hause durchführen kannst\nNeue Fähigkeiten entwickeln\, um eine reife Beziehung zur Wut zu kultivieren\n\n// Was? Workshop “Erwecke und erforsche deine WutKraft” \n// Wer? Workshop  exklusiv für Sorority-Mitglieder \n//Mit: Felicia Nagel\, ist eine Psycho-Somatische Coach\, die dir hilft\, dich in deinem Körper und in deinen Beziehungen lebendig zu fühlen. Nach mehr als einem Jahrzehnt in Führungspositionen in der Unternehmenswelt erkannte sie\, dass sie im „Tun“ und „Überleben“ gefangen war\, anstatt das Leben wirklich zu genießen. Heute bietet sie Workshops\, Retreats und Einzelcoaching an und greift dabei auf ihre beruflichen und persönlichen Erfahrungen zu Themen wie Grenzen\, Wut\, Sex\, Vergnügen\, Bindungsstile und transgenerationelle Traumata zurück.  \n//Anmeldung für Mitglieder unter event@sorority.at \n 
URL:https://www.femvents.at/event/theworkshop-erwecke-und-erforsche-deine-wutkraft/
LOCATION:sbase\, Herbeckstraße 67/1\, wien\, Wien\, 1180\, Austria
CATEGORIES:Coaching,Frauenkreis,Kurs,Wien,Workshop
ATTACH;FMTTYPE=image/jpeg:https://www.femvents.at/wp-content/uploads/2025/12/Kopie-von-FB-Header-Event-33.jpg
ORGANIZER;CN="THE%3ASorority":MAILTO:events@sorority.at
GEO:48.2322203;16.318681
X-APPLE-STRUCTURED-LOCATION;VALUE=URI;X-ADDRESS=sbase Herbeckstraße 67/1 wien Wien 1180 Austria;X-APPLE-RADIUS=500;X-TITLE=Herbeckstraße 67/1:geo:16.318681,48.2322203
END:VEVENT
BEGIN:VEVENT
DTSTART;TZID=Europe/Vienna:20260213T183000
DTEND;TZID=Europe/Vienna:20260213T210000
DTSTAMP:20260420T072347
CREATED:20260109T101739Z
LAST-MODIFIED:20260109T101739Z
UID:10000658-1771007400-1771016400@www.femvents.at
SUMMARY:Galentine’s Day Special: Bestie Date
DESCRIPTION:Freitag\, 13.02. | 18:30–21:00 | 89 € pro Duo \nGalentine’s Day ist der Tag vor Valentine’s Day. Er gehört nicht Paaren\, sondern Freundschaft\, Verbundenheit & euch selbst. \nDieser Abend ist für zwei Menschen\, die sich wirklich kennen: Besties. Schwestern. Soulfriends. \nWas euch erwartet: \n\nSelfportraitportrait-Moment zu zweit – ihr zeichnet euch gegenseitig (all levels welcome)\nBestärkende Karten mit Worten\, die nachwirken\nFreundschaftsarmbänder als Zeichen eurer Verbindung\nZeit\, die ihr nicht verplant\, sondern fühlt\n\nWarum Galentine’s Day?\nWeil wir uns selbst viel öfter so feiern dürfen\, wie es unsere beste Freundin ganz selbstverständlich tut.
URL:https://www.femvents.at/event/galentines-day-special-bestie-date/
LOCATION:liebestrunken I SELF LOVE CLUB\, Lederergasse 3\, Salzburg\, Salzburg\, 5020\, Austria
CATEGORIES:Frauenkreis,Salzburg
ATTACH;FMTTYPE=image/jpeg:https://www.femvents.at/wp-content/uploads/2026/01/DJ-NIght.jpg
ORGANIZER;CN="SELF LOVE CLUB @liebestrunken":MAILTO:hey@liebestrunken.com
GEO:47.802268;13.0445985
X-APPLE-STRUCTURED-LOCATION;VALUE=URI;X-ADDRESS=liebestrunken I SELF LOVE CLUB Lederergasse 3 Salzburg Salzburg 5020 Austria;X-APPLE-RADIUS=500;X-TITLE=Lederergasse 3:geo:13.0445985,47.802268
END:VEVENT
END:VCALENDAR