BEGIN:VCALENDAR
VERSION:2.0
PRODID:-//femvents.at - ECPv6.15.18//NONSGML v1.0//EN
CALSCALE:GREGORIAN
METHOD:PUBLISH
X-ORIGINAL-URL:https://www.femvents.at
X-WR-CALDESC:Veranstaltungen für femvents.at
REFRESH-INTERVAL;VALUE=DURATION:PT1H
X-Robots-Tag:noindex
X-PUBLISHED-TTL:PT1H
BEGIN:VTIMEZONE
TZID:Europe/Vienna
BEGIN:DAYLIGHT
TZOFFSETFROM:+0100
TZOFFSETTO:+0200
TZNAME:CEST
DTSTART:20250330T010000
END:DAYLIGHT
BEGIN:STANDARD
TZOFFSETFROM:+0200
TZOFFSETTO:+0100
TZNAME:CET
DTSTART:20251026T010000
END:STANDARD
BEGIN:DAYLIGHT
TZOFFSETFROM:+0100
TZOFFSETTO:+0200
TZNAME:CEST
DTSTART:20260329T010000
END:DAYLIGHT
BEGIN:STANDARD
TZOFFSETFROM:+0200
TZOFFSETTO:+0100
TZNAME:CET
DTSTART:20261025T010000
END:STANDARD
BEGIN:DAYLIGHT
TZOFFSETFROM:+0100
TZOFFSETTO:+0200
TZNAME:CEST
DTSTART:20270328T010000
END:DAYLIGHT
BEGIN:STANDARD
TZOFFSETFROM:+0200
TZOFFSETTO:+0100
TZNAME:CET
DTSTART:20271031T010000
END:STANDARD
END:VTIMEZONE
BEGIN:VEVENT
DTSTART;TZID=Europe/Vienna:20260215T120000
DTEND;TZID=Europe/Vienna:20260215T160000
DTSTAMP:20260420T072517
CREATED:20260203T094016Z
LAST-MODIFIED:20260203T094042Z
UID:10000754-1771156800-1771171200@www.femvents.at
SUMMARY:The Female Flow
DESCRIPTION:Ein nährender Raum für Frauen: sanfte Bewegung\, Zykluswissen\, Yin Yoga & Austausch – für mehr Verbindung\, Intuition und Selbstfürsorge. \n\n\n\n\nWas dich erwartet: \n\nGentle Yoga Flow\, Sinnlichkeit & Intuitive Bewegung\nZykluswissen & gesunde Gewohnheiten\nErfahrungen & Perspektiven\nYin Yoga Praxis zum Loslassen\nHerzöffnender Kakao\nNährendes Essen\, Snacks & Tee\nEin sicherer Raum unter Frauen\n\nÜber Divi & Mia \nMia ist Yoga Teacher & Space Holder. Sie bringt folgendes in den Raum mit: Meine Hingabe zum Yoga und meine tiefe Überzeugung von intuitiver\, weiblicher Bewegung. Meine Erfahrung mit Cyclce Syncing & Breathwork. (Meine Healingjourney und) mein persönlicher Weg zu mehr Selbstliebe und wie Affirmationen mich dabei unterstützen. Mein Lieblingsritual in der Lutealphase: wärmender Kakao. \n\nDivi Health & Nutrition Coach\, Spezialistin für Hormonbalance \nWas ich in diesen Raum mitbringe? \nWissen über den weiblichen Zyklus und Körpersignale für mehr Klarheit. Alltagstaugliche Gewohnheiten. Meine eigenen Erfahrungen & Perspektiven für mehr weibliche Verbindung. Orientierung auf dem Weg zur Perimenopause (35+). Kleine Tools\, die dir helfen\, ausgeglichen\, energiegeladen & im Flow zu bleiben.
URL:https://www.femvents.at/event/the-female-flow/
LOCATION:Wien\, wien\, Wien\, 1060\, Austria
CATEGORIES:Frauenkreis,Meditation,Wien,Workshop
ATTACH;FMTTYPE=image/png:https://www.femvents.at/wp-content/uploads/2025/06/femvents_eventbild.png
GEO:48.1945985;16.3504336
END:VEVENT
BEGIN:VEVENT
DTSTART;TZID=Europe/Vienna:20260215T190000
DTEND;TZID=Europe/Vienna:20260215T203000
DTSTAMP:20260420T072517
CREATED:20260130T145836Z
LAST-MODIFIED:20260130T145836Z
UID:10000735-1771182000-1771187400@www.femvents.at
SUMMARY:Female Motion Lab - Atemtechnik & Twists
DESCRIPTION:Female Motion Lab ist ein Raum für Frauen\, mit Bewegung\, ehrlichen Gesprächen und echter Verbindung. \nDer Fokus liegt auf Loslassen\, Durchatmen und innerer Bewegung. Eine ruhige\, gleichzeitig tiefgehende Yoga-Praxis\, die dein Nervensystem unterstützt und dich wieder näher zu dir bringt. \nDamit unsere Veranstaltungen für jede*n zugänglich sind\, läuft dieser Abend auf ehrlicher Spendenbasis (Richtwert: 8–15 €). \nKann vor Ort bar oder per PayPal gezahlt werden.
URL:https://www.femvents.at/event/female-motion-lab-atemtechnik-twists/
LOCATION:Irā Yoga Studio\, Brixner Str. 4\, Innsbruck\, Tirol\, 6020\, Austria
CATEGORIES:Frauenkreis,Meditation,Tirol
ATTACH;FMTTYPE=image/png:https://www.femvents.at/wp-content/uploads/2026/01/Female-Motion-Lab-1.png
GEO:47.2647518;11.3992359
X-APPLE-STRUCTURED-LOCATION;VALUE=URI;X-ADDRESS=Irā Yoga Studio Brixner Str. 4 Innsbruck Tirol 6020 Austria;X-APPLE-RADIUS=500;X-TITLE=Brixner Str. 4:geo:11.3992359,47.2647518
END:VEVENT
END:VCALENDAR