BEGIN:VCALENDAR
VERSION:2.0
PRODID:-//femvents.at - ECPv6.15.18//NONSGML v1.0//EN
CALSCALE:GREGORIAN
METHOD:PUBLISH
X-ORIGINAL-URL:https://www.femvents.at
X-WR-CALDESC:Veranstaltungen für femvents.at
REFRESH-INTERVAL;VALUE=DURATION:PT1H
X-Robots-Tag:noindex
X-PUBLISHED-TTL:PT1H
BEGIN:VTIMEZONE
TZID:Europe/Vienna
BEGIN:DAYLIGHT
TZOFFSETFROM:+0100
TZOFFSETTO:+0200
TZNAME:CEST
DTSTART:20250330T010000
END:DAYLIGHT
BEGIN:STANDARD
TZOFFSETFROM:+0200
TZOFFSETTO:+0100
TZNAME:CET
DTSTART:20251026T010000
END:STANDARD
BEGIN:DAYLIGHT
TZOFFSETFROM:+0100
TZOFFSETTO:+0200
TZNAME:CEST
DTSTART:20260329T010000
END:DAYLIGHT
BEGIN:STANDARD
TZOFFSETFROM:+0200
TZOFFSETTO:+0100
TZNAME:CET
DTSTART:20261025T010000
END:STANDARD
BEGIN:DAYLIGHT
TZOFFSETFROM:+0100
TZOFFSETTO:+0200
TZNAME:CEST
DTSTART:20270328T010000
END:DAYLIGHT
BEGIN:STANDARD
TZOFFSETFROM:+0200
TZOFFSETTO:+0100
TZNAME:CET
DTSTART:20271031T010000
END:STANDARD
END:VTIMEZONE
BEGIN:VEVENT
DTSTART;TZID=Europe/Vienna:20260218T170000
DTEND;TZID=Europe/Vienna:20260218T210000
DTSTAMP:20260420T054447
CREATED:20260126T181201Z
LAST-MODIFIED:20260126T181339Z
UID:10000710-1771434000-1771448400@www.femvents.at
SUMMARY:Heldinnenreise 45+
DESCRIPTION:Die Heldinnenreise 45+ ist ein inspirierendes Female-Event für alle Frauen\, die sich beruflich neu orientieren\, weiterentwickeln oder bewusst sichtbar werden wollen. Im Mittelpunkt stehen Mut\, Erfahrung und die klare Botschaft: Mit 45+ ist kein Ende erreicht – oft beginnt hier erst der erfüllendste Abschnitt. \nDas Programm verbindet Impulse aus Wirtschaft und Arbeitsmarkt\, interaktive Table Times mit 5 zentralen Zukunftsthemen sowie entspanntes Netzwerken auf Augenhöhe. Mit dabei sind u. a. Martha Schultz\, Präsidentin der WKO und Bundesvorsitzende von Frau in der Wirtschaft\, Petra Draxl (AMS)\, Elisa Aichinger (Deloitte Consulting) sowie zahlreiche Unternehmer*innen\, Expert*innen und Medienvertreter*innen. \nDie Heldinnenreise 45+ bietet Raum für Austausch\, neue Perspektiven und echte Begegnungen – für Frauen\, die ihren eigenen Weg gehen wollen. \n👉 Tickets & Infos im Ticketshop: www.deine-heldinnenreise.at
URL:https://www.femvents.at/event/heldinnenreise-45/
LOCATION:WKO – Wirtschaftskammer Österreich\, Wiedner Hauptstraße 63\, Wien\, Wien\, 1045\, Austria
CATEGORIES:Meetup,Netzwerk-Treffen,Wien
ATTACH;FMTTYPE=image/jpeg:https://www.femvents.at/wp-content/uploads/2026/01/Heldinnenreise-45-Sujet-2-1300x980px-©Carina-Felzmann_KI.jpg
ORGANIZER;CN="C.Felzmann Communication":MAILTO:office@carina-felzmann.com
GEO:48.1896901;16.3677553
X-APPLE-STRUCTURED-LOCATION;VALUE=URI;X-ADDRESS=WKO – Wirtschaftskammer Österreich Wiedner Hauptstraße 63 Wien Wien 1045 Austria;X-APPLE-RADIUS=500;X-TITLE=Wiedner Hauptstraße 63:geo:16.3677553,48.1896901
END:VEVENT
BEGIN:VEVENT
DTSTART;TZID=Europe/Vienna:20260218T183000
DTEND;TZID=Europe/Vienna:20260218T203000
DTSTAMP:20260420T054447
CREATED:20260128T111115Z
LAST-MODIFIED:20260128T111115Z
UID:10000713-1771439400-1771446600@www.femvents.at
SUMMARY:FRAU SEiN Seminar: Selbstmarketing im Wandel
DESCRIPTION:In diesem Workshop teilt Dr. Nina Wanek Erfahrungen aus Selbstständigkeit und Angestelltenwelt und gibt praktische Impulse zu: \n\nAuthentischer Selbstpräsentation\nSichtbarkeit im digitalen Raum\nVom Perfektionismus zu mutigem Auftreten\nPersönlicher Positionierung und Stärken\n\nIn interaktiven Übungen werden konkrete Schritte erarbeitet\, um selbstbewusst aufzutreten\, Ziele klar zu kommunizieren und die eigene Wirkung zu stärken – unabhängig vom beruflichen Umfeld. \nTerminanfrage unter:\nTel: 02822/2134020\nE-Mail: frausein@frau-ida.at \n\nÜber die Referentin \nDr. Nina Wanek ist Webdesignerin und Inhaberin der Grafikwald Webdesign Agentur.
URL:https://www.femvents.at/event/frau-sein-seminar-selbstmarketing-im-wandel/
LOCATION:FRAU iDA\, Hauptplatz 16\, Zwettl\, Niederösterreich\, 3910\, Austria
CATEGORIES:Niederösterreich,Workshop
ATTACH;FMTTYPE=image/jpeg:https://www.femvents.at/wp-content/uploads/2026/01/Logo-FRAU-SEiN.jpg
ORGANIZER;CN="FRAU iDA":MAILTO:office@frau-ida.at
GEO:48.6041614;15.167567
X-APPLE-STRUCTURED-LOCATION;VALUE=URI;X-ADDRESS=FRAU iDA Hauptplatz 16 Zwettl Niederösterreich 3910 Austria;X-APPLE-RADIUS=500;X-TITLE=Hauptplatz 16:geo:15.167567,48.6041614
END:VEVENT
BEGIN:VEVENT
DTSTART;TZID=Europe/Vienna:20260218T193000
DTEND;TZID=Europe/Vienna:20260218T210000
DTSTAMP:20260420T054447
CREATED:20260116T100637Z
LAST-MODIFIED:20260203T084842Z
UID:10000686-1771443000-1771448400@www.femvents.at
SUMMARY:Somatisches Yoga & Embodiment - vom Tun ins Sein
DESCRIPTION:Dein wöchentlicher Raum für dich\, wenn du dich nach Ruhe\, Erdung und Verbindung sehnst: \n\nsanfte Bewegung\nbewusstes Atmen & Präsenz\nkein Leistungsdruck\nZeit zum Spüren & Sein\n\nEin Teil der Stunde ist angeleitet\, ein Teil offen und intuitiv – damit du deinem eigenen Rhythmus folgen kannst. \nAktueller Kurs: 18.2.\, 25.2.\, 4.3.\, 11.3.\, 18.3.\, 25.3.\, 8.4.\, 15.4.\, 22.4.\, 29.4. + 2 Bonustermine 6.5.\, 13.5. (späterer Einstieg nach Absprache möglich) \nUhrzeit: 19:30 – 21 Uhr \nOrt: Pressbaum\, Wohnprojekt B.R.O.T. \nBeitrag: 180 € für 10 Einheiten\, 15€ Schnupper-Einheit 
URL:https://www.femvents.at/event/somatisches-yoga-embodiment-vom-tun-ins-sein/
LOCATION:3021 Pressbaum\, Haitzawinkel 11g\, Pressbaum\, Niederösterreich\, 3021\, Austria
CATEGORIES:Kurs,Niederösterreich
ATTACH;FMTTYPE=image/png:https://www.femvents.at/wp-content/uploads/2026/01/Yoga-Flyer-Kurs-Fruehling-2026-1.png
GEO:48.1848227;16.0592607
X-APPLE-STRUCTURED-LOCATION;VALUE=URI;X-ADDRESS=3021 Pressbaum Haitzawinkel 11g Pressbaum Niederösterreich 3021 Austria;X-APPLE-RADIUS=500;X-TITLE=Haitzawinkel 11g:geo:16.0592607,48.1848227
END:VEVENT
END:VCALENDAR