BEGIN:VCALENDAR
VERSION:2.0
PRODID:-//femvents.at - ECPv6.15.18//NONSGML v1.0//EN
CALSCALE:GREGORIAN
METHOD:PUBLISH
X-WR-CALNAME:femvents.at
X-ORIGINAL-URL:https://www.femvents.at
X-WR-CALDESC:Veranstaltungen für femvents.at
REFRESH-INTERVAL;VALUE=DURATION:PT1H
X-Robots-Tag:noindex
X-PUBLISHED-TTL:PT1H
BEGIN:VTIMEZONE
TZID:Europe/Vienna
BEGIN:DAYLIGHT
TZOFFSETFROM:+0100
TZOFFSETTO:+0200
TZNAME:CEST
DTSTART:20250330T010000
END:DAYLIGHT
BEGIN:STANDARD
TZOFFSETFROM:+0200
TZOFFSETTO:+0100
TZNAME:CET
DTSTART:20251026T010000
END:STANDARD
BEGIN:DAYLIGHT
TZOFFSETFROM:+0100
TZOFFSETTO:+0200
TZNAME:CEST
DTSTART:20260329T010000
END:DAYLIGHT
BEGIN:STANDARD
TZOFFSETFROM:+0200
TZOFFSETTO:+0100
TZNAME:CET
DTSTART:20261025T010000
END:STANDARD
BEGIN:DAYLIGHT
TZOFFSETFROM:+0100
TZOFFSETTO:+0200
TZNAME:CEST
DTSTART:20270328T010000
END:DAYLIGHT
BEGIN:STANDARD
TZOFFSETFROM:+0200
TZOFFSETTO:+0100
TZNAME:CET
DTSTART:20271031T010000
END:STANDARD
END:VTIMEZONE
BEGIN:VEVENT
DTSTART;TZID=Europe/Vienna:20260220T080000
DTEND;TZID=Europe/Vienna:20260220T170000
DTSTAMP:20260420T054542
CREATED:20260203T095829Z
LAST-MODIFIED:20260203T095829Z
UID:10000756-1771574400-1771606800@www.femvents.at
SUMMARY:Atemreisen in der Yoga Vila\, Rankweil
DESCRIPTION:Eine transformative Atemreise ist mehr als nur eine Atemübung – sie ist ein tiefgehendes Erlebnis\, das Körper\, Geist und Seele in Einklang bringt. Stell dir vor\, du begibst dich auf eine Reise nach innen\, bei der du durch bewusste Atmung zum jeweiligen Thema Blockaden löst\, emotionale Klarheit gewinnst und dich mit einer tiefen inneren Kraft verbindest. \nFreitag\, 20. Feb. 26 – „Raum deiner Sexualness“ \nJeweils 19 – 21.30 Uhr\, dein Beitrag: € 39\, Anmeldung nur über: www.eversports.at/e/class/qeZ0_wz
URL:https://www.femvents.at/event/atemreisen-in-der-yoga-vila-rankweil/
LOCATION:Rankweil\, Rankweil\, Austria
CATEGORIES:Salon13,Vorarlberg,Workshop
ATTACH;FMTTYPE=image/png:https://www.femvents.at/wp-content/uploads/2025/06/Badge.png
GEO:47.2707037;9.64293
END:VEVENT
BEGIN:VEVENT
DTSTART;TZID=Europe/Vienna:20260220T090000
DTEND;TZID=Europe/Vienna:20260220T130000
DTSTAMP:20260420T054542
CREATED:20260123T072013Z
LAST-MODIFIED:20260123T072306Z
UID:10000701-1771578000-1771592400@www.femvents.at
SUMMARY:Female Focus Fridays Teil 1: Psychologische Sicherheit im Team – Vertrauen statt Druck
DESCRIPTION:20. Februar 2026\, 09.00-13.00 Uhr\nFemale Focus Friday:\nPsychologische Sicherheit im Team – Vertrauen statt Druck\nInklusive Business-Brunch\nWarum psychologisch sichere Teams erfolgreicher sind \nIn einer Arbeitswelt\, die von Digitalisierung\, Veränderungsdruck und hoher Geschwindigkeit geprägt ist\, brauchen Teams Räume\, in denen Ideen\, Bedenken und Fehler offen angesprochen werden können. Fehlt dieses Vertrauen\, bleiben Potenziale ungenutzt: Menschen halten sich zurück\, Kreativität sinkt und Stress steigt. \nDieser Workshop zeigt\, wie Leaderinnen ein Arbeitsumfeld schaffen\, in dem Mut\, Innovation und ehrliche Kommunikation möglich werden. Sie erhalten sofort anwendbare Werkzeuge\, um psychologische Sicherheit gezielt zu stärken – für ein Teamklima\, das trägt\, inspiriert und Zusammenarbeit erleichtert. \nInhalte des Workshops \n\nWas psychologische Sicherheit bedeutet und warum sie entscheidend für erfolgreiche Zusammenarbeit ist\nWie Sie ein sicheres\, vertrauensvolles Umfeld modellieren\nFehlermanagement statt Schuldzuweisungen: konstruktiv und lösungsorientiert\nAktivierende Gesprächstechniken für offene Kommunikation\nPraktische Übungen zur Gestaltung von Safe Spaces und zur Konfliktprävention\nEin gemeinsamer Brunch rundet den Halbtag ab und bietet Möglichkeit zum Erfahrungsaustausch und Networking\n\n\nMethoden \n\nPraxisnahe Tools aus der Organisationspsychologie\, Moderationstechniken und systemischem Coaching\, sofort einsetzbar im Arbeitsalltag\nInteraktive Impulse\nGruppen-Reflexion\, Best Practices und Erfahrungsaustausch mit anderen\nSelbstreflexion und individuelles Aktions-Planning\n\n\nNutzen \n\nSie schaffen ein Klima\, in dem Ideen offener geteilt werden und Fehler als Lernchancen gelten\nSie erhöhen die Innovationskraft und Entscheidungsqualität Ihres Teams\nSie reduzieren Stress\, Angst und Fluktuation durch klare\, wertschätzende Kommunikation\nSie stärken Ihre Führungs- und Moderationskompetenz in herausfordernden Situationen\nSie nutzen die Vielfalt Ihres Teams gezielt für bessere Ergebnisse\nSie erhalten ein konkretes Werkzeug-Set\, das sich sofort in Meetings und Projekten anwenden lässt\n\n\nTermin \nFreitag\, 20. Februar\, 09.00-13.00 Uhr\ninspire Center Wien\nNeubaugasse 3/10\, 1070 Wien \n\nInfo:  \nDas Seminar ist Teil der Reihe „Female Focus Fridays“. Die Seminarreihe richtet sich an Frauen\, die sich beruflich und persönlich weiterentwickeln möchten. An drei Freitagen im Februar\, März und April 2026 bieten wir Halbtagesworkshop mit Impulsen zu psychologischer Sicherheit\, Resilienz und Zeit- & Selbstmanagement \nBegleitet von einem liebevoll vorbereiteten Brunch bieten die Female Focus Fridays eine Mischung aus fachlichem Tiefgang\, inspirierendem Austausch und echter Self Care – perfekt für Leaderinnen\, HR-Managerinnen\, Entscheiderinnen und Frauen\, die beruflich viel bewegen. \nWarum FEMALE Focus Fridays? \nViele Frauen bewegen im Arbeitsalltag enorm viel – sie führen Teams\, begleiten Prozesse\, bewältigen Herausforderungen und halten oft mehr zusammen\, als man sieht. Was dabei häufig fehlt\, ist Zeit für die eigene Weiterentwicklung. Die Female Focus Fridays laden dazu ein\, bewusst auszusteigen\, Kraft zu tanken und miteinander zu lernen: in einem sicheren Raum\, der Austausch\, Klarheit und Inspiration ermöglicht. \n\n\n\n\n\n\n\n\n\n\nDie Female Focus Fridays bieten dir: \n\nFokus auf deine Entwicklung – statt Dauerfunktionieren\nImpulse\, die Sicherheit\, Gelassenheit und Klarheit schenken\nEin Netzwerk gleichgesinnter Frauen\, das trägt und inspiriert\nEinen geschützten Rahmen\, in dem Austausch ehrlich sein darf\nTools\, die du in Beruf und Alltag nutzen kannst\n\n \n\n\n\n\n\n\nFördermöglichkeiten \nUnsere Female Focus Fridays sind berufliche Weiterbildungen\, die – abhängig von der individuellen Situation – über waff-Frauenförderprogramme finanziell unterstützt werden können. Gefördert werden Trainings zu Führung\, Kommunikation\, Resilienz und Zeitmanagement. Wir empfehlen eine persönliche Förderabklärung direkt beim waff. \n\n\n\n\n\n\n\n\n 
URL:https://www.femvents.at/event/female-focus-fridays-teil-1-psychologische-sicherheit-im-team-vertrauen-statt-druck/
LOCATION:Wien\, wien\, Wien\, 1060\, Austria
CATEGORIES:Wien,Workshop
ATTACH;FMTTYPE=image/jpeg:https://www.femvents.at/wp-content/uploads/2026/01/Female_Focus_Fridays_WAFF.jpg
ORGANIZER;CN="inspire GmbH":MAILTO:consulting@inspire-learning.com
GEO:48.1945985;16.3504336
END:VEVENT
BEGIN:VEVENT
DTSTART;TZID=Europe/Vienna:20260220T090000
DTEND;TZID=Europe/Vienna:20260220T160000
DTSTAMP:20260420T054542
CREATED:20260204T144246Z
LAST-MODIFIED:20260204T144246Z
UID:10000765-1771578000-1771603200@www.femvents.at
SUMMARY:FURORE PR-Workshop
DESCRIPTION:Mehr Sichtbarkeit für Frauen in den Medien! 🌟 \nDer FURORE PR-Workshop richtet sich an Frauen\, die mit ihrer Expertise sichtbar werden und ihre Themen selbstbewusst in die Öffentlichkeit bringen wollen. Ob Projekt\, Unternehmen oder persönliche Positionierung – wer gehört werden möchte\, braucht Klarheit\, Strategie und mediales Know-how. \nIn diesem Tagesworkshop lernst du\, wie Redaktionen denken\, wie du Journalist:innen gezielt ansprichst und wie aus deinen Themen Geschichten entstehen\, die veröffentlicht werden. Du erfährst\, wie du deine Botschaften wirkungsvoll platzierst – in TV\, Radio\, Podcast\, Print- und Online-Medien. \nZiel ist es\, deine Position als Expertin zu schärfen und dir das nötige Knowhow für deine eigene Medienarbeit mitzugeben. Am Ende des Tages hast du eine Strategie und weißt\, wie du die ersten Schritte gehst. \nDas nimmst du mit: \n\nEine klare PR-Strategie\, die zu dir und deinen Themen passt\nWissen\, wie du Journalist:innen professionell kontaktierst\nSicherheit bei der Auswahl relevanter Medien für deine Zielgruppe\nEntwicklung von starken Aufhängern für deine Geschichten\n\nEin Workshop für alle\, die nicht länger unsichtbar bleiben wollen! 
URL:https://www.femvents.at/event/furore-pr-workshop/
LOCATION:PARTERRE\, Reisnerstraße 14/1-2\, 1030 Wien\, PARTERRE\, Reisnerstraße 14/1-2\, Wien\, Wien\, 1030\, Austria
CATEGORIES:Wien,Workshop
ATTACH;FMTTYPE=image/jpeg:https://www.femvents.at/wp-content/uploads/2026/02/yogi_©JACKYZOE-15-scaled.jpg
ORGANIZER;CN="Julia Breitkopf":MAILTO:hallo@sorgfuerfurore.at
GEO:48.201471;16.38316
X-APPLE-STRUCTURED-LOCATION;VALUE=URI;X-ADDRESS=PARTERRE Reisnerstraße 14/1-2 1030 Wien PARTERRE Reisnerstraße 14/1-2 Wien Wien 1030 Austria;X-APPLE-RADIUS=500;X-TITLE=PARTERRE\, Reisnerstraße 14/1-2:geo:16.38316,48.201471
END:VEVENT
BEGIN:VEVENT
DTSTART;TZID=Europe/Vienna:20260220T100000
DTEND;TZID=Europe/Vienna:20260220T130000
DTSTAMP:20260420T054542
CREATED:20260115T104825Z
LAST-MODIFIED:20260115T104825Z
UID:10000680-1771581600-1771592400@www.femvents.at
SUMMARY:Brunch der selbstständigen Frauen – Ich schreib mir den Fokus für 2026!
DESCRIPTION:Ich schreib mir den Fokus für 2026!\nMutige Schreiblust für Business und Persönlichkeit\nWann: Freitag\, 20. Februar 2025\, ab 10:00 Uhr\nWo: Café Aigensinn\, Traunstraße 24\, 5026 Salzburg\nWer: Selbstständige Frauen\, Gründerinnen\, Unternehmerinnen & alle\, die sich schreibend neu ausrichten und ihren Fokus für 2026 klären möchten. \nMut beginnt im TUN\, auf den Weg machen. Als langjährige Beraterin und Coach singe ich ein Lied davon. Das Leben ist Veränderung und wie wir wissen\, die einzige Konstante. Purzeln Neujahrsvorsätze & Co gerade munter über Bord? Machen es sich die alten Gewohnheiten und Muster wieder gemütlich? Wo soll es für dich hingehen in diesem Jahr? Erfahre schreibend\, was dafür schon in dir steckt und erkunde mit mir\, wo es dich hinführt. Die notwendigen\, kraftvollen Schreib- und Gedankenimpulse dazu habe ich für dich im Gepäck. Dein Stift wird dir verraten\, was schon in dir schlummert und heuer möglicherweise zum Leben erweckt werden will. Schreiben zu den richtigen Themen klärt und gibt dir Fingerzeige\, wo deine Reise 2026 hingeht. Du wirst staunen\, was du da von dir zu lesen kriegst! \nEvelyn Hesch\, www.simplica.at \n© Evelyn Hesch\nWas erwartet dich?\n\nEin gemütlicher Vormittag bei leckerem Brunch im Café – Raum für Austausch mit Gleichgesinnten\nInspirierender Input von Evelyn Hesch\nNeue Perspektiven und Inspiration für Veränderung\n\nFür wen?\nFür dich\, wenn du selbstständig bist oder gerade gründest und dir schreibend Klarheit über deinen Weg\, deine Ziele und deinen Fokus für 2026 holen möchtest. \nAnmeldung & Teilnahme\nTeilnahme mit Brunch. Um Anmeldung wird gebeten unter office-sbg@gruenewirtschaft.at. Der Eintritt ist frei. \nWir freuen uns darauf\, mit dir gemeinsam einen stärkenden Vormittag zu verbringen – Austausch\, Essen\, Klarheit für dein Business
URL:https://www.femvents.at/event/brunch-der-selbststaendigen-frauen-ich-schreib-mir-den-fokus-fuer-2026/
LOCATION:Salzburg\, Aigner Straße 78\, 5026 Salzburg-Aigen\, Salzburg\, Salzburg\, 5026
ATTACH;FMTTYPE=image/jpeg:https://www.femvents.at/wp-content/uploads/2026/01/Evelyn-Hesch-Web-9401.jpg
GEO:47.516231;14.550072
X-APPLE-STRUCTURED-LOCATION;VALUE=URI;X-ADDRESS=Salzburg Aigner Straße 78 5026 Salzburg-Aigen Salzburg Salzburg 5026;X-APPLE-RADIUS=500;X-TITLE=Aigner Straße 78\, 5026 Salzburg-Aigen:geo:14.550072,47.516231
END:VEVENT
BEGIN:VEVENT
DTSTART;TZID=Europe/Vienna:20260220T163000
DTEND;TZID=Europe/Vienna:20260220T183000
DTSTAMP:20260420T054542
CREATED:20260216T083640Z
LAST-MODIFIED:20260216T083640Z
UID:10000819-1771605000-1771612200@www.femvents.at
SUMMARY:All about period
DESCRIPTION:Was passiert in unserem Körper – Monat für Monat? \nIm 4. Frauen-Workshop vermitteln wir Grundlagen zum weiblichen Zyklus und zur Menstruation\, sprechen über gesellschaftliche Tabus und lernen verschiedene Periodenprodukte kennen. Dazu gibt’s praktische Alltagstipps – mit dem Ziel\, Körperbewusstsein\, Selbstbestimmung und ein gutes Körpergefühl zu stärken. \nDer Workshop wird von Melli\, Gründerin von all about period. –  Wiens ersten Periodenladen\, geleitet. \nEin sicherer\, geschützter Raum für Austausch\, Fragen und Empowerment. \nWann: Freitag\, 20. Februar\, 16:30–18:30 Uhr \nWo: Bezirksmuseum Mariahilf\, Mollardgasse 8\, 1060 Wien \nVon Frauen für Frauen – kostenlos\, gefördert durch die Wiener Gesundheitsförderung – WiG im Rahmen des Programms „Gesunde Bezirke“. \nAnmeldung per E-Mail: caroline.huber@start-with-a-friend.at
URL:https://www.femvents.at/event/all-about-period/
LOCATION:Bezirksmuseum Mariahilf\, Mollardgasse 8\, Wien\, wien\, 1060\, Austria
CATEGORIES:Wien
ATTACH;FMTTYPE=image/png:https://www.femvents.at/wp-content/uploads/2026/02/inbound6688203881287950.png
ORGANIZER;CN="Start with a Friend Austria":MAILTO:wien@start-with-a-friend.at
GEO:48.1935527;16.3523476
X-APPLE-STRUCTURED-LOCATION;VALUE=URI;X-ADDRESS=Bezirksmuseum Mariahilf Mollardgasse 8 Wien wien 1060 Austria;X-APPLE-RADIUS=500;X-TITLE=Mollardgasse 8:geo:16.3523476,48.1935527
END:VEVENT
BEGIN:VEVENT
DTSTART;TZID=Europe/Vienna:20260220T190000
DTEND;TZID=Europe/Vienna:20260220T203000
DTSTAMP:20260420T054542
CREATED:20260203T184722Z
LAST-MODIFIED:20260203T184722Z
UID:10000761-1771614000-1771619400@www.femvents.at
SUMMARY:KLANGWOLKE - Singkreis
DESCRIPTION:Die Idee hinter der Klangwolke ist weniger die Perfektion des Gesangs sondern vielmehr eine herzerwärmende Gemeinschaft\, die Freude am Singen und aber auch die Erlaubnis des einfachen Lauschens und Genießens. \nManchmal kommen wir auch in den Genuss\, dass uns die Geschichtenweberin Bettina besucht und tiefgründige Geschichten mit uns teilt. \nEine Anmeldung ist erforderlich\, da die Plätze begrenzt sind. \nWir freuen uns auf Euch!! \nPetra & Madeline
URL:https://www.femvents.at/event/klangwolke-singkreis/
LOCATION:Schnaufpause\, Salzburgerstraße 15a\, 5204 Straßwalchen\, Salzburgerstraße 15a\, 5204 Straßwalchen\, 5204 Straßwalchen\, Salzburg\, 5204\, Austria
CATEGORIES:Salzburg
ATTACH;FMTTYPE=image/png:https://www.femvents.at/wp-content/uploads/2026/02/KlangWolke-Flyer-A4-1.png
ORGANIZER;CN="Petra Nagel":MAILTO:cranio@petra-nagel.at
GEO:47.9773347;13.2541305
X-APPLE-STRUCTURED-LOCATION;VALUE=URI;X-ADDRESS=Schnaufpause Salzburgerstraße 15a 5204 Straßwalchen Salzburgerstraße 15a 5204 Straßwalchen 5204 Straßwalchen Salzburg 5204 Austria;X-APPLE-RADIUS=500;X-TITLE=Salzburgerstraße 15a\, 5204 Straßwalchen:geo:13.2541305,47.9773347
END:VEVENT
END:VCALENDAR