BEGIN:VCALENDAR
VERSION:2.0
PRODID:-//femvents.at - ECPv6.15.18//NONSGML v1.0//EN
CALSCALE:GREGORIAN
METHOD:PUBLISH
X-ORIGINAL-URL:https://www.femvents.at
X-WR-CALDESC:Veranstaltungen für femvents.at
REFRESH-INTERVAL;VALUE=DURATION:PT1H
X-Robots-Tag:noindex
X-PUBLISHED-TTL:PT1H
BEGIN:VTIMEZONE
TZID:Europe/Vienna
BEGIN:DAYLIGHT
TZOFFSETFROM:+0100
TZOFFSETTO:+0200
TZNAME:CEST
DTSTART:20250330T010000
END:DAYLIGHT
BEGIN:STANDARD
TZOFFSETFROM:+0200
TZOFFSETTO:+0100
TZNAME:CET
DTSTART:20251026T010000
END:STANDARD
BEGIN:DAYLIGHT
TZOFFSETFROM:+0100
TZOFFSETTO:+0200
TZNAME:CEST
DTSTART:20260329T010000
END:DAYLIGHT
BEGIN:STANDARD
TZOFFSETFROM:+0200
TZOFFSETTO:+0100
TZNAME:CET
DTSTART:20261025T010000
END:STANDARD
BEGIN:DAYLIGHT
TZOFFSETFROM:+0100
TZOFFSETTO:+0200
TZNAME:CEST
DTSTART:20270328T010000
END:DAYLIGHT
BEGIN:STANDARD
TZOFFSETFROM:+0200
TZOFFSETTO:+0100
TZNAME:CET
DTSTART:20271031T010000
END:STANDARD
END:VTIMEZONE
BEGIN:VEVENT
DTSTART;VALUE=DATE:20260223
DTEND;VALUE=DATE:20260226
DTSTAMP:20260420T021856
CREATED:20260211T084113Z
LAST-MODIFIED:20260211T084113Z
UID:10000805-1771804800-1772063999@www.femvents.at
SUMMARY:3 Day Career & Clarity Retreat - Female Leadership in Austria
DESCRIPTION:3 Tage für deine Karriere\, dein Leben\, deinen nächsten Schritt – für dich. \nZeit zum Innehalten\, Klarwerden und konkret Weitergehen. Ohne Unterbrechung\, ohne Ablenkung aber mit professioneller Unterstützung \nReflexion. Austausch. Struktur. Unterstützung. \nEin Retreat für Frauen\, die ihren nächste beruflichen und persönlichen Schritte bewusst gestalten möchten\, ihr Potenzial erkennen und nutzen wollen und sich und andere weiterbringen möchten. \nKlar denken\, Prioritäten schärfen\, Selbstführung stärken\, begleitet von Nina Bauregger\, die über 20 Jahre internationale Konzernerfahrung mitbringt. \nEs ist Zeit\, dir Raum zu nehmen. \nDamit du bekommst\, was dir zusteht\, was du möchtest\, was du verdienst. \nDazu: Ruhe\, Natur\, Spa\, Yoga und Verwöhnt werden im Hotel Post Bezau.
URL:https://www.femvents.at/event/3-day-career-clarity-retreat-female-leadership-in-austria/
LOCATION:Hotel Post Bezau\, Brugg 35\, Bezau im Bregenzerwald\, Vorarlberg\, 6870\, Austria
CATEGORIES:Retreat
ATTACH;FMTTYPE=image/png:https://www.femvents.at/wp-content/uploads/2026/02/screenshot-2025-10-28-at-163424.png
GEO:47.3829553;9.8996354
X-APPLE-STRUCTURED-LOCATION;VALUE=URI;X-ADDRESS=Hotel Post Bezau Brugg 35 Bezau im Bregenzerwald Vorarlberg 6870 Austria;X-APPLE-RADIUS=500;X-TITLE=Brugg 35:geo:9.8996354,47.3829553
END:VEVENT
BEGIN:VEVENT
DTSTART;TZID=Europe/Vienna:20260223T160000
DTEND;TZID=Europe/Vienna:20260223T210000
DTSTAMP:20260420T021856
CREATED:20260203T090509Z
LAST-MODIFIED:20260203T090509Z
UID:10000750-1771862400-1771880400@www.femvents.at
SUMMARY:FEMALE BUSINESS FORCE - Auftakt
DESCRIPTION:Sichtbar. Vernetzt. Stark. \nMit der Female Business Force – Chiemgau schaffen wir einen Raum für Frauen\, die Wirtschaft und Zukunft aktiv mitgestalten. Unternehmerinnen\, Gründerinnen und Frauen in Führungsrollen kommen zusammen\, um sich auszutauschen\, voneinander zu lernen und sich auf Augenhöhe zu vernetzen. \nBeim Auftakt-Event am 23. Februar bringen wir Impulsgeberinnen aus unterschiedlichen Branchen und Führungsrollen an einen Tisch. Im Fokus stehen persönliche Perspektiven aus Familienunternehmen\, Forschung\, Hospitality\, Digitalwirtschaft und Start-ups – ehrlich\, nahbar und ohne klassische Bühnenformate. \nDer Nachmittag ist bewusst kompakt und familienfreundlich gestaltet\, sodass Inspiration\, Austausch und Vernetzung Raum haben und dennoch gut mit dem Alltag vereinbar bleiben. \nAgenda\n16:30 Uhr | Meet & Welcome (Doors Open)\nAnkommen\, Kennenlernen und erste Vernetzung. \n17:10 Uhr | Welcome & Opening durch Moni Harlinghausen-Smith \n17:10 – 18:00 Uhr | Moderiertes Gespräch\nImpulse und Perspektiven der Impulsgeberinnen\, moderiert und offen für unterschiedliche Blickwinkel. \n18:00 – 18:15 Uhr | Pause \n18:15 – 18:45 Uhr | World Café / Round Tables\nDirekter Austausch: Jede Impulsgeberin erhält einen Stehtisch. Die Gäste können rotieren\, Fragen stellen und Gespräche vertiefen. \nab 18:45 Uhr | Ausklang\nOffenes Netzwerken und Gespräche.\nEnde gegen 19:00 Uhr. \nImpulsgeberinnen\n\nIna Fuchshuber\, Professorin TH Rosenheim\nAnnabell Pichler\, Geschäftsführerin HELDs’ Vitalhotel Ruhpolding\nBirgit Sailer\, Chefin Hofbräuhaus Traunstein\nSusanne Trojer\, Standort und Fabrikleitung Kochen Traunreut\, BSH Hausgeräte GmbH\n\nHost\n\nMoni Harlinghausen-Smith\n\nEin Welcome Drink\, frisches Quellwasser sowie kleine Snacks sind im Ticketpreis enthalten.\nInfos zur Parksituation\nDie Parkmöglichkeiten am Hof sind begrenzt. Wir bitten euch\, Fahrgemeinschaften zu bilden oder auf die umliegenden Wanderparkplätze auszuweichen (ca. 3 Minuten Fußweg). \nHinweis\nAuf der Veranstaltung werden Foto- und Videoaufnahmen gemacht. Diese können zur Dokumentation sowie für unsere Öffentlichkeitsarbeit (z. B. Website\, Social Media) verwendet werden. \nWir freuen uns auf einen inspirierenden Auftakt\, ehrliche Gespräche und darauf\, gemeinsam neue Verbindungen zu schaffen.
URL:https://www.femvents.at/event/female-business-force-auftakt/
LOCATION:WANDL Klausmeisterhof\, Ruhpolding\, Germany
CATEGORIES:Netzwerk-Treffen,Salzburg
ATTACH;FMTTYPE=image/webp:https://www.femvents.at/wp-content/uploads/2026/02/female-business-force.webp
GEO:47.760778;12.6497321
END:VEVENT
BEGIN:VEVENT
DTSTART;TZID=Europe/Vienna:20260223T170000
DTEND;TZID=Europe/Vienna:20260223T180000
DTSTAMP:20260420T021856
CREATED:20260112T094426Z
LAST-MODIFIED:20260112T094458Z
UID:10000674-1771866000-1771869600@www.femvents.at
SUMMARY:Fokus statt Feuerlöschen – Alltag und Zeit souverän managen
DESCRIPTION:Career Session mit Maren Wölfl: Fokus statt Feuerlöschen – Alltag und Zeit souverän managen \nSeid dabei bei der Webinar-Serie Career Sessions. Inhaltlich gehen wir auf wichtige Themen für die Karriere von Frauen ein. Die Career Session am Montag\, 23. Februar um 17:00 findet mit Female-Leadership-Expertin Maren Wölfl zum Thema „Fokus statt Feuerlöschen: Alltag und Zeit souverän managen“ statt. \nViele Menschen laufen in ihrem Hamsterrad\, fühlen sich fremdbestimmt und merken gar nicht\, wie das Schritttempo immer schneller wird. Bei manchen verschwimmen sogar die Sprossen beim Laufen – ein Zeichen dafür\, wie sehr sie getrieben sind. Jetzt ist Schluss damit. Wir steigen gedanklich aus diesem verrückten Laufstall aus und suchen neue Strategien und Tools für den Alltag. \n\nDatum: 23. Februar\nUhrzeit: 17:00 – 18:30\nOrt: Online\, Zoom\n\nZum Inhalt:\nIn dieser Career Session erhaltet ihr mehr Klarheit\, Struktur und Souveränität für den (Arbeits-)Alltag. Statt ständig auf neue Anforderungen zu reagieren\, lernt ihr\, proaktiv zu handeln\, Prioritäten klar zu setzen und euren Tag bewusst zu gestalten. Denn wahre Führung beginnt bei sich selbst – ihr solltet die Chefin eures Kalenders und eures Alltags sein. \nMit praktischen Tools\, inspirierenden Beispielen und reflektierenden Übungen zeigt Maren Wölfl\, wie euer Alltag wirklich gut gelingen kann – mit mehr Fokus\, weniger Stress und deutlich größerer Wirksamkeit. \nDas erwartet euch:\n\nIdentifikation der aktuellen Zeit- und Energiefresser\nDie Gründe und der persönliche Preis des Feuerlöschens – und die Konsequenzen\nManagement eurer Energie und Fokus auf das wirklich Wichtige\nTools für den Alltag wie Grenzen setzen\, Umgang mit eurem Terminkalender und klaren Prioritäten\nInnere Klarheit und Fokus für mehr Wirksamkeit\nArbeit mit der persönlichen NOT-TO-DO-Liste\n\nDiese Session ist für alle Frauen\, die sich selbst gut führen wollen – mit weniger Stress\, Druck und Fremdbestimmung. Es geht um Fokus\, Haltung und innere Klarheit für einen leichteren\, selbstbestimmten Alltag. \nAnmeldung:\nJetzt kostenlos anmelden. Meldet euch bis 31. Januar kostenlos zu dieser Career Session an – bevor unser neuer Career Campus offiziell gelauncht wird! Ab dem Launch kostet die Teilnahme 29 € pro Session. \nTipp: Mit der sheconomy Community Membership um nur 99 € pro Jahr ist eure Teilnahme bei allen Career Sessions inkludiert – plus 4 x Printmagazin & E-Paper und she Event Fixplatz in AT oder DE. Jetzt Mitglied in der sheconomy Community werden.  \nZur Referentin:\nMaren Wölfl ist Unternehmerin des Jahres\, LinkedIn Influencerin und Expertin für Female Leadership. Als eine der führenden Stimmen in Österreich für Frauen in Führung begleitet sie seit vielen Jahren Unternehmen und Leaderinnen. Ihr zweites Buch erscheint im Mai 2025 mit dem Titel: Ein FEMALE WAKE-UP CALL \nFotocredit: Nicole Stessl
URL:https://www.femvents.at/event/fokus-statt-feuerloeschen-alltag-und-zeit-souveraen-managen/
LOCATION:Online-Event\, Austria
CATEGORIES:Online-Event
ATTACH;FMTTYPE=image/png:https://www.femvents.at/wp-content/uploads/2026/01/Career-Session-mit-Maren-Woelfl.png
GEO:47.516231;14.550072
END:VEVENT
BEGIN:VEVENT
DTSTART;TZID=Europe/Vienna:20260223T190000
DTEND;TZID=Europe/Vienna:20260223T203000
DTSTAMP:20260420T021856
CREATED:20260130T145817Z
LAST-MODIFIED:20260130T145817Z
UID:10000736-1771873200-1771878600@www.femvents.at
SUMMARY:Titten Treff - Zyklusbasierte Ernährung
DESCRIPTION:Beim Tittentreff – Zyklusbasierte Ernährung schaffen wir Raum für ehrliche Gespräche rund um den weiblichen Zyklus. \nWir sprechen über zyklusbasierte Ernährung: Was braucht der Körper in den verschiedenen Zyklusphasen? Und wie kann Ernährung unterstützen\, ohne zusätzlichen Druck zu erzeugen? \nEin Abend zum Zuhören\, Teilen und Verstehen\, ohne Scham\, ohne Druck\, dafür mit Wärme\, Offenheit und Verbindung. \nWir freuen uns auf dich!
URL:https://www.femvents.at/event/titten-treff-zyklusbasierte-ernaehrung/
LOCATION:Bäckerei Kulturbackstube\, Dreiheiligenstraße 21a\, Innsbruck\, Tirol\, 6020\, Austria
CATEGORIES:Frauenkreis,Tirol
ATTACH;FMTTYPE=image/png:https://www.femvents.at/wp-content/uploads/2026/01/Titten-Treff-Bild.png
GEO:47.2687864;11.4049937
X-APPLE-STRUCTURED-LOCATION;VALUE=URI;X-ADDRESS=Bäckerei Kulturbackstube Dreiheiligenstraße 21a Innsbruck Tirol 6020 Austria;X-APPLE-RADIUS=500;X-TITLE=Dreiheiligenstraße 21a:geo:11.4049937,47.2687864
END:VEVENT
END:VCALENDAR