BEGIN:VCALENDAR
VERSION:2.0
PRODID:-//femvents.at - ECPv6.15.18//NONSGML v1.0//EN
CALSCALE:GREGORIAN
METHOD:PUBLISH
X-WR-CALNAME:femvents.at
X-ORIGINAL-URL:https://www.femvents.at
X-WR-CALDESC:Veranstaltungen für femvents.at
REFRESH-INTERVAL;VALUE=DURATION:PT1H
X-Robots-Tag:noindex
X-PUBLISHED-TTL:PT1H
BEGIN:VTIMEZONE
TZID:Europe/Vienna
BEGIN:DAYLIGHT
TZOFFSETFROM:+0100
TZOFFSETTO:+0200
TZNAME:CEST
DTSTART:20250330T010000
END:DAYLIGHT
BEGIN:STANDARD
TZOFFSETFROM:+0200
TZOFFSETTO:+0100
TZNAME:CET
DTSTART:20251026T010000
END:STANDARD
BEGIN:DAYLIGHT
TZOFFSETFROM:+0100
TZOFFSETTO:+0200
TZNAME:CEST
DTSTART:20260329T010000
END:DAYLIGHT
BEGIN:STANDARD
TZOFFSETFROM:+0200
TZOFFSETTO:+0100
TZNAME:CET
DTSTART:20261025T010000
END:STANDARD
BEGIN:DAYLIGHT
TZOFFSETFROM:+0100
TZOFFSETTO:+0200
TZNAME:CEST
DTSTART:20270328T010000
END:DAYLIGHT
BEGIN:STANDARD
TZOFFSETFROM:+0200
TZOFFSETTO:+0100
TZNAME:CET
DTSTART:20271031T010000
END:STANDARD
END:VTIMEZONE
BEGIN:VEVENT
DTSTART;VALUE=DATE:20260226
DTEND;VALUE=DATE:20260302
DTSTAMP:20260420T021647
CREATED:20260109T092233Z
LAST-MODIFIED:20260109T092233Z
UID:10000651-1772064000-1772409599@www.femvents.at
SUMMARY:Yoga & Astrologie Retreat am Weissensee
DESCRIPTION:Dieses Retreat schenkt dir eine Auszeit vom Alltag\, um dich bewusst von Altem zu lösen\, innezuhalten und mit neuer Leichtigkeit ins Jahr 2026 zu starten.\nInmitten der winterlichen Natur des Weissensees begleiten dich achtsame Yogaeinheiten\, Meditation und Atemarbeit sowie inspirierende astrologische Impulse. Im Mittelpunkt des Retreats steht die tägliche Yogapraxis\, die dich auf allen Ebenen begleitet: \nAktivierende Hatha & Vinyasa Yoga Einheiten am Morgen geben dir Kraft und neue Energie. Atemarbeit und Meditation schenken dir Zentrierung\, Gelassenheit und einen klaren Blick nach innen. Abends führen dich Yin Yoga und Yoga Nidra in tiefe Entspannung und unterstützen dich im Prozess des Loslassens. Du bekommst Raum\, in deine Yogapraxis einzutauchen\, dich mit dir selbst zu verbinden und Kraft für deinen Alltag zu tanken. So entsteht ein harmonischer Prozess aus Loslassen\, Aufblühen & Integration. \nEin besonderes Highlight bildet der Astrologie-Workshop mit Astrologin Herta Schloffer. Hier erhältst du eine Einführung in die Grundlagen der Astrologie\, erfährst mehr über Tierkreiszeichen und die Bedeutung der jeweiligen Häuser und bekommst einen Überblick über die wichtigsten Transite und Highlights des Jahres 2026. Jede:r Teilnehmer:in erhält ein individuelles Geburtshoroskop in ausgedruckter Form\, als Inspiration und Begleiter. \nNeben den Einheiten bleibt genügend Zeit\, um die winterliche Stille am Weissensee zu genießen\, dich im See Spa zu entspannen oder dich bei einer wohltuenden Nuad Thai Yoga Bodywork Behandlung verwöhnen zu lassen. \nFür wen ist dieses Retreat geeignet?\nDas „Release & Rise“ Yogaretreat eignet sich besonders für dich\, wenn du: \n\ndir eine bewusste Auszeit vom Alltag schenken möchtest\, um zu entschleunigen\, loszulassen und neue Energie zu tanken.\ndurch Yoga\, Meditation und Atemarbeit mehr bei dir selbst ankommen willst – egal ob Anfänger:in oder mit Vorerfahrung.\noffen bist für neue Impulse und erfahren möchtest\, wie astrologische Zyklen dich dabei unterstützen können\, bewusst loszulassen und mit Vertrauen in neue Jahr zu starten.\ngerne in der Natur & Stille zur Ruhe kommen möchtest und dich nach Regeneration sehnst.\n\nProgrammablauf:\nDonnerstag: \n\n16:30 – 18:15: Gentle Yoga | Intention Setting | Sanfte Yogapraxis zum Ankommen\, Erdung & Setzen deiner Intention für das Retreat\n\nFreitag: \n\n7:30 – 09:00: Hatha Yoga | Awaken & Align | Aktivierende Praxis\, die dir Energie\, Kraft & Klarheit für den Tag schenkt\n14:30 – 16:00: Astrologie-Workshop mit Herta Schloffer\n16:30 – 18:00: Yin Yoga | Deep Release Yogapraxis zum Loslassen\, Entspannen & Integrieren\n\nSamstag: \n\n07:45 – 09:15: Vinyasa Flow | Strength & Clarity | Dynamische Yogapraxis für innere Stabilität\, Balance & Vitalität\n13:00 – 14:00: Pranayama & Meditation | Calm & Center | Atemarbeit & Meditation für Zentrierung\, Gelassenheit & Klarheit\n17:00 – 18:15: Yin Yoga & Yoga Nidra | Dream & Release | Tiefes Loslassen\, Hingabe & Integration – eine Reise in die Stille\n\nSonntag: \n\n07:30 – 09:00: Hatha Yoga | Heart Wide Open | Yogapraxis für ein offenes Herz & klarer Ausrichtung für deinen Start ins Jahr 2026.\n\nPreis Yogapauschale & Hotel inkl. Halbpension:  \n€ 333 p.P. (inkl. allen Yogaeinheiten\, Astrologie-Workshop & Geburtshoroskop) \nDer Seminarpreis kann auch bequem in 3 Raten zu je € 111 bezahlt werden.\nOptional können eine individuelle astrologische Beratung sowie eine Nuad Thai Yoga Bodywork Behandlung im Rahmen des Retreats dazugebucht werden – Termine nach Vereinbarung. \nBuchung und weitere Informationen unter:\nwww.timnayogaandsoul.com\, timna.yogaandsoul@hotmail.com oder +43 660 691 50 46. \nPreis Hotel:\nDoppelzimmer zur Einzelbelegung € 180 pro Nacht\nDoppelzimmer bei Doppelbelegung € 150 pro Person und Nacht\ninklusive Halbpension\nOrtstaxe und Mobilitätsabgabe extra \nBuche dein Zimmer nach deiner Reservierung bei Timna\nvia E-Mail an info@strandhotel-weissensee.at oder telefonisch unter +43 4713 2219.
URL:https://www.femvents.at/event/yoga-astrologie-retreat-am-weissensee/
LOCATION:Strandhotel am Weissensee\, Neusach 18\, 9762 Weissensee\, Kärnten\, 9762 Weissensee\, Austria
CATEGORIES:Meditation,Österreichweit,Retreat,Soundhealing,Workshop
ATTACH;FMTTYPE=image/jpeg:https://www.femvents.at/wp-content/uploads/2026/01/Timna-Retreat-Weissensee-2025-158_websize.jpg
ORGANIZER;CN="Timna Tengg":MAILTO:timna.yogaandsoul@hotmail.com
GEO:46.7168392;13.3060805
X-APPLE-STRUCTURED-LOCATION;VALUE=URI;X-ADDRESS=Strandhotel am Weissensee Neusach 18 9762 Weissensee Kärnten 9762 Weissensee Austria;X-APPLE-RADIUS=500;X-TITLE=Neusach 18:geo:13.3060805,46.7168392
END:VEVENT
BEGIN:VEVENT
DTSTART;VALUE=DATE:20260227
DTEND;VALUE=DATE:20260302
DTSTAMP:20260420T021647
CREATED:20260109T102733Z
LAST-MODIFIED:20260109T102733Z
UID:10000662-1772150400-1772409599@www.femvents.at
SUMMARY:Lehrgang Selbstliebe-Trainerin im Seminar
DESCRIPTION:Werde Selbstliebe-Trainerin und verändere (dein) Leben\n\n\n\n\nWir sind überzeugt: Du kannst nur so tief mit anderen gehen\, wie du selbst gegangen bist. \n\n\nViele Ausbildungen lehren Theorien – aber Transformation passiert in dir. Unser Zertifikat-Lehrgang führt dich durch deine eigene Veränderung\, bevor du sie an andere weitergibst. Denn du kannst Selbstliebe nicht nur erklären. Du musst sie selbst erleben. \nDiese Ausbildung ist für dich\, wenn du nicht nur Impulse geben möchtest\, sondern echte Veränderung begleiten willst … bei dir selbst und in anderen. Wenn du nicht nur über Selbstliebe sprechen möchtest\, sondern sie in jeder Zelle deines Körpers spüren willst\, um als Wegweiser für andere zu dienen. Wenn du bereit bist\, tief zu gehen – in dein eigenes Erleben\, in deine Blockaden und in dein persönliches Wachstum. Denn nur wer diesen Weg selbst geht\, kann ihn auch für andere öffnen und sie auf ihrer Reise zu wahrer Selbstliebe begleiten. \nUnsere Ausbildung bietet dir die Möglichkeit\, dich nicht nur weiterzuentwickeln\, sondern Menschen mit einer hochwertigen\, fundierten Methodik und tiefgreifendem Wissen zu begleiten. Du wirst lernen\, wie du Selbstliebe nicht nur verstehst\, sondern sie als lebensverändernde Kraft erlebst und weitergibst.
URL:https://www.femvents.at/event/lehrgang-selbstliebe-trainerin-im-seminar/
LOCATION:liebestrunken I SELF LOVE CLUB\, Lederergasse 3\, Salzburg\, Salzburg\, 5020\, Austria
CATEGORIES:Salzburg
ATTACH;FMTTYPE=image/jpeg:https://www.femvents.at/wp-content/uploads/2026/01/K2_9706-scaled.jpg
ORGANIZER;CN="SELF LOVE CLUB @liebestrunken":MAILTO:hey@liebestrunken.com
GEO:47.802268;13.0445985
X-APPLE-STRUCTURED-LOCATION;VALUE=URI;X-ADDRESS=liebestrunken I SELF LOVE CLUB Lederergasse 3 Salzburg Salzburg 5020 Austria;X-APPLE-RADIUS=500;X-TITLE=Lederergasse 3:geo:13.0445985,47.802268
END:VEVENT
BEGIN:VEVENT
DTSTART;TZID=Europe/Vienna:20260227T140000
DTEND;TZID=Europe/Vienna:20260301T160000
DTSTAMP:20260420T021647
CREATED:20251003T055424Z
LAST-MODIFIED:20251003T055424Z
UID:10000348-1772200800-1772380800@www.femvents.at
SUMMARY:Transformationstage am Sternstein
DESCRIPTION:Transformationstage am Sternstein: „Schreib deine Geschichte NEU“\nVon der Ohnmacht in die Eigenmacht\n\n\n\n\nEs geht um einen Wandel – um einen Identitäts-Shift. Wir werden mit Schreibtools\, Meditationen und Embodiment Tools dein altes ICH abstreifen und ins Tun kommen. \nRaus aus dem Gefühl der Ohnmacht in die Eigenermächtigung. Die Themen: „ich komme zu kurz\, ich bin nicht gut genug\, ich funktioniere nur\, ich habe keine Zeit für meine Bedürfnisse\,  ich weiß nicht was ich will…. “ werden transformiert. \nWarum sind diese Tage genau richtig für dich: \n\nWeil dich eine Sehnsucht antreibt\, aber irgendetwas dich zurückhält oder blockiert\nWeil du Verstrickungsmuster der Familie hinter dir lassen möchtest\nWeil du dein Herzensprojekt finden möchtest und in die Schöpferkraft kommen möchtest\nWeil du weißt\, dass du Meister der Ablenkung bist und diese Mauer durchbrechen möchtest\nWeil du deiner Selbstsabotage auf die Schliche kommen möchtest\nWeil es nicht die äußeren Umstände sind\, die dich festhalten sondern dein inneres Script –Und darum ist es JETZT Zeit deine Geschichte NEU zu schreiben.\nWeil du deine neue Geschichte dann vor Ort ausagierst in der Gruppe und weil dass eine enorme Sogkraft hat für das neue. Ja\, wir feiern auch am Ende das neue und jubeln uns zu und beantworten uns die Frage\, wie wir das geschafft haben.\n\nErkenne an diesem Wochenende deine unbewussten Themen und sie verlieren die Macht über dich. Wir schreiben deine Geschichte mit Journaling Tools neu und dein neues ICH wird geboren. \n\n\nDie Kosten belaufen sich auf 750 Euro pro Person für 3 Tage inklusive Pausenverpflegung und Raummiete und einer kostenlosen „Close the Gap“ Balance bei mir\, ca. 2 Wochen nach dem Wochenende! \nIm Package enthalten sind: \n\nBegleitung in der Kleingruppe mit max. 6 Personen\n1 wunderschönes Journal als Geschenk\nMeditationen für deine Neuausrichtung\nSchattenarbeit\nTao Win – Was ist dein Herzenswunsch?\nSeelencollage (inkl. Material)\nJournaling Tools für deine Transformation\nTreffen mit deinem „Best Possible Future Self“\nInterview Tool\nEmbodiment Tools & Tanz\nWandern mit Schreibtools in der Natur\nEisbaden im Naturpool der Waldschenke\n4 wöchiges After Care Programm nach dem Wochenende mit Buddy Programm\n1:1 Close the Gap – Session bei mir im Wert von 110 Euro (2 Wochen nach dem WE)\nZimmer ist NICHT enthalten und selbst in der Waldschenke zu buchen.\n\n Termin: \n\nTermin: 27.2. bis 1.3.2026\nim Gasthof Waldschenke am Sternstein in Bad Leonfelden\nFreitag 14 bis 18 Uhr\, Samstag 10 bis 18 Uhr\,  Sonntag 9 bis 16 Uhr\n\n\nWenn du bereit bist und du dich gerufen fühlst diesen Wandel zuzulassen\, freue ich mich auf deine Anmeldung!  \nIch freue mich sehr auf dieses Wochenende in dieser wunderbaren Umgebung des Mühlviertels! Es ist der perfekte Ort für deine Transformation! Der Sternstein ist übrigens ein Frauenkraftplatz…. \nDas sagen die Teilnehmer der letzten Gruppe über die Transformationstage. Auf Instagram kannst du die Erfahrungsberichte nachlesen. \n\n\n\n\n\nJetzt anmelden
URL:https://www.femvents.at/event/transformationstage-am-sternstein/
LOCATION:Waldschenke am Sternstein\, Amesberg 11\, Bad Leonfelden\, Oberösterreich\, 4190\, Austria
CATEGORIES:Oberösterreich,Retreat,Workshop
ATTACH;FMTTYPE=image/jpeg:https://www.femvents.at/wp-content/uploads/2025/10/Antje_Wolm0155-scaled.jpg
ORGANIZER;CN="Petra G%C3%B6weil Praxis f%C3%BCr Kinesiologie und Cranio":MAILTO:praxis@petra-goeweil.at
GEO:48.5469991;14.2719167
X-APPLE-STRUCTURED-LOCATION;VALUE=URI;X-ADDRESS=Waldschenke am Sternstein Amesberg 11 Bad Leonfelden Oberösterreich 4190 Austria;X-APPLE-RADIUS=500;X-TITLE=Amesberg 11:geo:14.2719167,48.5469991
END:VEVENT
BEGIN:VEVENT
DTSTART;TZID=Europe/Vienna:20260227T160000
DTEND;TZID=Europe/Vienna:20260301T133000
DTSTAMP:20260420T021647
CREATED:20260206T071101Z
LAST-MODIFIED:20260206T071101Z
UID:10000770-1772208000-1772371800@www.femvents.at
SUMMARY:Basische Yoga-Tage im Mostviertel
DESCRIPTION:TIME TO BREATHE heißt es in den hügeligen Weiten des Mostviertels. Dort nutzen wir die\nWeite\, um Platz zu machen: Für gesunde\, neue Ernährungsgewohnheiten. Für unsere Muskeln\nund Gelenke\, die im Alltag oft eingeengt und unbewegt sind. Und für kreative Ideen. \nGemeinsam finden wir RUHE UND ENTSPANNUNG\, nehmen wir uns am ehemaligen\nBauernhof nahe Amstetten Zeit für uns – eine gemütliche Mischung aus gemeinsamem Koch-\nWorkshop\, Yoga für jedes Können und jeden Körper\, Impulsvorträgen\, Kreativ-Inputs und Zeit\,\neinfach zu sein. Petra zeigt uns die Vielfalt der basischen TCM-Küche und Julia führt durch die\nYoga-Einheiten.
URL:https://www.femvents.at/event/basische-yoga-tage-im-mostviertel/
LOCATION:Seminarhof Phyra\, Pyhra 22\, Oed-Öhling\, Niederösterreich\, 3312\, Austria
CATEGORIES:Frauenkreis,Meditation,Niederösterreich,Retreat,Workshop
ATTACH;FMTTYPE=image/jpeg:https://www.femvents.at/wp-content/uploads/2026/02/femevents-basische-yogatage.jpg
ORGANIZER;CN="Petra Paumann + Julia Rogner":MAILTO:ciao@tuttobeneyoga.at
GEO:48.0928511;14.7447697
X-APPLE-STRUCTURED-LOCATION;VALUE=URI;X-ADDRESS=Seminarhof Phyra Pyhra 22 Oed-Öhling Niederösterreich 3312 Austria;X-APPLE-RADIUS=500;X-TITLE=Pyhra 22:geo:14.7447697,48.0928511
END:VEVENT
END:VCALENDAR