BEGIN:VCALENDAR
VERSION:2.0
PRODID:-//femvents.at - ECPv6.15.18//NONSGML v1.0//EN
CALSCALE:GREGORIAN
METHOD:PUBLISH
X-WR-CALNAME:femvents.at
X-ORIGINAL-URL:https://www.femvents.at
X-WR-CALDESC:Veranstaltungen für femvents.at
REFRESH-INTERVAL;VALUE=DURATION:PT1H
X-Robots-Tag:noindex
X-PUBLISHED-TTL:PT1H
BEGIN:VTIMEZONE
TZID:Europe/Vienna
BEGIN:DAYLIGHT
TZOFFSETFROM:+0100
TZOFFSETTO:+0200
TZNAME:CEST
DTSTART:20250330T010000
END:DAYLIGHT
BEGIN:STANDARD
TZOFFSETFROM:+0200
TZOFFSETTO:+0100
TZNAME:CET
DTSTART:20251026T010000
END:STANDARD
BEGIN:DAYLIGHT
TZOFFSETFROM:+0100
TZOFFSETTO:+0200
TZNAME:CEST
DTSTART:20260329T010000
END:DAYLIGHT
BEGIN:STANDARD
TZOFFSETFROM:+0200
TZOFFSETTO:+0100
TZNAME:CET
DTSTART:20261025T010000
END:STANDARD
BEGIN:DAYLIGHT
TZOFFSETFROM:+0100
TZOFFSETTO:+0200
TZNAME:CEST
DTSTART:20270328T010000
END:DAYLIGHT
BEGIN:STANDARD
TZOFFSETFROM:+0200
TZOFFSETTO:+0100
TZNAME:CET
DTSTART:20271031T010000
END:STANDARD
END:VTIMEZONE
BEGIN:VEVENT
DTSTART;TZID=Europe/Vienna:20260306T073000
DTEND;TZID=Europe/Vienna:20260307T083000
DTSTAMP:20260420T021646
CREATED:20260215T190620Z
LAST-MODIFIED:20260309T080921Z
UID:10000817-1772782200-1772872200@www.femvents.at
SUMMARY:Detox Atem- & Yogakurs in Pressbaum
DESCRIPTION:Spürst du es auch? Der Frühling klopft an! Es ist nun spürbar heller und in der Natur beginnt es schon überall zu sprießen. Die Jahreszeit lädt uns dazu ein\, den Ballast des Winters loszulassen\, Körper und Geist zu entlasten und wieder mehr Raum\, Weite und Lebendigkeit in uns zu spüren. \nIn diesem Kurs unterstütze ich dich mit Atem- und Yogaübungen dabei\, dein Körper- und Energiesystem sanft zu klären. Wie ein Frühjahrsputz für dein Körper- und Energiesystem. \n\n\nWir arbeiten mit ausgewählten Atem- und Körperübungen\, die die natürlichen Entgiftungsprozesse im Körper unterstützen und das Lymph- und Verdauungssystem anregen. Sanfte Drehungen\, fließende Bewegungen und bewusste Atmung helfen dabei\, Stagnation zu lösen und den Körper wieder ins Fließen zu bringen. \nDu lernst einen speziellen Sonnengruß kennen\, den du zwischen den Terminen und danach einfach und selbstständig zu Hause üben kannst – als nährende Praxis für deinen Alltag. \nBegleitend führe ich dich durch stille und bewegte Meditationen (z. B. Körpermeditationen\, energetische Reinigungsimpulse)\, die dich dabei unterstützen\, loszulassen\, gut bei dir anzukommen und innerlich klarer zu werden. \nKurs in Pressbaum\nFr 6./13./20./27. März 2026\n7:30 – 8:30 Uhr \nBeitrag\n75 € \n\nParallel dazu findet der Kurs auch online statt (samstags) – du findest alle Infos auf meiner Website.
URL:https://www.femvents.at/event/detox-atem-yogakurs-in-pressbaum/
CATEGORIES:Niederösterreich
ATTACH;FMTTYPE=image/png:https://www.femvents.at/wp-content/uploads/2026/02/Detox-1-1.png
END:VEVENT
BEGIN:VEVENT
DTSTART;VALUE=DATE:20260307
DTEND;VALUE=DATE:20260308
DTSTAMP:20260420T021646
CREATED:20251027T070253Z
LAST-MODIFIED:20260127T123257Z
UID:10000440-1772841600-1772927999@www.femvents.at
SUMMARY:Frauenkongress 2026
DESCRIPTION:Frauen machen die halbe Weltbevölkerung aus und spielen in systemrelevanten Bereichen eine große Rolle – und werden dennoch häufig unterschätzt\, klein geredet und in die zweite Reihe geschoben. Viele (Frauen) möchten das nicht gerne hören\, doch Benachteiligung aufgrund der geschlechtlichen Identität ist existent und sie schränkt ein\, das volle Potenzial zu leben und sich selbst zu verwirklichen. \nWo im Alltag können wir das sehen? Hier ist ein Auszug: \n\nFrauen werden im Job öfter für „kleinere Tätigkeiten“ eingesetzt („du kannst das so gut“)\nFrauen werden weniger kompetent wahrgenommen als Männer\nFrauen werden oft als „zu emotional“ bewertet\nKinderwunsch & Schwangerschaft führen bei Frauen zu mehr Benachteiligung als bei Männern\, wenn etwa Frauen beim Bewerbungsgespräch nach ihrem Kinderwunsch gefragt werden\, Männer aber nicht\nFrauen verdienen häufiger weniger\nMental Load im Familienalltag\nMänner „helfen“ im Haushalt\, von Frauen wird der Haushaltsdienst erwartet\nFrauen gelten häufig als schlechte Mutter\, wenn sie berufstätig sind\nFrauen warten laut Studien länger auf Diagnosen (zB. Endometriose)\nNebenwirkungen von Medikamenten sind teils schlechter erforscht\, weil eher an männlichen Körper getestet wird​​\n\n​Wir glauben an die Kraft von Frauen – und daran\, dass was Großes entsteht\, wenn wir gemeinsame Sache machen!  \nAm Frauenkongress bringen wir Themen auf die Bühne\, über die sonst oft geschwiegen wird.  \nMehrere Keynotes begleiten durch den Tag und die Sprecherinnen möchten aufklären\, das Blickfeld erweitern und inspirieren. 
URL:https://www.femvents.at/event/frauenkongress-2026/
LOCATION:Hügellandhalle\, 8321-St. Margarethen/Raab\, St. Margarethen/Raab\, Steiermark\, 8321 St. Margarethen/Raab\, Austria
CATEGORIES:Frauenkreis,Meetup,Netzwerk-Treffen,Steiermark,Vortrag
ATTACH;FMTTYPE=image/png:https://www.femvents.at/wp-content/uploads/2025/10/Flyer-A6-Vorderseite.png
ORGANIZER;CN="Verein WeiWi":MAILTO:marie@siebenschlaefer.at
GEO:47.0464691;15.7461198
X-APPLE-STRUCTURED-LOCATION;VALUE=URI;X-ADDRESS=Hügellandhalle 8321-St. Margarethen/Raab St. Margarethen/Raab Steiermark 8321 St. Margarethen/Raab Austria;X-APPLE-RADIUS=500;X-TITLE=8321-St. Margarethen/Raab:geo:15.7461198,47.0464691
END:VEVENT
BEGIN:VEVENT
DTSTART;TZID=Europe/Vienna:20260307T080000
DTEND;TZID=Europe/Vienna:20260307T090000
DTSTAMP:20260420T021646
CREATED:20260215T190706Z
LAST-MODIFIED:20260309T080916Z
UID:10000816-1772870400-1772874000@www.femvents.at
SUMMARY:Detox Atem- & Yogakurs online
DESCRIPTION:Spürst du es auch? Der Frühling klopft an! Es ist nun spürbar heller und in der Natur beginnt es schon überall zu sprießen. Die Jahreszeit lädt uns dazu ein\, den Ballast des Winters loszulassen\, Körper und Geist zu entlasten und wieder mehr Raum\, Weite und Lebendigkeit in uns zu spüren. \nIn diesem Kurs unterstütze ich dich mit Atem- und Yogaübungen dabei\, dein Körper- und Energiesystem sanft zu klären. Wie ein Frühjahrsputz für dein Körper- und Energiesystem. \n\nWir arbeiten mit ausgewählten Atem- und Körperübungen\, die die natürlichen Entgiftungsprozesse im Körper unterstützen und das Lymph- und Verdauungssystem anregen. Sanfte Drehungen\, fließende Bewegungen und bewusste Atmung helfen dabei\, Stagnation zu lösen und den Körper wieder ins Fließen zu bringen. \nDu lernst einen speziellen Sonnengruß kennen\, den du zwischen den Terminen und danach einfach und selbstständig zu Hause üben kannst – als nährende Praxis für deinen Alltag. \nBegleitend führe ich dich durch stille und bewegte Meditationen (z. B. Körpermeditationen\, energetische Reinigungsimpulse)\, die dich dabei unterstützen\, loszulassen\, gut bei dir anzukommen und innerlich klarer zu werden. \nKurs online\nSa 7./14./21./28. März 2026\n8 – 9 Uhr\nper Zoom \nBeitrag\n75 € \nParallel dazu findet der Kurs auch live in Pressbaum statt (freitags) – melde dich gern\, wenn du dort in der Nähe bist. Du findest alle Infos auf meiner Website.
URL:https://www.femvents.at/event/detox-atem-yogakurs-online/
CATEGORIES:Online-Event
ATTACH;FMTTYPE=image/png:https://www.femvents.at/wp-content/uploads/2026/02/Detox-1.png
END:VEVENT
BEGIN:VEVENT
DTSTART;TZID=Europe/Vienna:20260307T083000
DTEND;TZID=Europe/Vienna:20260307T170000
DTSTAMP:20260420T021646
CREATED:20260107T123648Z
LAST-MODIFIED:20260107T123648Z
UID:10000620-1772872200-1772902800@www.femvents.at
SUMMARY:Die Shopperei in der Tänzerei
DESCRIPTION:Die Shopperei in der Tänzerei ist Bühne\, Begegnung und Präsentationsraum zugleich. Unternehmerinnen zeigen hier ihr Business\, ihre Produkte und ihre Handschrift – sichtbar\, persönlich und in besonderer Atmosphäre. Kein klassischer Markt\, sondern ein kuratierter Tag voller Austausch\, Inspiration und Verbindung. \nDie Shopperei findet am 07.03. von 8.30 bis 18 Uhr statt. Bewerbungen als Ausstellerin sind von 19.01. bis 09.02. möglich. Und wer diesmal nicht ausstellt\, ist herzlich eingeladen\, vorbeizukommen\, zu entdecken\, zu vernetzen und uns als Besucher*in zu begleiten.
URL:https://www.femvents.at/event/die-shopperei-in-der-taenzerei/
LOCATION:Tänzerei Klagenfurt\, Schleppe Platz 5\, 9020 Klagenfurt\, Schleppe Platz 5\, Klagenfurt\, Kärnten\, 9020\, Austria
CATEGORIES:Kärnten,Netzwerk-Treffen
ATTACH;FMTTYPE=image/png:https://www.femvents.at/wp-content/uploads/2026/01/Wir-passen-nicht-in-Schubladen.-Wir-sprengen-sie.-1-2.png
GEO:46.6412688;14.2876213
X-APPLE-STRUCTURED-LOCATION;VALUE=URI;X-ADDRESS=Tänzerei Klagenfurt Schleppe Platz 5 9020 Klagenfurt Schleppe Platz 5 Klagenfurt Kärnten 9020 Austria;X-APPLE-RADIUS=500;X-TITLE=Schleppe Platz 5:geo:14.2876213,46.6412688
END:VEVENT
BEGIN:VEVENT
DTSTART;TZID=Europe/Vienna:20260307T083000
DTEND;TZID=Europe/Vienna:20260307T180000
DTSTAMP:20260420T021646
CREATED:20260220T152703Z
LAST-MODIFIED:20260220T152703Z
UID:10000836-1772872200-1772906400@www.femvents.at
SUMMARY:Seminar – Die Wechseljahre – unsere 2. Pubertät!
DESCRIPTION:Unser weiblicher Zyklus kommt ins Schwanken und wandelt sich\, unsere monatliche Blutung geht zu Ende oder ist bereits versiegt. Dies ist eine Zeit der großen Veränderung\, eine Zeit des Übergangs: \nWir lassen nun die fruchtbare Zeit auf körperlicher Ebene hinter uns\, um uns vorzubereiten für die nächste Phase unseres Frauseins – die Zeit der Weisheit. \nDie körperlichen Veränderungen in dieser Zeit bringen natürlich auch Aufgaben mit sich. Wir sind aufgefordert\, uns mit dem Prozess des Älterwerdens auseinanderzusetzen\, unsere Gewohnheiten unter die Lupe zu nehmen und die möglichen\, unerwünschten Nebenerscheinungen im positiven Sinne als Herausforderungen zu betrachten. \nTipps und Anregungen\, wie wir unsere Gesundheit stärken und erhalten können sind ebenso Inhalte dieser Seminarreihe sowie Ideen\, wie wir mögliche Beschwerden mithilfe von speziellen Frauenkräutern lindern und diesen auch vorbeugen können. \nMachen wir uns bereit für einen neuen Lebensabschnitt mit neuen Schwerpunkten und neuen Aufgaben. Lasst uns mit gutem Beispiel vorangehen und mit Stolz und Würde dieses Tor durchschreiten – \n                                  Das Tor zu Wissen und Weisheit! \nSeminarleiterin: \n \nCassandra Frener \nVolksschulpädagogin\nWald- und Kräuterpädagogin\nVerbindung von traditionellen\nschamanischen Überlieferungen\nmit altem und neuem Frauenwissen \n3-tägige Seminarreihe: jeweils samstags\nAm: 07.03.25 | 28.03.25 | 18.04.25\nUm: 8:30 – ca. 18:00 Uhr \nIm: Querbeet 46\nEgelseestr. 46 in Feldkirch/Tosters \nTeilnehmerinnenzahl:\n4 – max. 8 Frauen \nDer erste Tag (07.03.26) ist ein sogenannter „Einführungstag in das Thema“ und  kann auch einzeln besucht werden. \nEnergieausgleich:\n€ 360\,-  Vollpreis\n€ 300\,-  für Mitfrauen des SALON 13\n \n€ 140\,-  1. Tag Vollpreis\n€ 120\,-  1. Tag für Mitfrauen \nFalls dieser Beitrag für dich aufgrund deiner momentanen finanziellen Situation zu hoch sein sollte\, melde dich gerne bei mir\, wir werden bestimmt einen Weg finden\, wie du trotzdem an dem Seminar teilnehmen kannst. \nMitbringen:\nLiegematten\, Decken und Sitzkissen sind vorhanden.\nBequeme Wohlfühlkleidung für drinnen\,\npassende Kleidung für eventuelle Einheit im Freien.\nGerne eine Jause für eine gemeinsame Mittagsmahlzeit mitbringen\,\nes gibt dort eine kleine Küche mit Geschirr usw.\nTrinken nicht vergessen! \nFür nähere Infos oder Fragen wende dich bitte an Cassandra Frener\, Feldmoosgasse 4\, 6900 Bregenz \nTel: +43 650 5013428\, Mail: cassandra@salon13.at
URL:https://www.femvents.at/event/seminar-die-wechseljahre-unsere-2-pubertaet/
LOCATION:Querbeet 46\, Egelseestr. 46\, Feldkirch / Tosters\, Vorarlberg\, 6800\, Austria
CATEGORIES:Salon13,Vorarlberg,Wechseljahre
ATTACH;FMTTYPE=image/jpeg:https://www.femvents.at/wp-content/uploads/2026/02/2603_Wechseljahre-Seminar_1.jpg
ORGANIZER;CN="SALON 13":MAILTO:info@salon13.at
GEO:47.2402355;9.578084
X-APPLE-STRUCTURED-LOCATION;VALUE=URI;X-ADDRESS=Querbeet 46 Egelseestr. 46 Feldkirch / Tosters Vorarlberg 6800 Austria;X-APPLE-RADIUS=500;X-TITLE=Egelseestr. 46:geo:9.578084,47.2402355
END:VEVENT
BEGIN:VEVENT
DTSTART;TZID=Europe/Vienna:20260307T090000
DTEND;TZID=Europe/Vienna:20260307T120000
DTSTAMP:20260420T021646
CREATED:20260109T102656Z
LAST-MODIFIED:20260109T102656Z
UID:10000660-1772874000-1772884800@www.femvents.at
SUMMARY:Breathwork Session & intuitive Painting
DESCRIPTION:Atme ein. Atme aus. Atme dich frei … und dann male. \nKennst du das Gefühl\, dass dein Leben manchmal zu laut\, zu schnell oder zu schwer wird? Dass du dich selbst in all den To-Do-Listen\, Erwartungen und Herausforderungen kaum noch spüren kannst? Hast du manchmal das Gefühl\, dass dein Kopf nie zur Ruhe kommt? Dass du immer funktionierst\, aber dabei vergisst\, wirklich zu fühlen? \nIn diesem Workshop verbinden wir die heilende und befreiende Wirkung von Conscious Connected Breathwork mit der Kraft intuitiver Kunst. \nSpiritual Life & Business Coach Katrin Anna Hauser führt dich zuerst durch eine Session mit transformativer Atemtechnik\, die nicht nur emotionale Blockaden lösen sondern auch Stress und mentale Belastung abbauen kann. Im Anschluss entdeckst du gemeinsam mit Art Therapy Practitioner Julia Wenderoth die transformative Kraft von fließenden Farben – ob als Kunstwerk mit Self Love Botschaft oder indem du dein inneres Kind weckst und einfach drauf los malst. Ein von Katrin geführter Sharing Circle schließt den Workshop ab.
URL:https://www.femvents.at/event/breathwork-session-intuitive-painting/
LOCATION:liebestrunken I SELF LOVE CLUB\, Lederergasse 3\, Salzburg\, Salzburg\, 5020\, Austria
CATEGORIES:Salzburg,Workshop
ATTACH;FMTTYPE=image/jpeg:https://www.femvents.at/wp-content/uploads/2026/01/DSCF2576-scaled.jpg
ORGANIZER;CN="SELF LOVE CLUB @liebestrunken":MAILTO:hey@liebestrunken.com
GEO:47.802268;13.0445985
X-APPLE-STRUCTURED-LOCATION;VALUE=URI;X-ADDRESS=liebestrunken I SELF LOVE CLUB Lederergasse 3 Salzburg Salzburg 5020 Austria;X-APPLE-RADIUS=500;X-TITLE=Lederergasse 3:geo:13.0445985,47.802268
END:VEVENT
BEGIN:VEVENT
DTSTART;TZID=Europe/Vienna:20260307T100000
DTEND;TZID=Europe/Vienna:20260307T120000
DTSTAMP:20260420T021646
CREATED:20260202T094110Z
LAST-MODIFIED:20260202T094110Z
UID:10000742-1772877600-1772884800@www.femvents.at
SUMMARY:Stadtspaziergang DIE Innsbruck – von A wie Adelheid Schneller bis Z wie Zaha Hadid
DESCRIPTION:Samstag\, 7. März 2026\nab 10:00 Uhr\nTreffpunkt: SOWI Areal \nBei unserem Stadtspaziergang zum Weltfrauentag besuchen wir Orte\, die uns aus dem Alltag in der „Stadt im Gebirge“ sehr vertraut sind. Aber kennen wir auch den Bezug zu Frauen\, die dort jeweils in besonderer Weise Innsbruck mitgestaltet haben? Zu allen Zeiten und in allen Bereichen: \nim Mittelalter\, in der Neuzeit\, in der Gegenwart; in Architektur und Stadtplanung\, Politik\, Bildung\, Wissenschaft\, im sozialen Leben\, in Kultur\, in Wirtschaft\, im gerechten Zusammenleben … \nalso: von A bis Z.  \nEs sind so viele Frauen\, dass bei diesem Rundgang nur von einigen beispielhaft erzählt werden kann: zB von Adelheid Schneller\, Claudia de Medici\, Herlinde Pissarek-Hudelist\, Adele Obermayr und Zaha Hadid … um nur einige zu nennen. \nNach diesem Stadtspaziergang werden wir Innsbruck mit anderen Augen sehen! \nElisabeth Grabner-Niel ist konzessionierte Austria Guide\, hat Geschichte studiert und ist seit Jahrzehnten im AEP aktiv engagiert. \nWir bitten um Anmeldung unter bildung@aep.at. \nDer Stadtrundgang dauert ca. 2 Stunden und endet im AEP (Schöpfstraß 19) bei \nBrunch und gemütlichen Beisammensein. \nDie Teilnahme ist kostenlos. 
URL:https://www.femvents.at/event/stadtspaziergang-die-innsbruck-von-a-wie-adelheid-schneller-bis-z-wie-zaha-hadid/
LOCATION:sowi\, Sowi\, Innsbruck (Statutarstadt)\, Tirol\, 6020\, Austria
CATEGORIES:Tirol
ATTACH;FMTTYPE=image/png:https://www.femvents.at/wp-content/uploads/2026/02/1.png
ORGANIZER;CN="Arbeitskreis Emanzipation und Partnerschaft":MAILTO:bildung@aep.at
GEO:47.2698416;11.3988678
X-APPLE-STRUCTURED-LOCATION;VALUE=URI;X-ADDRESS=sowi Sowi Innsbruck (Statutarstadt) Tirol 6020 Austria;X-APPLE-RADIUS=500;X-TITLE=Sowi:geo:11.3988678,47.2698416
END:VEVENT
BEGIN:VEVENT
DTSTART;TZID=Europe/Vienna:20260307T100000
DTEND;TZID=Europe/Vienna:20260307T180000
DTSTAMP:20260420T021646
CREATED:20260209T094558Z
LAST-MODIFIED:20260209T094558Z
UID:10000782-1772877600-1772906400@www.femvents.at
SUMMARY:IM KREIS DER WEIBLICHEN KRÄFTE
DESCRIPTION:Die Nährende \nSüden – Fülle\, Fürsorge\, Selbstwert\nDieses Seminar öffnet einen geschützten Raum\, in dem du dich wieder nährst – innerlich wie körperlich. Du arbeitest mit Klang\, Atem\, Bewegung\, Duft und Ritualen\, um Selbstwert und Stabilität nicht nur zu verstehen\, sondern spürbar zu verankern. \nWas dich erwartet– Zentrierung & Erdung für deinen Alltag– Rituale für Verbindung\, Vertrauen und Loslassen– Körperarbeit und Reflexionsräume\, die dich zurück in dein Spüren führen– Exklusiver Kleingruppenrahmen: ruhig\, klar\, ohne Druck \nWenn dich das ruft: Reserviere jetzt deinen Platz.Kontaktformular auf www.source-praxis.at ausfüllen → bei „Worum es geht?“ das Seminar auswählen → Bestätigung per E-Mail erhalten.Telefonisch: +43 677 644 20744
URL:https://www.femvents.at/event/im-kreis-der-weiblichen-kraefte/
LOCATION:Weichstetten\, Weichstetten\, Austria
CATEGORIES:Frauenkreis,Kurs,Meditation,Oberösterreich,Retreat,Soundhealing,Workshop
ATTACH;FMTTYPE=image/jpeg:https://www.femvents.at/wp-content/uploads/2026/02/erste-seite_archtypen_seminartermine2026.jpg
GEO:48.12146;14.32131
END:VEVENT
BEGIN:VEVENT
DTSTART;TZID=Europe/Vienna:20260307T100000
DTEND;TZID=Europe/Vienna:20260307T180000
DTSTAMP:20260420T021646
CREATED:20260218T091716Z
LAST-MODIFIED:20260218T091716Z
UID:10000830-1772877600-1772906400@www.femvents.at
SUMMARY:Second Love & First Edition Creations
DESCRIPTION:🌷✨A CELEBRATION OF WOMEN WHO CREATE.✨🌷 \nAm 7. März öffnen wir bei LA VIE die Türen für Frauen\, die gestalten (formen\, falten\, stricken\, zeichnen) und erschaffen – mit Seele\, mit Können und mit einer klaren Vision.✨ \n✨ Lisa Klingersberger – Folding Expert\n🌷@lisa.klingersberger\nPapier wird bei ihr zu Raum. Fläche zu Form. Zartheit zu Präsenz. \n✨ Madeleine Steffensen – Handknit Pieces\n🌷@knitsbymadi\nSlow Fashion\, die bleibt. Gestrickt für Jahre\, nicht für Trends. \n✨ Karo Ohrnberger – Illustration & Yoga\n🌷@karo_oh\nKunst\, die verbindet. Frauen in all ihren Facetten – als universelle Sprache. \n✨ Julia Altacher – Betondesign\n🌷@studio.schmiedgut\nMinimalistisch. Ruhig. Beständig. Stücke\, die nicht laut sind – sondern stark. \n🌷SECOND LOVE & FIRST EDITION CREATIONS🌷 ist mehr als ein Pop-up. Es ist ein Raum für Begegnung. Für Bewusstsein. Für Qualität. Für echtes Handwerk. \n✨7. März · 10–18h | La Vie Coworking\, Salzburg \n🌷“Come for the pieces.\nStay for the women behind them.“💚 \n———— \nSecond Love & First Edition Creations\nA curated pop-up by LA VIE
URL:https://www.femvents.at/event/second-love-first-edition-creations/
LOCATION:La Vie Coworking\, Wolf-Dietrich-Straße 9\, Salzburg\, Salzburg\, 5020\, Austria
CATEGORIES:Meetup,Salzburg
ATTACH;FMTTYPE=image/png:https://www.femvents.at/wp-content/uploads/2026/02/Flohmarktlavie.png
GEO:47.8048508;13.047892
X-APPLE-STRUCTURED-LOCATION;VALUE=URI;X-ADDRESS=La Vie Coworking Wolf-Dietrich-Straße 9 Salzburg Salzburg 5020 Austria;X-APPLE-RADIUS=500;X-TITLE=Wolf-Dietrich-Straße 9:geo:13.047892,47.8048508
END:VEVENT
BEGIN:VEVENT
DTSTART;TZID=Europe/Vienna:20260307T140000
DTEND;TZID=Europe/Vienna:20260307T163000
DTSTAMP:20260420T021646
CREATED:20260214T072402Z
LAST-MODIFIED:20260214T072402Z
UID:10000814-1772892000-1772901000@www.femvents.at
SUMMARY:Kinderwunsch Kreis
DESCRIPTION:Der Wunsch nach einem Kind entsteht aus Liebe.\nUnd manchmal wird der Weg dorthin länger oder schwerer\, als wir uns je vorgestellt haben. \nAlles darf\, nichts muss. \nWas dich im Kreis erwartet:\n– Raum zum teilen\, für Stille oder einfach zum Dasein\n– intuitive Impulse & sanftes Wissen rund um Kinderwunsch\n– eine liebevolle Verbindung zu dir selbst und deinem Körper \nSo wie du bist\, bist du in diesem Kreis richtig.
URL:https://www.femvents.at/event/kinderwunsch-kreis-2/
LOCATION:The Soul Space\, Alexander-Girardi-Straße 39\, Salzburg\, 5020
CATEGORIES:Frauenkreis,Meditation,Salzburg
ATTACH;FMTTYPE=image/png:https://www.femvents.at/wp-content/uploads/2026/02/flyer-A5-DE.png
ORGANIZER;CN="Doula Cynthia":MAILTO:Hallo@doulacynthia.com
GEO:47.8014154;13.0448441
X-APPLE-STRUCTURED-LOCATION;VALUE=URI;X-ADDRESS=The Soul Space Alexander-Girardi-Straße 39 Salzburg 5020;X-APPLE-RADIUS=500;X-TITLE=Alexander-Girardi-Straße 39:geo:13.0448441,47.8014154
END:VEVENT
BEGIN:VEVENT
DTSTART;TZID=Europe/Vienna:20260307T140000
DTEND;TZID=Europe/Vienna:20260307T180000
DTSTAMP:20260420T021646
CREATED:20260212T145528Z
LAST-MODIFIED:20260212T145528Z
UID:10000810-1772892000-1772906400@www.femvents.at
SUMMARY:Systemische Business-Aufstellungen
DESCRIPTION:Systemische Aufstellungen für Selbstständige\nDu möchtest deine Selbstständigkeit voranbringen und trotzdem hakt es an bestimmten Stellen immer wieder: Entscheidungen fühlen sich schwer an\, du drehst dich im Kreis oder hast das Gefühl\, dich selbst auszubremsen\, ohne genau zu wissen\, warum. \nIn einer systemischen Aufstellung machen wir sichtbar\, welche unbewussten Dynamiken in deiner Selbstständigkeit wirken und wie sie dein Denken\, Entscheiden und Handeln beeinflussen. \nEine systemische Aufstellung macht verborgene Zusammenhänge in einem System sichtbar. Im Kontext der Selbstständigkeit können das z. B. sein: \n\ninnere Blockaden oder wiederkehrende Muster\nEntscheidungs- oder Umsetzungsprobleme\nfehlende Klarheit in der Ausrichtung oder in den Prioritäten\ninnere Konflikte (z. B. Sicherheit vs. Wachstum)\n\nMit Hilfe von Repräsentant:innen\, die einzelne Teile deines Business-Systems darstellen (z. B. dein Business\, deine Angebote\, deine Kund:innen\, Emotionen oder innere Anteile)\, entsteht ein äußeres Bild der inneren Dynamik. \nDadurch erkennst du Muster\, die im Alltag oft unsichtbar bleiben – und genau dort liegt der Hebel für Veränderung. \nWas eine Aufstellung bewirken kann\n\nDu erkennst Muster und Blockaden\nDu gewinnst neue Perspektiven\nDu bekommst einen ganzheitlichen Blick auf deine Selbstständigkeit\nUnbewusste Dynamiken und innere Konflikte werden sichtbar und können neu eingeordnet werden\nOft entsteht Klarheit darüber\, warum etwas bisher nicht in Bewegung kam und was jetzt stimmig ist\n\nBei einer Aufstellung schauen wir immer auf das gesamte System\, statt einzelne Symptome zu betrachten. \nAblauf\nVor der Aufstellung findet immer ein Vorgespräch statt. Dabei schauen wir gemeinsam\, ob dein Thema für eine Aufstellung geeignet ist und welche Elemente für die Aufstellung relevant sind. Natürlich ist dabei auch Raum für deine Fragen. \nIch arbeite überwiegend mit verdeckten Aufstellungen. Das bedeutet: Die Repräsentant:innen wissen nicht\, wen oder was sie darstellen. Dadurch wird ohne Interpretation\, Projektion oder Vorwissen zu deinem Thema gearbeitet. \nAls Aufsteller:in kannst du dein Thema von außen beobachten und die entstehenden Dynamiken gemeinsam mit mir reflektieren. 1–2 Wochen nach der Aufstellung findet ein Follow-up-Call statt\, um deine Erkenntnisse nachhaltig zu integrieren. \nFür wen ist eine Aufstellung geeignet?\nFür Selbstständige\, die … \n\neine neue Perspektive auf ihre Selbstständigkeit einnehmen möchten\nunbewusste Muster oder Blockaden erkennen wollen\nmehr Klarheit und innere Ausrichtung suchen\n\nDer Fokus bei den Business-Aufstellungen liegt zwar auf Themen rund um die Selbstständigkeit\, es können aber auch andere Themen aufgestellt werden (oft zeigen sich ohnehin Überschneidungen in mehreren Lebensbereichen). \nInvestition\n\nAufstellung eigenes Thema: 260\,-€ (inkl. Vorgespräch und Follow-Up)\nRepräsentanten: 35\,-€\n\nDen Termin am 7. März biete ich auf Spendenbasis an! \nWeitere Infos findest du auf: https://www.rosakainz.at/aufstellung/
URL:https://www.femvents.at/event/systemische-business-aufstellungen/
LOCATION:Lebe.Stark Loft\, 2353 Guntramsdorf\, Hauptstraße 46\, Hauptstraße 46\, Guntramsdorf\, Niederösterreich\, 2353\, Austria
CATEGORIES:Coaching,Niederösterreich
ATTACH;FMTTYPE=image/png:https://www.femvents.at/wp-content/uploads/2026/02/BusinessAufstellung.png
ORGANIZER;CN="Rosa Kainz":MAILTO:rosa@rosakainz.at
GEO:48.0486102;16.3155929
X-APPLE-STRUCTURED-LOCATION;VALUE=URI;X-ADDRESS=Lebe.Stark Loft 2353 Guntramsdorf Hauptstraße 46 Hauptstraße 46 Guntramsdorf Niederösterreich 2353 Austria;X-APPLE-RADIUS=500;X-TITLE=Hauptstraße 46:geo:16.3155929,48.0486102
END:VEVENT
BEGIN:VEVENT
DTSTART;TZID=Europe/Vienna:20260307T150000
DTEND;TZID=Europe/Vienna:20260307T180000
DTSTAMP:20260420T021646
CREATED:20260218T102124Z
LAST-MODIFIED:20260218T102124Z
UID:10000831-1772895600-1772906400@www.femvents.at
SUMMARY:Feiertag für Mädchen
DESCRIPTION:Ein besonderer Tag für Mädchen im Alter von ca. 9–12 Jahren und ihre Mütter. \nIch gestalte diesen Tag\, weil ich mir wünsche\, dass Mädchen ihren Körper früh als Verbündeten erleben dürfen – und Menstruation als natürlichen und kraftvollen Teil ihres Lebens erfahren. \nIn einem geschützten und liebevoll gehaltenen Rahmen sprechen wir darüber\, was im Körper geschieht. Durch kreatives Gestalten\, Geschichten und Bewegung wird das Thema lebendig und greifbar. Wir nehmen uns Zeit für Austausch und Fragen – und auch für ruhige Momente des Spürens. \nDer Vormittag gehört ganz den Mädchen. Ab dem gemeinsamen Mittagessen kommen die Mütter dazu. \nIn einer vorbereitenden Mütter-Session schauen wir auf die eigene Menstruationsgeschichte – und darauf\, was wir bewusst weitergeben möchten. \nEin Tag\, der stärkt und verbindet. \nMütter-Session: 7.3. 15:00 – 18:00 \nFeiertag für Mädchen: 14.3. 11:00 – 18:00
URL:https://www.femvents.at/event/feiertag-fuer-maedchen/
LOCATION:Yogastudio G39\, Grundsteingasse 39/2/18\, Wien\, Wien\, 1160\, Austria
CATEGORIES:Wien
ATTACH;FMTTYPE=image/jpeg:https://www.femvents.at/wp-content/uploads/2026/02/FFM_tickettailor_maedchen_700x223px_.jpg
ORGANIZER;CN="Marion Knotzer-Meir":MAILTO:marion@yogandance.at
GEO:48.2101252;16.3342851
X-APPLE-STRUCTURED-LOCATION;VALUE=URI;X-ADDRESS=Yogastudio G39 Grundsteingasse 39/2/18 Wien Wien 1160 Austria;X-APPLE-RADIUS=500;X-TITLE=Grundsteingasse 39/2/18:geo:16.3342851,48.2101252
END:VEVENT
BEGIN:VEVENT
DTSTART;TZID=Europe/Vienna:20260307T150000
DTEND;TZID=Europe/Vienna:20260307T180000
DTSTAMP:20260420T021646
CREATED:20260226T105319Z
LAST-MODIFIED:20260226T105520Z
UID:10000851-1772895600-1772906400@www.femvents.at
SUMMARY:Aquarell Lettering
DESCRIPTION:Aquarellfarben und Pinsel eignen sich nicht nur für Aquarellmalerei\, sondern auch für Letterings. Zu allererst gebe ich dir eine kleine Einführung in die Aquarellmalerei und nach ein paar Aufwärmübungen machen wir uns an die verschiedenen Schriften. Anhand eines Workbooks erhältst du verschiedene Alphabet-Vorlagen (Script\, Serif & Sans Serif\, sowie Variationen) und ich werde dir Schritt für Schritt zeigen\, wie man die einzelnen Buchstaben malt und wie du am besten deinen Lieblingsspruch aufs Papier zauberst. Vielleicht überlegst du dir schon im Vorfeld\, welchen Text du gerne gestalten möchtest. Natürlich habe ich auch Inspirationen für dich mit. Wenn du möchtest kannst du deinen Spruch dann mit kleinen Illustrationen ergänzen. \nDer Workshop ist auch für Anfänger des Letterings geeignet! \nKursdauer: 3\,5 Stunden\nTeilnehmer: max. 6 Teilnehmer – der Kurs ist für Erwachsene und Teens \nKosten: € 120\,00 inkl. Material \n+ Workbook\n+ Goodiebag\n+ Snacks und Getränke
URL:https://www.femvents.at/event/aquarell-lettering/
LOCATION:Herz an Herz Atelier\, Hauptstraße 4\, 5162 Obertrum am See\, Hauptstraße 4\, 5162 Obertrum am See\, Salzburg\, 5162\, Austria
CATEGORIES:Malworkshop,Salzburg,Workshop
ATTACH;FMTTYPE=image/jpeg:https://www.femvents.at/wp-content/uploads/2026/02/Watercolor_Lettering_beitragsbild.jpg
ORGANIZER;CN="Herz an Herz Atelier":MAILTO:tina@herzanherz.at
GEO:47.9373779;13.0745256
X-APPLE-STRUCTURED-LOCATION;VALUE=URI;X-ADDRESS=Herz an Herz Atelier Hauptstraße 4 5162 Obertrum am See Hauptstraße 4 5162 Obertrum am See Salzburg 5162 Austria;X-APPLE-RADIUS=500;X-TITLE=Hauptstraße 4:geo:13.0745256,47.9373779
END:VEVENT
BEGIN:VEVENT
DTSTART;TZID=Europe/Vienna:20260307T200000
DTEND;TZID=Europe/Vienna:20260307T230000
DTSTAMP:20260420T021646
CREATED:20260203T085555Z
LAST-MODIFIED:20260203T085840Z
UID:10000749-1772913600-1772924400@www.femvents.at
SUMMARY:Mama geht Tanzen
DESCRIPTION:Am Samstag\, den 07.03.2026 ist es soweit. \nWir feiern gemeinsam den Weltfrauentag im HAMMERWERK. \nFür absolut gute Musik sorgt @alexcortezmusic 🙌
URL:https://www.femvents.at/event/mama-geht-tanzen/
LOCATION:Waidhofen/Ybbs\, Waidhofen/Ybbs\, Austria
CATEGORIES:Oberösterreich,Tanzveranstaltung
ATTACH;FMTTYPE=image/png:https://www.femvents.at/wp-content/uploads/2026/02/Mamagehttanzenlogo.png
ORGANIZER;CN="MAMAGEHTTANZEN":MAILTO:lisa.barth@mamagehttanzen.de
GEO:47.9617126;14.7726968
END:VEVENT
END:VCALENDAR