BEGIN:VCALENDAR
VERSION:2.0
PRODID:-//femvents.at - ECPv6.15.18//NONSGML v1.0//EN
CALSCALE:GREGORIAN
METHOD:PUBLISH
X-WR-CALNAME:femvents.at
X-ORIGINAL-URL:https://www.femvents.at
X-WR-CALDESC:Veranstaltungen für femvents.at
REFRESH-INTERVAL;VALUE=DURATION:PT1H
X-Robots-Tag:noindex
X-PUBLISHED-TTL:PT1H
BEGIN:VTIMEZONE
TZID:Europe/Vienna
BEGIN:DAYLIGHT
TZOFFSETFROM:+0100
TZOFFSETTO:+0200
TZNAME:CEST
DTSTART:20250330T010000
END:DAYLIGHT
BEGIN:STANDARD
TZOFFSETFROM:+0200
TZOFFSETTO:+0100
TZNAME:CET
DTSTART:20251026T010000
END:STANDARD
BEGIN:DAYLIGHT
TZOFFSETFROM:+0100
TZOFFSETTO:+0200
TZNAME:CEST
DTSTART:20260329T010000
END:DAYLIGHT
BEGIN:STANDARD
TZOFFSETFROM:+0200
TZOFFSETTO:+0100
TZNAME:CET
DTSTART:20261025T010000
END:STANDARD
BEGIN:DAYLIGHT
TZOFFSETFROM:+0100
TZOFFSETTO:+0200
TZNAME:CEST
DTSTART:20270328T010000
END:DAYLIGHT
BEGIN:STANDARD
TZOFFSETFROM:+0200
TZOFFSETTO:+0100
TZNAME:CET
DTSTART:20271031T010000
END:STANDARD
END:VTIMEZONE
BEGIN:VEVENT
DTSTART;TZID=Europe/Vienna:20260310T180000
DTEND;TZID=Europe/Vienna:20260310T190000
DTSTAMP:20260420T021645
CREATED:20260220T152632Z
LAST-MODIFIED:20260220T152632Z
UID:10000837-1773165600-1773169200@www.femvents.at
SUMMARY:Online-Infoabend – Zyklus Jugendworkshop
DESCRIPTION:Infoabend – Zyklus Jugendworkshop\nfür Eltern\, Paten\, Pädagogen und Interessierte\nDu überlegst\, ob unsere Workshops  für deine Tochter / Patenkind / Enkelin / Freundin / Schülerinnen … das richtige ist? \nWir informieren dich über den Inhalt und Ablauf unseres Workshops beim Online Info Abend. Es wird auch Platz für deine Fragen geben. \nDie Veranstaltung wird online über zoom durchgeführt.\nDer Meetinglink wird spätestens ein Tag vor der Veranstaltung per Email versandt (Bitte auch deinen Spamfilter prüfen) Anmeldeschluss: 8.3.2026 \nin Kooperation mit Dr.in Klara Büchele\, Kinder- und Jugendärztin aus Hard\, Homepage \n \n***************************\nAktuell geplante Zyklus Jugendworkshops 2026:\nSa\, 25.04.2026\, 14 – 18 Uhr\nZyklusentdeckerinnen*werkstatt\nfür Mädchen* vor der ersten Menstruation\nFamiliennest Hard\nZur Veranstaltung und Anmeldung geht es hier. \nSa\, 30.05.2026\, 14 – 18 Uhr\nDein Körper | Dein Zyklus | Deine Power\nfür Teenager 1-2 Jahre nach der ersten Menstruation\nFamiliennest Hard\nZur Veranstaltung und Anmeldung geht es hier. \nWorkshops können auch für Schulen\, Jugendtreffs oder andere Gruppen gebucht werden
URL:https://www.femvents.at/event/online-infoabend-zyklus-jugendworkshop/
LOCATION:Online-Event\, Austria
CATEGORIES:Online-Event,Salon13,Vorarlberg
ATTACH;FMTTYPE=image/jpeg:https://www.femvents.at/wp-content/uploads/2026/02/Infoabend-Zylus.jpg
ORGANIZER;CN="SALON 13":MAILTO:info@salon13.at
GEO:47.516231;14.550072
END:VEVENT
BEGIN:VEVENT
DTSTART;TZID=Europe/Vienna:20260310T184500
DTEND;TZID=Europe/Vienna:20260310T213000
DTSTAMP:20260420T021645
CREATED:20260307T132033Z
LAST-MODIFIED:20260307T132033Z
UID:10000877-1773168300-1773178200@www.femvents.at
SUMMARY:SheSTART: Women in Entrepreneurship
DESCRIPTION:Only 15% of seed funding goes to female-led startups. We don’t need another quote about empowerment. We need to talk about the problems and actually do something.\nThat’s what happens at SheSTART on the 10th of March.🩵 \nSheSTART encourages young students\, especially women\, to step into entrepreneurship and the economic world.\nDuring two panel talks\, we’ll discuss the first steps of founding a business as a woman\, and openly address the challenges women still face in the business world today. \nAfterwards\, you’ll have the chance to speak directly with the panelists during curated table networking sessions. Each speaker will host a small Q&A or discussion round on a specific topic (to be announced soon).\nPanelists include Petra Dobrocka\, Co-Founder of Byrd (80mio raised) or Carola Seyr\, Head of Finance of Emmi AI (15mio raised). \nBecause building a more inclusive economic world requires everyone to be part of the conversation. Empowering women benefits all.🌸\nSign up here: https://luma.com/q8mwajoc
URL:https://www.femvents.at/event/shestart-women-in-entrepreneurship/
LOCATION:Impact Hub Vienna\, Lindengasse 56\, Wien\, Wien\, 1070\, Austria
CATEGORIES:Meetup,Wien
ATTACH;FMTTYPE=image/png:https://www.femvents.at/wp-content/uploads/2026/03/Bildschirmfoto-2026-03-07-um-13.40.50.png
ORGANIZER;CN="START Vienna":MAILTO:sinah.lange@start-vienna.com
GEO:48.1995724;16.3459081
X-APPLE-STRUCTURED-LOCATION;VALUE=URI;X-ADDRESS=Impact Hub Vienna Lindengasse 56 Wien Wien 1070 Austria;X-APPLE-RADIUS=500;X-TITLE=Lindengasse 56:geo:16.3459081,48.1995724
END:VEVENT
END:VCALENDAR