BEGIN:VCALENDAR
VERSION:2.0
PRODID:-//femvents.at - ECPv6.15.18//NONSGML v1.0//EN
CALSCALE:GREGORIAN
METHOD:PUBLISH
X-WR-CALNAME:femvents.at
X-ORIGINAL-URL:https://www.femvents.at
X-WR-CALDESC:Veranstaltungen für femvents.at
REFRESH-INTERVAL;VALUE=DURATION:PT1H
X-Robots-Tag:noindex
X-PUBLISHED-TTL:PT1H
BEGIN:VTIMEZONE
TZID:Europe/Vienna
BEGIN:DAYLIGHT
TZOFFSETFROM:+0100
TZOFFSETTO:+0200
TZNAME:CEST
DTSTART:20250330T010000
END:DAYLIGHT
BEGIN:STANDARD
TZOFFSETFROM:+0200
TZOFFSETTO:+0100
TZNAME:CET
DTSTART:20251026T010000
END:STANDARD
BEGIN:DAYLIGHT
TZOFFSETFROM:+0100
TZOFFSETTO:+0200
TZNAME:CEST
DTSTART:20260329T010000
END:DAYLIGHT
BEGIN:STANDARD
TZOFFSETFROM:+0200
TZOFFSETTO:+0100
TZNAME:CET
DTSTART:20261025T010000
END:STANDARD
BEGIN:DAYLIGHT
TZOFFSETFROM:+0100
TZOFFSETTO:+0200
TZNAME:CEST
DTSTART:20270328T010000
END:DAYLIGHT
BEGIN:STANDARD
TZOFFSETFROM:+0200
TZOFFSETTO:+0100
TZNAME:CET
DTSTART:20271031T010000
END:STANDARD
END:VTIMEZONE
BEGIN:VEVENT
DTSTART;TZID=Europe/Vienna:20260317T090000
DTEND;TZID=Europe/Vienna:20260317T110000
DTSTAMP:20260420T021636
CREATED:20260313T085600Z
LAST-MODIFIED:20260313T090405Z
UID:10000889-1773738000-1773745200@www.femvents.at
SUMMARY:Traiskirchen LLL-Frauentreff mit LLL-Botschafterin Renate Andratsch
DESCRIPTION:🌼 Einfach mal rauskommen\, lachen\, quatschen & auftanken?\nDann ist der LLL-Frauentreff genau das Richtige für dich 🫶✨\nEgal ob du neu bist oder schon öfter da warst – hier geht’s um echte Begegnungen\, gute Gespräche und diese kleinen Herzensmomente\,\ndie einfach gut tun 💗\n🧁 Komm vorbei\, wie du bist – wir freuen uns auf dich!\nUnbedingt anmelden\, da begrenzte Teilnahme!\nAnmeldung: info@vereinlebenliebenlachen.at
URL:https://www.femvents.at/event/traiskirchen-lll-frauentreff-mit-lll-botschafterin-renate-andratsch/
LOCATION:Cafe Arkadia\, Hauptplatz 17\, Traiskirchen\, 2514\, Hauptplatz 17\, Traiskirchen\, Niederösterreich\, 2514\, Austria
CATEGORIES:Burgenland,L💛L🧡L🩷 Frauentreff
ATTACH;FMTTYPE=image/jpeg:https://www.femvents.at/wp-content/uploads/2026/03/Fruehstueck-Arkadia-IusIhK.jpg
ORGANIZER;CN="Verein 'LEBEN%2C LIEBEN%2C LACHEN - endlich wei%C3%9F ich wie!'":MAILTO:info@vereinlebenliebenlachen.at
GEO:48.0127536;16.2937241
X-APPLE-STRUCTURED-LOCATION;VALUE=URI;X-ADDRESS=Cafe Arkadia Hauptplatz 17 Traiskirchen 2514 Hauptplatz 17 Traiskirchen Niederösterreich 2514 Austria;X-APPLE-RADIUS=500;X-TITLE=Hauptplatz 17:geo:16.2937241,48.0127536
END:VEVENT
BEGIN:VEVENT
DTSTART;TZID=Europe/Vienna:20260317T170000
DTEND;TZID=Europe/Vienna:20260317T193000
DTSTAMP:20260420T021636
CREATED:20251114T110912Z
LAST-MODIFIED:20251114T110912Z
UID:10000504-1773766800-1773775800@www.femvents.at
SUMMARY:FinanzKRAFT
DESCRIPTION:Finanzielle Unabhängigkeit für Mädchen und Frauen ein Leben lang – Teil 3 \nWie beeinflussen Entscheidungen von Mädchen und Frauen ihre finanzielle Situation? \nIn verschiedenen Lebensphasen treffen Mädchen und Frauen Entscheidungen\, die ihre spätere finanzielle Situation maßgeblich beeinflussen – oft ohne diesen Aspekt mitzudenken. Steirische Expertinnen geben Einblick in aktuelle Daten und informieren über die finanziellen Auswirkungen weiblicher Lebensentscheidungen. \n3 spannende Veranstaltungen mit steirischen Expertinnen: \nTeil 3 – „Arbeit neu FAIRteilen”\nFinanz-Entscheidungen in Paarbeziehungen:\nAktuelle Daten & Praxisbeispiele zu Gender Pay & Pension Gap sowie Gefahren von Krediten und Verträgen mit Mag. Bernadette Pöcheim (Frauenreferat Arbeiterkammer) und Mag. Melanie Gößler (Konsumentenschutz Arbeiterkammer) \nAnschließend Austausch und Vernetzung bei Snacks & Getränken. \nMehr Infos & Anmeldung\nManuela Wutte\, MA | 0043 664 916 23 59\nmanuela.wutte@lebensgross.at \nVergangene Termine:\nTEIL 1: „Traumberuf Friseurin?“; 18.11.2025\nTEIL 2: „Neue Netzwerke statt gläserner Decken”; 20.01.2026
URL:https://www.femvents.at/event/finanzkraft/
LOCATION:Lendhafen Graz\, Lendkai 17\, Graz\, 8020\, Austria
CATEGORIES:Steiermark,Workshop
ATTACH;FMTTYPE=image/png:https://www.femvents.at/wp-content/uploads/2025/06/femvents_eventbild.png
GEO:47.0818178;15.4285527
X-APPLE-STRUCTURED-LOCATION;VALUE=URI;X-ADDRESS=Lendhafen Graz Lendkai 17 Graz 8020 Austria;X-APPLE-RADIUS=500;X-TITLE=Lendkai 17:geo:15.4285527,47.0818178
END:VEVENT
BEGIN:VEVENT
DTSTART;TZID=Europe/Vienna:20260317T183000
DTEND;TZID=Europe/Vienna:20260317T213000
DTSTAMP:20260420T021636
CREATED:20260210T162421Z
LAST-MODIFIED:20260210T162458Z
UID:10000802-1773772200-1773783000@www.femvents.at
SUMMARY:THE:FEM*POWERMENT –  RIOT READING!   ERZÄHL MIR DEIN FEMINISTISCHES BUCH
DESCRIPTION:Was hat dich zu der Person gemacht\, die du heute bist? Welches Buch hat deine Sicht auf die Welt verändert\, und welche literarische Figur hat dir Mut gegeben und dich nachhaltig beeindruckt? Wer ist deine feministische Inspiration?   \nIm Zuge des feministischen Kampftags wollen wir die Seiten aufschlagen\, die uns geprägt haben. Bei unserem Leseabend stehen nicht die Neuerscheinungen auf dem Markt im Rampenlicht\, sondern die Texte\, die euere Herzen bewegen. \nWas erwartet euch?  \nAn diesem interaktiven Bücherabend suchen wir nicht nach literarischer Perfektion\, sondern nach echten Verbindungen. Ob ein zorniges Zitat\, ein zartes Gedicht oder die Beschreibung deiner liebsten Romanheldin – wir möchten wissen: Warum ist gerade dieser Text so besonders für dich?  \nMach mit oder hör zu!  \nDu möchtest lesen? Hast du eine Passage im Kopf\, die du unbedingt teilen willst? Wir freuen uns über alle\, die eine kurze Textstelle (ca. 3–5Minuten) vorstellen möchten.  \nDu möchtest einfach nur lauschen? Komm vorbei\, schnapp dir Freund:innen und ein Getränk und lass dich von den Worten und Geschichten anderer inspirieren.\nLass uns gemeinsam laut werden\, uns erinnern und gegenseitig bestärken. Wir freuen uns auf dich!  \nin Kooperation mit der Arbeiterkammer Wien und FAKTory Wien. \nWas? // THE:FEM*Powerment –  Riot Reading! \nWann? // 17.03. 2026 um 18:30 Uhr\nWo? // FAKTory Wien\, Universitätsstraße 9\, 1010 Wien   \nAnmeldung hier: Registrierung \n 
URL:https://www.femvents.at/event/thefempowerment-riot-reading-erzaehl-mir-dein-feministisches-buch/
LOCATION:FAKTory Wien\, Universitätsstraße 9\, Wien\, 1010
CATEGORIES:After Work,Frauenkreis,Wien
ATTACH;FMTTYPE=image/png:https://www.femvents.at/wp-content/uploads/2026/02/Kopie-von-Insta-Formate-nur-Text-4.png
ORGANIZER;CN="THE%3ASorority":MAILTO:events@sorority.at
GEO:48.2142158;16.3570143
X-APPLE-STRUCTURED-LOCATION;VALUE=URI;X-ADDRESS=FAKTory Wien Universitätsstraße 9 Wien 1010;X-APPLE-RADIUS=500;X-TITLE=Universitätsstraße 9:geo:16.3570143,48.2142158
END:VEVENT
END:VCALENDAR