BEGIN:VCALENDAR
VERSION:2.0
PRODID:-//femvents.at - ECPv6.15.18//NONSGML v1.0//EN
CALSCALE:GREGORIAN
METHOD:PUBLISH
X-WR-CALNAME:femvents.at
X-ORIGINAL-URL:https://www.femvents.at
X-WR-CALDESC:Veranstaltungen für femvents.at
REFRESH-INTERVAL;VALUE=DURATION:PT1H
X-Robots-Tag:noindex
X-PUBLISHED-TTL:PT1H
BEGIN:VTIMEZONE
TZID:Europe/Vienna
BEGIN:DAYLIGHT
TZOFFSETFROM:+0100
TZOFFSETTO:+0200
TZNAME:CEST
DTSTART:20250330T010000
END:DAYLIGHT
BEGIN:STANDARD
TZOFFSETFROM:+0200
TZOFFSETTO:+0100
TZNAME:CET
DTSTART:20251026T010000
END:STANDARD
BEGIN:DAYLIGHT
TZOFFSETFROM:+0100
TZOFFSETTO:+0200
TZNAME:CEST
DTSTART:20260329T010000
END:DAYLIGHT
BEGIN:STANDARD
TZOFFSETFROM:+0200
TZOFFSETTO:+0100
TZNAME:CET
DTSTART:20261025T010000
END:STANDARD
BEGIN:DAYLIGHT
TZOFFSETFROM:+0100
TZOFFSETTO:+0200
TZNAME:CEST
DTSTART:20270328T010000
END:DAYLIGHT
BEGIN:STANDARD
TZOFFSETFROM:+0200
TZOFFSETTO:+0100
TZNAME:CET
DTSTART:20271031T010000
END:STANDARD
END:VTIMEZONE
BEGIN:VEVENT
DTSTART;TZID=Europe/Vienna:20260319T140000
DTEND;TZID=Europe/Vienna:20260319T180000
DTSTAMP:20260420T021802
CREATED:20260305T090908Z
LAST-MODIFIED:20260316T134908Z
UID:10000873-1773928800-1773943200@www.femvents.at
SUMMARY:Female Future Meet Up Salzburg 2026
DESCRIPTION:Ein Nachmittag der Inspiration\nDas Female Future Meet Up Salzburg — das Festival im kleinen\, feinen Format. Kompakt\, fokussiert und voller Inspiration. Für Entschlossene und Unentschlossene\, Mutige und Macherinnen\, Gründerinnen und Entdeckerinnen. \nWas dich erwartet\n\nMainstage mit 8+ Speakerinnen\nEmpowerment Stories\, Interviews und Diskussionspanels\nKaffee und Getränke\nNetworking-Möglichkeiten\n\nThe Power of Connection\nEchte menschliche Verbindungen als strategische Ressource. Die Festival Tour 2026 bringt die Female Future Community in die schönsten Städte des DACH-Raums. \n8+ Speakerinnen\nAuf der Mainstage\nEmpowerment Stories\, Interviews und Diskussionspanels mit inspirierenden Persönlichkeiten. \nNetworking\nThe Power of Connection\nEchte Verbindungen in entspannter Atmosphäre mit Kaffee und Getränken.
URL:https://www.femvents.at/event/female-future-meet-up-salzburg-2026/
LOCATION:Salzburg\, Aigner Straße 78\, 5026 Salzburg-Aigen\, Salzburg\, Salzburg\, 5026
CATEGORIES:Salzburg
ATTACH;FMTTYPE=image/png:https://www.femvents.at/wp-content/uploads/2026/03/Bildschirmfoto-2026-03-05-um-10.08.21.png
GEO:47.516231;14.550072
X-APPLE-STRUCTURED-LOCATION;VALUE=URI;X-ADDRESS=Salzburg Aigner Straße 78 5026 Salzburg-Aigen Salzburg Salzburg 5026;X-APPLE-RADIUS=500;X-TITLE=Aigner Straße 78\, 5026 Salzburg-Aigen:geo:14.550072,47.516231
END:VEVENT
BEGIN:VEVENT
DTSTART;TZID=Europe/Vienna:20260319T180000
DTEND;TZID=Europe/Vienna:20260319T193000
DTSTAMP:20260420T021802
CREATED:20260111T201935Z
LAST-MODIFIED:20260111T201935Z
UID:10000671-1773943200-1773948600@www.femvents.at
SUMMARY:Quiche & Cash
DESCRIPTION:Finanzielle Absicherung\, Selbständigkeit und Selbstbestimmung sind zentrale Voraussetzungen für gleichberechtigte Teilhabe von uns Frauen in Beruf\, Familie und Gesellschaft. \nUnser Workshop zielt darauf ab\, konkrete alltagstaugliche Strategien zu vermitteln\, damit Geld dir Sicherheit gibt und keine Sorgen bereitet. \n\nDu erhältst Entscheidungshilfen für deinen eigenständigen Umgang mit Geld\nDu bekommst praktische Tipps\, um deine Fähigkeiten im Umgang mit Geld zu stärken\n\nWir kombinieren den Genuss von wunderbaren französischen Quiches mit wertvollen Informationen über Geld. \nFrauen\, die sich dafür interessieren\, ihr Geld richtig einzuteilen\, zu sparen oder zu investieren\, sind herzlich eingeladen! Bringt gerne eure Freundinnen oder Kolleginnen mit!
URL:https://www.femvents.at/event/quiche-cash/
LOCATION:FiftyOne\, Wienerstraße 51\, Oberwart\, Burgenland\, 7400\, Austria
CATEGORIES:After Work,Burgenland
ATTACH;FMTTYPE=image/png:https://www.femvents.at/wp-content/uploads/2026/01/Quiche-und-Cash.png
GEO:47.2927854;16.2060475
X-APPLE-STRUCTURED-LOCATION;VALUE=URI;X-ADDRESS=FiftyOne Wienerstraße 51 Oberwart Burgenland 7400 Austria;X-APPLE-RADIUS=500;X-TITLE=Wienerstraße 51:geo:16.2060475,47.2927854
END:VEVENT
END:VCALENDAR