BEGIN:VCALENDAR
VERSION:2.0
PRODID:-//femvents.at - ECPv6.15.18//NONSGML v1.0//EN
CALSCALE:GREGORIAN
METHOD:PUBLISH
X-ORIGINAL-URL:https://www.femvents.at
X-WR-CALDESC:Veranstaltungen für femvents.at
REFRESH-INTERVAL;VALUE=DURATION:PT1H
X-Robots-Tag:noindex
X-PUBLISHED-TTL:PT1H
BEGIN:VTIMEZONE
TZID:Europe/Vienna
BEGIN:DAYLIGHT
TZOFFSETFROM:+0100
TZOFFSETTO:+0200
TZNAME:CEST
DTSTART:20250330T010000
END:DAYLIGHT
BEGIN:STANDARD
TZOFFSETFROM:+0200
TZOFFSETTO:+0100
TZNAME:CET
DTSTART:20251026T010000
END:STANDARD
BEGIN:DAYLIGHT
TZOFFSETFROM:+0100
TZOFFSETTO:+0200
TZNAME:CEST
DTSTART:20260329T010000
END:DAYLIGHT
BEGIN:STANDARD
TZOFFSETFROM:+0200
TZOFFSETTO:+0100
TZNAME:CET
DTSTART:20261025T010000
END:STANDARD
BEGIN:DAYLIGHT
TZOFFSETFROM:+0100
TZOFFSETTO:+0200
TZNAME:CEST
DTSTART:20270328T010000
END:DAYLIGHT
BEGIN:STANDARD
TZOFFSETFROM:+0200
TZOFFSETTO:+0100
TZNAME:CET
DTSTART:20271031T010000
END:STANDARD
END:VTIMEZONE
BEGIN:VEVENT
DTSTART;TZID=Europe/Vienna:20260320T090000
DTEND;TZID=Europe/Vienna:20260321T170000
DTSTAMP:20260420T021933
CREATED:20260224T082844Z
LAST-MODIFIED:20260225T165439Z
UID:10000845-1773997200-1774112400@www.femvents.at
SUMMARY:Aura - Chakrenbalance
DESCRIPTION:Fühlst du dich manchmal überfordert\, innerlich unruhig und unausgeglichen?\nWachst du nachts auf und dein Gedankenkarussell dreht sich unaufhaltsam weiter?\nSpürst du tief in dir: Mein Energiesystem darf sich neu ordnen?\n\nDann ist dieses Frühjahrsspecial eine liebevolle Einladung an dich\, dein Energiesystem bewusst zu reinigen und neu auszurichten. \nDieser Workshop ist kein theoretischer Kurs\, sondern eine bewusste Reise in dein feinstoffliches System. \nDu lernst du\, Energien wahrzunehmen\, Blockaden zu lösen und dein inneres Gleichgewicht zu stärken – sanft\, wirkungsvoll und nachhaltig. \nErdung\, liebevolle Abgrenzung und energetische Reinigung werden alltagstauglich und klar vermittelt. \nEinfache\, wirkungsvolle Tools der Aura – Chakrenbalance sowie der spirituellen Energiearbeit begleiten dich – für dich selbst und auch für die Anwendung bei anderen (Familie\, Freunde oder Klienten). \nDu bist hier genau richtig\, \n\nwenn du fühlst – oder längst weißt\, dass da mehr in dir ist.\nWenn du bereit bist\, tiefer in die spirituelle Energiearbeit einzutauchen.\nWenn deine Seele sich danach sehnt\, sich zu entfalten und Erfüllung zu finden.\n\nDer Frühling beginnt nicht im Außen – er beginnt in dir. \nFür mehr Lebenskraft\, Ausstrahlung und Wohlbefinden. \nFür das\, was durch dich wirken darf. \nHerzliche Frühlingsgrüße\nMarlies \nOrt: Saminapark-Seminarhaus\, Frastanz\nTermin: 20. 03. und 21.03.2026\,\njeweils 9.00 – 17.00 Uhr\nDeine Investition: € 355.-
URL:https://www.femvents.at/event/aura-chakrenbalance/
LOCATION:Saminapark Frastanz\, Hauptmann-Frick-Straße 2a\, Frastanz\, Vorarlberg\, 6820\, Austria
CATEGORIES:Salon13,Vorarlberg,Workshop
ATTACH;FMTTYPE=image/png:https://www.femvents.at/wp-content/uploads/2026/02/Chakra-Balance.png
ORGANIZER;CN="Marlies Mock":MAILTO:kontakt@marlies-mock.at
GEO:47.2169008;9.631149
X-APPLE-STRUCTURED-LOCATION;VALUE=URI;X-ADDRESS=Saminapark Frastanz Hauptmann-Frick-Straße 2a Frastanz Vorarlberg 6820 Austria;X-APPLE-RADIUS=500;X-TITLE=Hauptmann-Frick-Straße 2a:geo:9.631149,47.2169008
END:VEVENT
BEGIN:VEVENT
DTSTART;TZID=Europe/Vienna:20260321T090000
DTEND;TZID=Europe/Vienna:20260321T110000
DTSTAMP:20260420T021933
CREATED:20260206T091738Z
LAST-MODIFIED:20260206T101830Z
UID:10000772-1774083600-1774090800@www.femvents.at
SUMMARY:Noch kein Ja\, noch kein Nein – Einsamkeit in der Kinderfrage
DESCRIPTION:Noch kein Ja\, noch kein Nein – manchmal ist genau das der ehrlichste Ort. \nViele Frauen erleben rund um die Kinderfrage eine stille Einsamkeit. Nicht\, weil niemand da ist – sondern weil diese innere Phase schwer teilbar ist:\n… zu viele Erwartungen von außen\,\n… zu viele Meinungen\,\n… zu wenig Raum für das eigene Erleben. \nDieser Vormittag ist ein moderiertes Gruppentreffen in einer kleinen Gruppe von maximal 5 Frauen\, die sich mit der Kinderfrage beschäftigen und sich dabei im Dazwischen oder unsicher fühlen.\nGanz unabhängig davon\, wohin der eigene Weg später führt. \nIch biete keine Entscheidungshilfe und keine Antworten darauf\, was „richtig“ ist.\nIch halte einen Raum\, in dem: \n\nZweifel\, Sehnsucht\, Angst und Klarheit nebeneinander existieren dürfen\nEinsamkeit ausgesprochen werden kann\, ohne sie erklären zu müssen\nBegegnung auf Augenhöhe entsteht – ohne Ratschläge\, ohne Überzeugung\n\nTeilen ist immer freiwillig. Alles\, was gesagt wird\, bleibt im Raum. \nDieser Vormittag ist für dich\, wenn du: \n🧭 dich innerlich mit der Kinderfrage beschäftigst\n🧭 dich dabei oft unverstanden oder allein fühlst\n🧭 keinen Druck willst\, dich festlegen zu müssen\n🧭 dir einen ruhigen\, ehrlichen Austausch wünschst  \nDu musst nichts wissen. Du darfst einfach da sein – genau dort\, wo du gerade stehst. \nNicht geeignet\, wenn du: \n\neine konkrete Entscheidungsberatung suchst\nklare Antworten oder Empfehlungen erwartest\n\n📍 Ort: Praxis (Heinestraße 36\, Stiege 1\, Tür 2\, 1020 Wien)\n🕰 Zeit: Samstag\, Vormittag\, ca. 2 Stunden\n👥 Teilnehmerinnen: max. 5\n💶 Unkostenbeitrag: 30 € \nZur Veranstalterin: Mein Name ist Stephanie Heidenreich\, ich bin psychosoziale Beraterin & Supervisorin und begleite beruflich Menschen\, die durch einsame Lebensphasen gehen. Wenn Du mehr zu mir und meinem Angebot wissen möchtest\, schau auf meiner Homepage vorbei: www.beratung-heidenreich.at
URL:https://www.femvents.at/event/noch-kein-ja-noch-kein-nein-einsamkeit-in-der-kinderfrage/
LOCATION:Beratung Heidenreich\, Heinestraße 36/ Stiege 1/ Tür 2\, Wien\, Wien\, 1020\, Austria
CATEGORIES:Coaching,Wien
ATTACH;FMTTYPE=image/png:https://www.femvents.at/wp-content/uploads/2026/02/Ja_Nein_Mutter-1.png
ORGANIZER;CN="Beratung Heidenreich":MAILTO:office@beratung-heidenreich.at
GEO:48.2186531;16.3887706
X-APPLE-STRUCTURED-LOCATION;VALUE=URI;X-ADDRESS=Beratung Heidenreich Heinestraße 36/ Stiege 1/ Tür 2 Wien Wien 1020 Austria;X-APPLE-RADIUS=500;X-TITLE=Heinestraße 36/ Stiege 1/ Tür 2:geo:16.3887706,48.2186531
END:VEVENT
BEGIN:VEVENT
DTSTART;TZID=Europe/Vienna:20260321T093000
DTEND;TZID=Europe/Vienna:20260321T123000
DTSTAMP:20260420T021933
CREATED:20260108T100957Z
LAST-MODIFIED:20260108T100957Z
UID:10000643-1774085400-1774096200@www.femvents.at
SUMMARY:Workshop - Hello Beckenboden: Fühlen. Verstehen. Verbinden.
DESCRIPTION:Schenke dir drei Stunden ganz für dich und entdecke die Kraft und Feinheit deines Beckenbodens. \nWir verbinden Wissen\, Praxis und Austausch – in einem sicheren Raum\, in dem alles da sein darf und kein Thema tabu ist. \nWann & wo:\n📅 Samstag\, 21. März\n🕘 09:30–12:30 Uhr\n📍 be your muse Yogastudio\, Ferrogasse 9/1\, 1180 Wien \nWas dich erwartet:\n– Beckenboden-Theorie: Anatomie\, Atmung & Haltung – verständlich erklärt\n– Sanfte Übungen: Wahrnehmen\, entspannen & aktivieren\n– Austausch in kleiner Runde (max. 9 Frauen) – offen & wertschätzend\n– Ein Mini-Workbook\, das dich auch im Alltag begleitet \nFür wen ist der Workshop gedacht:\n– Frauen\, die ihren Beckenboden neu entdecken möchten\n– Anfängerinnen\, die einen sicheren Einstieg suchen\n– Tabu-Brecherinnen\, die Lust auf offenen Austausch habe \nDein Gewinn:\n– Mehr Körperbewusstsein & Wissen über deine Mitte\n– Praktische Übungen für den Alltag\n– Leichtigkeit im Umgang mit einem oft verschwiegenen Thema\n– Zeit für dich – zum Fühlen\, Lachen & Lernen \nWeitere Informationen und Anmeldung unter: https://www.im-gefuehl.at/workshop
URL:https://www.femvents.at/event/workshop-hello-beckenboden-fuehlen-verstehen-verbinden-2/
LOCATION:be your muse Yogastudio\, 1180 Wien\, Ferrogasse 9/1\, Wien\, Wien\, 1180\, Austria
CATEGORIES:Wien,Workshop
ATTACH;FMTTYPE=image/png:https://www.femvents.at/wp-content/uploads/2026/01/Workshop-Hello-Beckenboden.png
ORGANIZER;CN="Im Gef%C3%BChl - Christina Hopf":MAILTO:office@im-gefuehl.at
GEO:48.23266;16.3266572
X-APPLE-STRUCTURED-LOCATION;VALUE=URI;X-ADDRESS=be your muse Yogastudio 1180 Wien Ferrogasse 9/1 Wien Wien 1180 Austria;X-APPLE-RADIUS=500;X-TITLE=Ferrogasse 9/1:geo:16.3266572,48.23266
END:VEVENT
BEGIN:VEVENT
DTSTART;TZID=Europe/Vienna:20260321T093000
DTEND;TZID=Europe/Vienna:20260321T180000
DTSTAMP:20260420T021933
CREATED:20260302T111626Z
LAST-MODIFIED:20260302T111626Z
UID:10000865-1774085400-1774116000@www.femvents.at
SUMMARY:Weg der Königin - leben\, arbeiten\, führen aus der weiblichen Kraft
DESCRIPTION:Wie wir das weibliche Prinzip mit seinen natürlichen Zyklen im persönlichen\, beruflichen und gesellschaftlichen Alltag weiter kultivieren. \nDas weibliche Prinzip und das Wissen um naturzyklische Prozesse ist in Alltag\, Beruf und in Führungsbereichen unterrepräsentiert. Es fehlen Frauen\, die aus ihrer tiefen weiblichen Kraft agieren. Der Zugang wurde verschüttet und wir fangen an\, diese Quelle wieder freizulegen. Für mehr Regeneration in allen Lebensbereichen – und unserer Welt. \n9 Module – 7 ONLINE und 2 in PRÄSENZ. Start 21. März 2026\, ONLINE. Was erwartet dich? \n👑Wir „Weg der Königin-Begleiterinnen“ ermutigen Frauen in gestaltenden Funktionen\, die Wurzeln ihrer Kraft neu zu entdecken.\n👑Wir gehen als Gemeinschaft mit dem individuellen Lebensthema\, Projekt jeder Frau ein Jahr durch alle Phasen einer natürlich erfolgreichen Entwicklung – verbunden mit den aktuellen Anforderungen unserer Zeit und unserer kollektiven Intelligenz\n👑Wir vermitteln Wissen um rhythmische Zusammenhänge alles Lebendigen\, im Einklang mit Gaia\, und wie diese den Alltag stärken. \n👑Wir spüren in den Naturgängen die tiefe\, entspannende Verbundenheit mit Gaia und kultivieren Lebendigkeit.\n👑Wir beleben Körperintelligenz und Intuition – für weise Entscheidungen.\n👑Wir definieren echte Verbundenheit unter Frauen & Teams neu: feminine leadership basiert auf einer gestärkten inneren Kompetenz.\n👑 Wir vermitteln und erproben gemeinsam regenerative\, partizipative Methoden aus Selbst- und Unternehmensführung\, zb. Regeneratives & zyklisches Leadership\, Art of hosting\, Embodiment\, Ritualarbeit\, systemische Prozessarbeit\, Spiral Dynamics. Das führt zu mehr Integrität\, Potenzialentfaltung\, Lebensfreude und Resilienz.
URL:https://www.femvents.at/event/weg-der-koenigin-leben-arbeiten-fuehren-aus-der-weiblichen-kraft/
CATEGORIES:Coaching,Frauenkreis,Kurs,Oberösterreich
ATTACH;FMTTYPE=image/jpeg:https://www.femvents.at/wp-content/uploads/2026/03/Karte_2026_WdK_Vorderseite-scaled.jpg
END:VEVENT
BEGIN:VEVENT
DTSTART;TZID=Europe/Vienna:20260321T100000
DTEND;TZID=Europe/Vienna:20260321T200000
DTSTAMP:20260420T021933
CREATED:20260305T070305Z
LAST-MODIFIED:20260316T122414Z
UID:10000872-1774087200-1774123200@www.femvents.at
SUMMARY:MAKE IT MATTER Festival
DESCRIPTION:Das erste nachhaltige Festival in der Südsteiermark. \nBewusst. Regional. Echt. \nAm 21. März 2026 öffnet das Alte Kino Leibnitz seine Türen für Inspiration\, Begegnung und neue Perspektiven. Das MAKE IT MATTER Festival lädt ein\, Nachhaltigkeit\, Regionalität und Haltung bewusst zu erleben. \nRund 50 nachhaltige Marken\, Produzent:innen und Aussteller:innen präsentieren ihre Produkte – von Bio-Getränken und regionalen Lebensmitteln über Handwerk\, Design und Kunst bis hin zu innovativen Projekten aus der Region. Ergänzt wird das Programm durch Workshops\, Impulsvorträge\, Talks\, eine Podiumsdiskussion\, Yoga\, Neuromeditation\, DJs und Kinderbetreuung. \nUm 10:00 Uhr eröffnet Leni Koinegg das Festival. Den Auftakt bildet die Live-Premiere des MAKE IT MATTER Songs von Betty O\, gemeinsam mit dem Schulchor der de La Tour Schule Sonnenhaus – ein musikalisches Zeichen für Gemeinschaft\, Bewusstsein und Zukunft. \nMAKE IT MATTER zeigt: Nachhaltigkeit beginnt bei uns selbst – im achtsamen Umgang miteinander\, in bewussten Entscheidungen und im gemeinsamen Tun. Jede:r kann etwas bewegen. \nOpen your eyes. Change your world. MAKE IT MATTER. \nSustainability only becomes visible when we live it together.
URL:https://www.femvents.at/event/make-it-matter-festival/
LOCATION:Altes Kino Leibnitz\, Bahnhofstraße 16\, Leibnitz\, Leibnitz\, 8430\, Austria
CATEGORIES:Lesung,Meditation,Netzwerk-Treffen,Soundhealing,Steiermark,Vortrag,Workshop
ATTACH;FMTTYPE=image/jpeg:https://www.femvents.at/wp-content/uploads/2026/03/altes-kino-leibnitz-©majoli-fotografie.jpg
GEO:46.7819707;15.543587
X-APPLE-STRUCTURED-LOCATION;VALUE=URI;X-ADDRESS=Altes Kino Leibnitz Bahnhofstraße 16 Leibnitz Leibnitz 8430 Austria;X-APPLE-RADIUS=500;X-TITLE=Bahnhofstraße 16:geo:15.543587,46.7819707
END:VEVENT
BEGIN:VEVENT
DTSTART;TZID=Europe/Vienna:20260321T143000
DTEND;TZID=Europe/Vienna:20260321T170000
DTSTAMP:20260420T021933
CREATED:20260313T093216Z
LAST-MODIFIED:20260313T093216Z
UID:10000914-1774103400-1774112400@www.femvents.at
SUMMARY:cut & paste: creative collage session
DESCRIPTION:We’re back! 🎉 And by popular demand\, we’re getting crafty with collage again ✂️ \nIn this session\, I’ll show you the ropes ✨ giving you some tips\, tricks\, and ideas to activate that creative spark in your brain 👽 whether it’s your first time or you’re back for more\, come and try something new! \n„But\, I can’t even draw!“ 🔫 You don’t have to. With collage\, the pictures are all drawn for you. It’s just about bringing them together to tell a new story. \n🪩 Ticket price includes everything\, so just come and play.\n💌 DM or email dala-sessions5020@proton.me to book your spot. Limited seats available.\n⏰ Duration: 2\,5 hours\n📅 21.03.2026\n📍Wolf-Dietrich-Str.\, 9/1\, Salzburg \n📰 Feel free to bring some old magazines and books you’d like to donate (finally get rid of).
URL:https://www.femvents.at/event/cut-paste-creative-collage-session/
LOCATION:La Vie Coworking\, Wolf-Dietrich-Straße 9\, Salzburg\, Salzburg\, 5020\, Austria
CATEGORIES:Salzburg,Workshop
ATTACH;FMTTYPE=image/jpeg:https://www.femvents.at/wp-content/uploads/2026/03/ae4b95be-506f-4e83-8ae3-13f958d9b21e.jpeg
ORGANIZER;CN="dala sessions":MAILTO:dala-sessions5020@proton.me
GEO:47.8048508;13.047892
X-APPLE-STRUCTURED-LOCATION;VALUE=URI;X-ADDRESS=La Vie Coworking Wolf-Dietrich-Straße 9 Salzburg Salzburg 5020 Austria;X-APPLE-RADIUS=500;X-TITLE=Wolf-Dietrich-Straße 9:geo:13.047892,47.8048508
END:VEVENT
BEGIN:VEVENT
DTSTART;TZID=Europe/Vienna:20260321T180000
DTEND;TZID=Europe/Vienna:20260321T200000
DTSTAMP:20260420T021933
CREATED:20260130T064440Z
LAST-MODIFIED:20260130T064440Z
UID:10000733-1774116000-1774123200@www.femvents.at
SUMMARY:Chair Dance Workshop - open Level
DESCRIPTION:SALZBURG Chair Dance Workshop ✨😍 \nMärz Edition \nBist du ready? ❤️‍🔥 \nQueen\, willst du lernen wie man richtig mit/auf/um einen Sessel tanzt und dich elegant\, schön und wohl dabei fühlen? \nDu willst dich mit deiner weiblichen Energie verbinden und brauchst einen Selbstbewusstseins-Push? 🥰 \nDu sehnst dich nach einer sicheren Atmosphäre\, wo du dich neu entdecken und dich mit anderen tollen Frauen gemeinsam austauschen kannst? \nDann bist du beim SELFLOVE & BOOTYSHAKE Chair Dance Workshop genau richtig. 😍❤️ \nIch freue mich auf dich! 🫶🏻 \nAnmeldung & mehr Infos via Mail: \nselflove.bootyshake@gmail.com / Instagram: @johanna.selflove \n📍 Dance Base / Weiserhofstraße 3\, 5020 Salzburg \nLet’s shine together 💎 \nMuch love & virtual hugs \nJohanna
URL:https://www.femvents.at/event/chair-dance-workshop-open-level-2/
LOCATION:Dance Base Salzburg\, Weiserhofstraße 3\, Salzburg\, 5020\, Austria
CATEGORIES:Salzburg,Tanzveranstaltung
ATTACH;FMTTYPE=image/jpeg:https://www.femvents.at/wp-content/uploads/2026/01/Bild-30.01.26-um-06.59.jpg
ORGANIZER;CN="Selflove &amp%3B Bootyshake by Johanna":MAILTO:info@selflove-bootyshake.com
GEO:47.8120247;13.0474994
X-APPLE-STRUCTURED-LOCATION;VALUE=URI;X-ADDRESS=Dance Base Salzburg Weiserhofstraße 3 Salzburg 5020 Austria;X-APPLE-RADIUS=500;X-TITLE=Weiserhofstraße 3:geo:13.0474994,47.8120247
END:VEVENT
END:VCALENDAR