BEGIN:VCALENDAR
VERSION:2.0
PRODID:-//femvents.at - ECPv6.15.18//NONSGML v1.0//EN
CALSCALE:GREGORIAN
METHOD:PUBLISH
X-ORIGINAL-URL:https://www.femvents.at
X-WR-CALDESC:Veranstaltungen für femvents.at
REFRESH-INTERVAL;VALUE=DURATION:PT1H
X-Robots-Tag:noindex
X-PUBLISHED-TTL:PT1H
BEGIN:VTIMEZONE
TZID:Europe/Vienna
BEGIN:DAYLIGHT
TZOFFSETFROM:+0100
TZOFFSETTO:+0200
TZNAME:CEST
DTSTART:20250330T010000
END:DAYLIGHT
BEGIN:STANDARD
TZOFFSETFROM:+0200
TZOFFSETTO:+0100
TZNAME:CET
DTSTART:20251026T010000
END:STANDARD
BEGIN:DAYLIGHT
TZOFFSETFROM:+0100
TZOFFSETTO:+0200
TZNAME:CEST
DTSTART:20260329T010000
END:DAYLIGHT
BEGIN:STANDARD
TZOFFSETFROM:+0200
TZOFFSETTO:+0100
TZNAME:CET
DTSTART:20261025T010000
END:STANDARD
BEGIN:DAYLIGHT
TZOFFSETFROM:+0100
TZOFFSETTO:+0200
TZNAME:CEST
DTSTART:20270328T010000
END:DAYLIGHT
BEGIN:STANDARD
TZOFFSETFROM:+0200
TZOFFSETTO:+0100
TZNAME:CET
DTSTART:20271031T010000
END:STANDARD
END:VTIMEZONE
BEGIN:VEVENT
DTSTART;TZID=Europe/Vienna:20260327T160000
DTEND;TZID=Europe/Vienna:20260327T173000
DTSTAMP:20260420T021937
CREATED:20260318T140154Z
LAST-MODIFIED:20260318T140154Z
UID:10000946-1774627200-1774632600@www.femvents.at
SUMMARY:Aufrechte Haltung – innen & außen:
DESCRIPTION:Mitte entdecken – Haltung leben\nWorkshops für Frauen\, die bei sich ankommen wollen.\nDu aktivierst deine Körpermitte und spürst\, wie Haltung\, Beweglichkeit und innere Ruhe Leichtigkeit in deinen Alltag bringen. Jeder Termin kombiniert spürbare Übungen mit klaren Impulsen und Raum für deine Fragen.\n\nThemen:1. Beckenboden & Co – die Kraft aus der Mitte:20.März 2026Erlebe das Zusammenspiel zwischen Atmung\, Haltung &Bauchform. \n\n\n2. Aufrechte Haltung – innen & außen: 27. März 2026Richte dich auf & integriere mehr Leichtigkeit in deinenAlltag. \n\n\n3. Beweglich bleiben – stabil werden:10. April 2026Forme deine Körpermitte und bleib beweglich für alles\, wasdu liebst. \n\n\n4. Meditation & Integration:17. April 2026Bring Ruhe in dich & deinen Alltag – spürbare Entspannunginklusive . \n\n\nDie Workshops geben dir Impulse\, mit denen du Haltung\, Stabilität und Ruhe erleben kannst.Du verstehst nicht nur\, was du tust – sondern auch warum.So wird Haltung spürbar und alltagstauglich. \n\n Uhrzeit: 16:00 – 17:30 Ort: Dance-up Sportverein\, Johannes Gutenbergstraße 5\, 2700 Wiener Neustadt\nEinzeltermin: € 39Workshop Reihe – 4 Termine: € 140 (statt € 156)\n\nBei Fragen melde dich gerne bei mir: info@martinalichtblau.at\, +43 670 181 36 20. \n\nWenn du spürst\, dass deine Haltung mehr sein darf als „gerade sitzen“ dann ist das dein nächster Schritt: www.martinalichtblau.at/haltungsworkshops
URL:https://www.femvents.at/event/aufrechte-haltung-innen-aussen/
LOCATION:Wiener Neustadt\, Johannes-Gutenberg-Straße 5\, Wiener Neustadt\, Niederösterreich\, 2700\, Austria
CATEGORIES:Kurs,Niederösterreich,Workshop
ATTACH;FMTTYPE=image/png:https://www.femvents.at/wp-content/uploads/2026/03/Titelbild-FB-Mitte-finden.png
ORGANIZER;CN="Martina Lichtblau - Haltungsraum":MAILTO:info@martinalichtblau.at
GEO:47.8381618;16.2506617
X-APPLE-STRUCTURED-LOCATION;VALUE=URI;X-ADDRESS=Wiener Neustadt Johannes-Gutenberg-Straße 5 Wiener Neustadt Niederösterreich 2700 Austria;X-APPLE-RADIUS=500;X-TITLE=Johannes-Gutenberg-Straße 5:geo:16.2506617,47.8381618
END:VEVENT
BEGIN:VEVENT
DTSTART;TZID=Europe/Vienna:20260327T180000
DTEND;TZID=Europe/Vienna:20260327T230000
DTSTAMP:20260420T021937
CREATED:20260316T085139Z
LAST-MODIFIED:20260316T085139Z
UID:10000919-1774634400-1774652400@www.femvents.at
SUMMARY:Early EVE - All Female Clubbing
DESCRIPTION:Everybody Dance Now\n✨ EARLY EVƎ ✨\n Early EVƎ – Wiens erster Clubabend von und für Frauen – der früher beginnt und bis zum Schluss gute Vibes versprüht. SEE YOU ON THE DANCEFLOOR\n 18:00 bis 23:00 Uhr im U4 und der Dancefloor ist nur für DICH.  \n✨ ALL FEMALE ✨\n Dress Up – or Don’t\, kreisch\, sing\, tanz wie du dich wohl fühlst.\nBei uns zählt: Good Vibes Only – ganz ohne Stress.  \n✨ EARLY EVƎ – IT’S YOUR PLACE ✨\n Ein Ort zum Wohlfühlen\, entspannen und ausgelassen feiern.\nEgal\, ob Studentin\, Business-Queen\, Mama oder Best-Ager.\nEarly EVƎ ist für jede Frau\, die Lust auf einen ausgelassenen Abend hat.  \n Also pack deine Freundinnen\, Kolleginnen\, Schwester\, deine Mum\, deine Tante… ein und feiert bei Early EVƎ!  \n✨ MUSIC ✨\n Ob zu den Klassikern mitsingen oder zu den heißesten Beats tanzen…\nEarly EVƎ – Dance & Good Vibes!  \n✨ We Love to SPARKLE! ✨\n Wir verwöhnen dich mit besonderen Highlights.\nGlitzerstation für deinen extra Sparkle und Shiatsu-Massagen\, damit du total relaxed bist.  \n 💜 All Female – Bar & DJ & Guests\n🕒 Start Early 6 p.m – But Party As It’s Late.\n🙋‍♀️ Everyone Welcome – Even Alone\n🪩 Musik That Lifts You Up\n🚽 JUHUUU No Waiting Line\n👗 Dress Up Or Don’t – Enjoy Your Night.  \n✨ Wanna PARTY ALL NIGHT long ✨\n Mit deinen Tickets kannst du natürlich auch noch nach 23 Uhr weiterfeiern.  \nTischreservierung:  tableservice@u4.at  \n18:00 Einlass\n13\,00 Vorverkauf\n15\,00 Abendkasse
URL:https://www.femvents.at/event/early-eve-all-female-clubbing/
LOCATION:U4 Club\, Schönbrunnerstr. 222\, Wien\, Wien\, 1120\, Austria
CATEGORIES:After Work,Tanzveranstaltung,Wien
ATTACH;FMTTYPE=image/png:https://www.femvents.at/wp-content/uploads/2026/03/Eve-Header-Fall-2025.png
ORGANIZER;CN="Early EVE":MAILTO:office@earlyeve.at
GEO:48.1832945;16.3282249
X-APPLE-STRUCTURED-LOCATION;VALUE=URI;X-ADDRESS=U4 Club Schönbrunnerstr. 222 Wien Wien 1120 Austria;X-APPLE-RADIUS=500;X-TITLE=Schönbrunnerstr. 222:geo:16.3282249,48.1832945
END:VEVENT
END:VCALENDAR