BEGIN:VCALENDAR
VERSION:2.0
PRODID:-//femvents.at - ECPv6.15.18//NONSGML v1.0//EN
CALSCALE:GREGORIAN
METHOD:PUBLISH
X-WR-CALNAME:femvents.at
X-ORIGINAL-URL:https://www.femvents.at
X-WR-CALDESC:Veranstaltungen für femvents.at
REFRESH-INTERVAL;VALUE=DURATION:PT1H
X-Robots-Tag:noindex
X-PUBLISHED-TTL:PT1H
BEGIN:VTIMEZONE
TZID:Europe/Vienna
BEGIN:DAYLIGHT
TZOFFSETFROM:+0100
TZOFFSETTO:+0200
TZNAME:CEST
DTSTART:20250330T010000
END:DAYLIGHT
BEGIN:STANDARD
TZOFFSETFROM:+0200
TZOFFSETTO:+0100
TZNAME:CET
DTSTART:20251026T010000
END:STANDARD
BEGIN:DAYLIGHT
TZOFFSETFROM:+0100
TZOFFSETTO:+0200
TZNAME:CEST
DTSTART:20260329T010000
END:DAYLIGHT
BEGIN:STANDARD
TZOFFSETFROM:+0200
TZOFFSETTO:+0100
TZNAME:CET
DTSTART:20261025T010000
END:STANDARD
BEGIN:DAYLIGHT
TZOFFSETFROM:+0100
TZOFFSETTO:+0200
TZNAME:CEST
DTSTART:20270328T010000
END:DAYLIGHT
BEGIN:STANDARD
TZOFFSETFROM:+0200
TZOFFSETTO:+0100
TZNAME:CET
DTSTART:20271031T010000
END:STANDARD
END:VTIMEZONE
BEGIN:VEVENT
DTSTART;VALUE=DATE:20260328
DTEND;VALUE=DATE:20260329
DTSTAMP:20260420T021645
CREATED:20260301T104350Z
LAST-MODIFIED:20260301T104350Z
UID:10000860-1774656000-1774742399@www.femvents.at
SUMMARY:Wenn Veränderung ruft
DESCRIPTION:In diesem Workshop schaffen wir Raum für echte Reflexion – mit spirituellen Impulsen\, systemisch und wertorientiert. \nDu arbeitest an deinem konkreten Thema. \nWir beleuchten deine Werte\, innere Antreiber und Spannungsfelder. \nDu erkennst\, was dich wirklich führt – und was dich blockiert. \nAm Ende gehst du nicht nur mit neuen Einsichten\, sondern mit klaren nächsten Schritten. \nKein oberflächliches Motivationstraining. \nSondern ehrliche Arbeit an dem\, was für dich stimmig ist.
URL:https://www.femvents.at/event/wenn-veraenderung-ruft/
LOCATION:Zacherlgut Thalgau\, Salzburgerstrasse 32\, 5330 Thalgau\, Salzburg\, 5330\, Austria
CATEGORIES:Salzburg
ATTACH;FMTTYPE=image/jpeg:https://www.femvents.at/wp-content/uploads/2026/03/440A73A6-7B08-4624-BC3A-69C4CB8E037A.jpeg
GEO:47.8420388;13.2362694
X-APPLE-STRUCTURED-LOCATION;VALUE=URI;X-ADDRESS=Zacherlgut Thalgau Salzburgerstrasse 32 5330 Thalgau Salzburg 5330 Austria;X-APPLE-RADIUS=500;X-TITLE=Salzburgerstrasse 32:geo:13.2362694,47.8420388
END:VEVENT
BEGIN:VEVENT
DTSTART;TZID=Europe/Vienna:20260328T100000
DTEND;TZID=Europe/Vienna:20260328T180000
DTSTAMP:20260420T021645
CREATED:20260316T120806Z
LAST-MODIFIED:20260316T122633Z
UID:10000922-1774692000-1774720800@www.femvents.at
SUMMARY:Zyklusworkshop im Pinzgau
DESCRIPTION:Wenn sich das alte Zykluswissen mit modernen Hormonwissen vereint \nMein Zyklusworkshop verbindet diese beiden Welten – das alte und das neue. Das alte Wissen\, das jede Frau in sich trägt. Ein Zyklusworkshop lässt dich erinnern an das was du schon weißt und in dir trägst. \nZu wissen\, wann die Blutung einsetzt\, ist Kalenderwissen. Zu verstehen\, wie dein Zyklus dich führt\, ist Zykluswissen. \nUnd eins vorweg: \nSchmerzen sind nicht normal. Auch nicht während der Periode. \nWAS DICH ERWARTET: \nEin intensiver Workshop-Tag\, der dich zurück in die Verbindung mit deinem Körper bringt – klar\, fundiert und praxisnah. \nINHALTE: \n\nHormone verstehen\nWelche Hormone wirken wann? Wie beeinflussen sie Stimmung\, Energie\, Libido\, Fokus und Entscheidungs-fähigkeit?\nZyklisch leben & vorsorgen\nWie du deinen Alltag\, dein Business und deine Beziehungen zyklisch ausrichtest.\nPeriodenschmerzen & Zusammenhänge Ursachen erkennen statt Symptome bekämpfen.\nWeiblichkeit & Frau-Sein Was bedeutet es heute\, im eigenen Rhythmus zu leben? Du gehst mit Klarheit. Mit Wissen. Und mit konkreten Werkzeugen für deinen Alltag.\n\nFÜR WEN IST DIESER WORKSHOP? \nFür Frauen\, die: \n– ihren Körper wirklich verstehen wollen\n– sich nicht länger mit „das ist halt so“ zufriedengeben\n– ihre Energie gezielt nutzen möchten\n– ganzheitlich und bewusst leben und vorsorgen wollen
URL:https://www.femvents.at/event/zyklusworkshop-im-pinzgau/
LOCATION:5671 Bruck an der Glocknerstraße\, Glocknerstraße 98a\, Bruck an der Glocknerstraße\, Salzburg\, 5671\, Austria
CATEGORIES:Frauenkreis,Salzburg
ATTACH;FMTTYPE=image/png:https://www.femvents.at/wp-content/uploads/2026/03/Zyklusworkshop-1.png
ORGANIZER;CN="Cornelia Kugler":MAILTO:hello@itsmecornelia.com
GEO:47.2715156;12.8250544
X-APPLE-STRUCTURED-LOCATION;VALUE=URI;X-ADDRESS=5671 Bruck an der Glocknerstraße Glocknerstraße 98a Bruck an der Glocknerstraße Salzburg 5671 Austria;X-APPLE-RADIUS=500;X-TITLE=Glocknerstraße 98a:geo:12.8250544,47.2715156
END:VEVENT
BEGIN:VEVENT
DTSTART;TZID=Europe/Vienna:20260328T140000
DTEND;TZID=Europe/Vienna:20260328T153000
DTSTAMP:20260420T021645
CREATED:20260313T163042Z
LAST-MODIFIED:20260313T163042Z
UID:10000918-1774706400-1774711800@www.femvents.at
SUMMARY:Frauengesundheit im Fokus
DESCRIPTION:Impulsvortrag zum Thema Frauengesundheit am 28.3.2026 \nInhalt:\n– Mehr (Zell)gesundheit\n– Wie Menstruationsbeschwerden & Co.\, sowie chronische Leiden\, z.B. Endometriose\, entstehen können\n– Brustgesundheit\n– Leistungsfähigkeit und Wohlbefinden\n– Prävention von Zivilisationskrankheiten\n– Warum Healthy Aging alle Altersgruppen betrifft\n– die Bedeutung von Omega3 in der Frauengesundheit inkl. Verkostung \nWann: 28.3.2026\, 14 Uhr\nWo: all about period.\, Lerchenfelder Straße 65\, 1070 Wien\nDauer: ca 1\,5h\nfreiwillige Spende \nAnmeldungen unter:\nhallo@tatjana-lagus.at\nkontakt@katharinakoenig.at
URL:https://www.femvents.at/event/frauengesundheit-im-fokus/
LOCATION:all about period\, Lerchenfelderstrasse 65\, Wien\, Wien\, 1070\, Austria
CATEGORIES:Vortrag,Wien
ATTACH;FMTTYPE=image/jpeg:https://www.femvents.at/wp-content/uploads/2026/03/Omega3-Plakat.jpg
GEO:48.206719;16.3466189
X-APPLE-STRUCTURED-LOCATION;VALUE=URI;X-ADDRESS=all about period Lerchenfelderstrasse 65 Wien Wien 1070 Austria;X-APPLE-RADIUS=500;X-TITLE=Lerchenfelderstrasse 65:geo:16.3466189,48.206719
END:VEVENT
END:VCALENDAR