BEGIN:VCALENDAR
VERSION:2.0
PRODID:-//femvents.at - ECPv6.15.18//NONSGML v1.0//EN
CALSCALE:GREGORIAN
METHOD:PUBLISH
X-WR-CALNAME:femvents.at
X-ORIGINAL-URL:https://www.femvents.at
X-WR-CALDESC:Veranstaltungen für femvents.at
REFRESH-INTERVAL;VALUE=DURATION:PT1H
X-Robots-Tag:noindex
X-PUBLISHED-TTL:PT1H
BEGIN:VTIMEZONE
TZID:Europe/Vienna
BEGIN:DAYLIGHT
TZOFFSETFROM:+0100
TZOFFSETTO:+0200
TZNAME:CEST
DTSTART:20250330T010000
END:DAYLIGHT
BEGIN:STANDARD
TZOFFSETFROM:+0200
TZOFFSETTO:+0100
TZNAME:CET
DTSTART:20251026T010000
END:STANDARD
BEGIN:DAYLIGHT
TZOFFSETFROM:+0100
TZOFFSETTO:+0200
TZNAME:CEST
DTSTART:20260329T010000
END:DAYLIGHT
BEGIN:STANDARD
TZOFFSETFROM:+0200
TZOFFSETTO:+0100
TZNAME:CET
DTSTART:20261025T010000
END:STANDARD
BEGIN:DAYLIGHT
TZOFFSETFROM:+0100
TZOFFSETTO:+0200
TZNAME:CEST
DTSTART:20270328T010000
END:DAYLIGHT
BEGIN:STANDARD
TZOFFSETFROM:+0200
TZOFFSETTO:+0100
TZNAME:CET
DTSTART:20271031T010000
END:STANDARD
END:VTIMEZONE
BEGIN:VEVENT
DTSTART;TZID=Europe/Vienna:20260330T190000
DTEND;TZID=Europe/Vienna:20260330T213000
DTSTAMP:20260420T003702
CREATED:20260316T082921Z
LAST-MODIFIED:20260316T082921Z
UID:10000921-1774897200-1774906200@www.femvents.at
SUMMARY:THE:Sisters Meet Up - Female Rage
DESCRIPTION:Beim diesem Sisters Meet Up knöpfen wir uns ein Thema vor\, das unter der Oberfläche brodelt und endlich den Raum bekommt\, den es verdient: Female Rage. \nWas steckt wirklich hinter diesem Begriff\, der aktuell unsere Feeds und Debatten flutet? Welche Rolle spielen Wut\, Frustration und Widerstand in unserem Alltag\, im Job und innerhalb patriarchaler Strukturen? \nEs geht uns neben der Analyse\, auch um das Reflektieren: Woher kommt dieses Gefühl? Wie navigieren wir durch eine Welt\, die Frauen Wut oft abspricht? Und vor allem: Wie verwandeln wir diese geballte Energie in echte Handlungsspielräume? Wir freuen uns auf eure Perspektiven\, euren Support und den gemeinsamen Austausch. \n🙋🏼‍♀️Anschließend gibt es wie immer genug Zeit zum Netzwerken und Kennenlernen! \n📌 // Was? THE:Sisters Meet Up – Female Rage\n⏰// Wann? Mo\, 30.3.2026\, um 19 – 21Uhr\n📍// Wo? Wuk Foyer\, Währinger Straße 59\, 1090 Wien \n🎤// Mit? Feminist Fighters Union\n✍🏻// Eine Anmeldung ist nicht notwendig. Schnapp dir deine Freund:innen und komm!
URL:https://www.femvents.at/event/thesisters-meet-up-female-rage/
LOCATION:wuk\, Währinger Str. 59\, Wien\, Wien\, 1090\, Austria
CATEGORIES:After Work,Frauenkreis,Meetup,Netzwerk-Treffen,Wien
ATTACH;FMTTYPE=image/jpeg:https://www.femvents.at/wp-content/uploads/2026/03/Kopie-von-FB-Header-Event-41.jpg
ORGANIZER;CN="THE%3ASorority":MAILTO:events@sorority.at
GEO:48.2225707;16.3529887
X-APPLE-STRUCTURED-LOCATION;VALUE=URI;X-ADDRESS=wuk Währinger Str. 59 Wien Wien 1090 Austria;X-APPLE-RADIUS=500;X-TITLE=Währinger Str. 59:geo:16.3529887,48.2225707
END:VEVENT
END:VCALENDAR