BEGIN:VCALENDAR
VERSION:2.0
PRODID:-//femvents.at - ECPv6.15.18//NONSGML v1.0//EN
CALSCALE:GREGORIAN
METHOD:PUBLISH
X-ORIGINAL-URL:https://www.femvents.at
X-WR-CALDESC:Veranstaltungen für femvents.at
REFRESH-INTERVAL;VALUE=DURATION:PT1H
X-Robots-Tag:noindex
X-PUBLISHED-TTL:PT1H
BEGIN:VTIMEZONE
TZID:Europe/Vienna
BEGIN:DAYLIGHT
TZOFFSETFROM:+0100
TZOFFSETTO:+0200
TZNAME:CEST
DTSTART:20250330T010000
END:DAYLIGHT
BEGIN:STANDARD
TZOFFSETFROM:+0200
TZOFFSETTO:+0100
TZNAME:CET
DTSTART:20251026T010000
END:STANDARD
BEGIN:DAYLIGHT
TZOFFSETFROM:+0100
TZOFFSETTO:+0200
TZNAME:CEST
DTSTART:20260329T010000
END:DAYLIGHT
BEGIN:STANDARD
TZOFFSETFROM:+0200
TZOFFSETTO:+0100
TZNAME:CET
DTSTART:20261025T010000
END:STANDARD
BEGIN:DAYLIGHT
TZOFFSETFROM:+0100
TZOFFSETTO:+0200
TZNAME:CEST
DTSTART:20270328T010000
END:DAYLIGHT
BEGIN:STANDARD
TZOFFSETFROM:+0200
TZOFFSETTO:+0100
TZNAME:CET
DTSTART:20271031T010000
END:STANDARD
END:VTIMEZONE
BEGIN:VEVENT
DTSTART;TZID=Europe/Vienna:20260401T083000
DTEND;TZID=Europe/Vienna:20260401T103000
DTSTAMP:20260420T003818
CREATED:20260313T085603Z
LAST-MODIFIED:20260313T090435Z
UID:10000893-1775032200-1775039400@www.femvents.at
SUMMARY:Bruck/Leitha  LLL-BUSINESS Frauentreff mit LLL-Botschafterin Pia Kasa & Sabine Kolb
DESCRIPTION:🌸✨ Hallo liebe Unternehmerinnen & Business-Frauen ✨🌸\n🌼 Lust auf Austausch auf Augenhöhe?\n🌸 Inspirierende Gespräche\, neue Impulse & wertvolle Kontakte?\nDann komm zu unserem LLL-BUSINESS FRAUENTREFF 💚🧡🩷\nEin Raum für Vernetzung\, Erfahrungsaustausch und echtes Miteinander 💫\n🌷 Egal ob selbstständig\, in Gründung oder beruflich neu orientiert –\n🧁 komm genau so\, wie du bist!\nHier ist Platz für deine Ideen\, deine Visionen und alles\, was dich beruflich bewegt 🫶\n💼 Gemeinsam wachsen.\n💬 Gemeinsam lernen.\n💖 Gemeinsam erfolgreich sein.\n💃 Wir freuen uns sehr auf dich!\n📩 Bitte um Platzreservierung\ninfo@vereinlebenliebenlachen.at
URL:https://www.femvents.at/event/bruck-leitha-lll-business-frauentreff-mit-lll-botschafterin-pia-kasa-sabine-kolb/
LOCATION:Krupbauers Backhaus 1872\, Burgenlandstraße 12\, Bruck/Leitha\, 2460\, Austria\, Burgenlandstraße 12\, Gemeinde Bruck an der Leitha\, Niederösterreich\, 2460\, Austria
CATEGORIES:Burgenland,L💛L🧡L🩷 Frauentreff
ATTACH;FMTTYPE=image/jpeg:https://www.femvents.at/wp-content/uploads/2026/03/Business-Pia-EJEZcD.jpg
ORGANIZER;CN="Verein 'LEBEN%2C LIEBEN%2C LACHEN - endlich wei%C3%9F ich wie!'":MAILTO:info@vereinlebenliebenlachen.at
GEO:48.024322;16.7798086
X-APPLE-STRUCTURED-LOCATION;VALUE=URI;X-ADDRESS=Krupbauers Backhaus 1872 Burgenlandstraße 12 Bruck/Leitha 2460 Austria Burgenlandstraße 12 Gemeinde Bruck an der Leitha Niederösterreich 2460 Austria;X-APPLE-RADIUS=500;X-TITLE=Burgenlandstraße 12:geo:16.7798086,48.024322
END:VEVENT
BEGIN:VEVENT
DTSTART;TZID=Europe/Vienna:20260401T163000
DTEND;TZID=Europe/Vienna:20260401T180000
DTSTAMP:20260420T003818
CREATED:20260317T090822Z
LAST-MODIFIED:20260317T090822Z
UID:10000928-1775061000-1775066400@www.femvents.at
SUMMARY:Regulationsfähigkeit bei Babys – verstehen\, begleiten\, stärken
DESCRIPTION:Treffpunkt Frauenwissen\n\nWie können Sie ein Schreibaby gut begleiten\, Schlafschwierigkeiten sanft unterstützen und Bindung stärken? In diesem Vortrag lernen Sie das Modell des Autonomen Nervensystems nach Stephen Porges kennen und erfahren\, wie Stress und Beruhigungsreaktionen bei Babys entstehen. Ein kurzer Praxisteil zeigt\, wie sich die Regulations und Entspannungsfähigkeit positiv beeinflussen lässt – für mehr Sicherheit\, Nähe und Gelassenheit im Alltag mit Babys. \n\n\nmit Irmtraud TRUTTENBERGER
URL:https://www.femvents.at/event/regulationsfaehigkeit-bei-babys-verstehen-begleiten-staerken/
LOCATION:Linz
CATEGORIES:Oberösterreich,Workshop
ATTACH;FMTTYPE=image/png:https://www.femvents.at/wp-content/uploads/2025/06/femvents_eventbild.png
END:VEVENT
BEGIN:VEVENT
DTSTART;TZID=Europe/Vienna:20260401T183000
DTEND;TZID=Europe/Vienna:20260401T203000
DTSTAMP:20260420T003818
CREATED:20260128T111156Z
LAST-MODIFIED:20260128T111156Z
UID:10000716-1775068200-1775075400@www.femvents.at
SUMMARY:FRAU iDA Vernetzungstreffen
DESCRIPTION:Das FRAU iDA Vernetzungstreffen bietet Raum für Austausch\, Inspiration und gegenseitige Unterstützung. In entspannter Atmosphäre haben Teilnehmerinnen die Möglichkeit\, neue Kontakte zu knüpfen\, Erfahrungen zu teilen und voneinander zu lernen. \nNeben spannenden Kurzimpulsen zu aktuellen Themen aus Beruf\, Persönlichkeit und Gesundheit erwartet die Besucherinnen ein anregendes Miteinander – ideal\, um sich zu vernetzen\, neue Perspektiven zu gewinnen und gestärkt in den (Berufs-)Alltag zurückzukehren. \nOb zum Kennenlernen\, Wiedersehen oder gemeinsamen Weiterdenken – das Vernetzungstreffen lädt dazu ein\, Frauen miteinander ins Gespräch zu bringen und gemeinsam Ideen für eine erfolgreiche und selbstbestimmte Zukunft zu entwickeln. \nWir setzen wieder unsere Videokonferenzkamera mit 360° Rundum-Überblick ein\, damit wir allen\, die an diesem Abend nicht nach Zwettl kommen können\, die Möglichkeit bieten\, sich zu vernetzen und austauschen zu können. Dank Owlivia\, wie wir sie liebevoll nennen\, können wir Interessierte online via Zoom zuschalten – sie erleben das Treffen\, als wären sie im selben Raum. Wir freuen uns\, wenn du unser innovatives Angebot nutzt – hier der Zoom-Link: https://us06web.zoom.us/j/85665550790
URL:https://www.femvents.at/event/frau-ida-vernetzungstreffen-6/
LOCATION:FRAU iDA\, Hauptplatz 16\, Zwettl\, Niederösterreich\, 3910\, Austria
CATEGORIES:Netzwerk-Treffen,Niederösterreich,Online-Event
ATTACH;FMTTYPE=image/jpeg:https://www.femvents.at/wp-content/uploads/2026/01/1.1_Logo_FRAUiDA-1.jpg
ORGANIZER;CN="FRAU iDA":MAILTO:office@frau-ida.at
GEO:48.6041614;15.167567
X-APPLE-STRUCTURED-LOCATION;VALUE=URI;X-ADDRESS=FRAU iDA Hauptplatz 16 Zwettl Niederösterreich 3910 Austria;X-APPLE-RADIUS=500;X-TITLE=Hauptplatz 16:geo:15.167567,48.6041614
END:VEVENT
END:VCALENDAR