BEGIN:VCALENDAR
VERSION:2.0
PRODID:-//femvents.at - ECPv6.15.18//NONSGML v1.0//EN
CALSCALE:GREGORIAN
METHOD:PUBLISH
X-ORIGINAL-URL:https://www.femvents.at
X-WR-CALDESC:Veranstaltungen für femvents.at
REFRESH-INTERVAL;VALUE=DURATION:PT1H
X-Robots-Tag:noindex
X-PUBLISHED-TTL:PT1H
BEGIN:VTIMEZONE
TZID:Europe/Vienna
BEGIN:DAYLIGHT
TZOFFSETFROM:+0100
TZOFFSETTO:+0200
TZNAME:CEST
DTSTART:20250330T010000
END:DAYLIGHT
BEGIN:STANDARD
TZOFFSETFROM:+0200
TZOFFSETTO:+0100
TZNAME:CET
DTSTART:20251026T010000
END:STANDARD
BEGIN:DAYLIGHT
TZOFFSETFROM:+0100
TZOFFSETTO:+0200
TZNAME:CEST
DTSTART:20260329T010000
END:DAYLIGHT
BEGIN:STANDARD
TZOFFSETFROM:+0200
TZOFFSETTO:+0100
TZNAME:CET
DTSTART:20261025T010000
END:STANDARD
BEGIN:DAYLIGHT
TZOFFSETFROM:+0100
TZOFFSETTO:+0200
TZNAME:CEST
DTSTART:20270328T010000
END:DAYLIGHT
BEGIN:STANDARD
TZOFFSETFROM:+0200
TZOFFSETTO:+0100
TZNAME:CET
DTSTART:20271031T010000
END:STANDARD
END:VTIMEZONE
BEGIN:VEVENT
DTSTART;TZID=Europe/Vienna:20260404T093000
DTEND;TZID=Europe/Vienna:20260404T120000
DTSTAMP:20260420T003714
CREATED:20260222T111413Z
LAST-MODIFIED:20260222T111413Z
UID:10000840-1775295000-1775304000@www.femvents.at
SUMMARY:Damensalon
DESCRIPTION:Nächster Damen Salon in am 4. April 2026 von 9:45 Uhr bis 12:00 Uhr bei mir in der Gemeinschaftspraxis in 1180 Wien melde dich an 👇🏼 \nhttps://silvia-hummel.at/produkt/damensalon/ \nEs ist eine tiefgründige Talkrunde für Frauen ohne Altersbegrenzung❣️ \nFreu mich auf dich Glg Silvia Hummel 🐝
URL:https://www.femvents.at/event/damensalon-4/
LOCATION:1180\, Gersthoferstrasse 109\, Gersthoferstrasse 109\, Wien\, Wien\, 1180\, Austria
CATEGORIES:Coaching,Frauenkreis,Wien
ATTACH;FMTTYPE=image/jpeg:https://www.femvents.at/wp-content/uploads/2026/02/1ac91ce8-dc79-403b-b4c0-0bc96cd02b73.jpeg
ORGANIZER;CN="Silvia Hummel":MAILTO:Info@ladykompass.at
GEO:48.2369512;16.3231968
X-APPLE-STRUCTURED-LOCATION;VALUE=URI;X-ADDRESS=1180 Gersthoferstrasse 109 Gersthoferstrasse 109 Wien Wien 1180 Austria;X-APPLE-RADIUS=500;X-TITLE=Gersthoferstrasse 109:geo:16.3231968,48.2369512
END:VEVENT
BEGIN:VEVENT
DTSTART;TZID=Europe/Vienna:20260404T100000
DTEND;TZID=Europe/Vienna:20260404T180000
DTSTAMP:20260420T003714
CREATED:20260209T095700Z
LAST-MODIFIED:20260209T095700Z
UID:10000783-1775296800-1775325600@www.femvents.at
SUMMARY:IM KREIS DER WEIBLICHEN KRÄFTE
DESCRIPTION:Die Starke \nWesten– Mut\, Grenzen\, innere Kraft\nDieses Seminar öffnet einen geschützten Raum\, in dem du deine Grenzen klärst und deine innere Kraft stabilisierst. Du arbeitest mit Klang\, Atem\, Bewegung\, Duft und Ritualen\, um in Begegnungen klar zu bleiben – ohne dich zu verhärten. \nWas dich erwartet– Zentrierung & Erdung für deinen Alltag– Rituale für Abgrenzung\, Entscheidung und Loslassen– Körperarbeit und Reflexionsräume für ein klares Nein und ein stimmiges Ja– Exklusiver Kleingruppenrahmen: ruhig\, klar\, ohne Druck \nWenn dich das ruft: Reserviere jetzt deinen Platz.Kontaktformular auf www.source-praxis.at ausfüllen → bei „Worum es geht?“ das Seminar auswählen → Bestätigung per E-Mail erhalten.Telefonisch: +43 677 644 20744
URL:https://www.femvents.at/event/im-kreis-der-weiblichen-kraefte-2/
LOCATION:Weichstetten\, Weichstetten\, Austria
CATEGORIES:Frauenkreis,Kurs,Meditation,Oberösterreich,Retreat,Soundhealing,Workshop
ATTACH;FMTTYPE=image/jpeg:https://www.femvents.at/wp-content/uploads/2026/02/erste-seite_archtypen_seminartermine2026-1.jpg
GEO:48.12146;14.32131
END:VEVENT
BEGIN:VEVENT
DTSTART;TZID=Europe/Vienna:20260404T110000
DTEND;TZID=Europe/Vienna:20260405T173000
DTSTAMP:20260420T003714
CREATED:20251217T075303Z
LAST-MODIFIED:20260323T092241Z
UID:10000587-1775300400-1775410200@www.femvents.at
SUMMARY:sacred.yoni - the healing potential
DESCRIPTION:pure magie \ndieser workshop ist ein geschützter raum für frauen\, um sich wieder mit ihrer weiblichen essenz zu verbinden. die yoni wird hier als zentrum der lebendigkeit verstanden. \nsie ist speicher von emotionen & erfahrungen und quelle unserer lebens.energie. \ndurch achtsame berührung\, atem\, präsenz und energetische arbeit kann sich das system entspannen. alte spannungen\, scham oder gespeicherte emotionen dürfen sich sanft lösen. in Deinem rhythmus. \nwas Dich erwartet: \n\n\npure magie \ndieser workshop ist ein geschützter raum für frauen\, um sich wieder mit ihrer weiblichen essenz zu verbinden. die yoni wird hier als zentrum der lebendigkeit verstanden. \nsie ist speicher von emotionen & erfahrungen und quelle unserer lebens.energie. \ndurch achtsame berührung\, atem\, präsenz und energetische arbeit kann sich das system entspannen. alte spannungen\, scham oder gespeicherte emotionen dürfen sich sanft lösen. in Deinem rhythmus. \nwas Dich erwartet: \n\nkontakt mit Deinem körper\nnervensystem-regulation & erdung\nheilsame berührung & bewusstes spüren durch yoni & gebärmutter.massage\nstärken von selbstvertrauen & körper.annahme\nverbindung zu Deiner sinnlichkeit & weiblichkeit\n\nyoni.touch für frauen ist kein „performative healing“.es ist ein sicherer raum für frauen\, die sich in ihre weichheit sinken lassen wollen. \n\n\n\n\ndatum: \n\n04.04.2026 11:00 bis 05.04.2026 17:30\n19.09.2026 11:00 bis 20.05.2026 17:30\n\n\n\n\n\ninvestition: 220.- pro person \n\n\n\n\nort: wiener neustadt\npraxis bettina.energyflow I ENERGYFLOW – achtsam.bewusst.spüren\, singergasse 20 \n\n\n\n\nteilnehmer:innen: mind. 4 I max. 8 bis 10 frauen \n\n\nes ist ein sicherer raum für frauen\, die sich in ihre weichheit sinken lassen wollen.
URL:https://www.femvents.at/event/sacred-yoni-the-healing-potential/
LOCATION:praxis bettina.energyflow | ENERGYFLOW – achtsam.bewusst.spüren\, Singergasse 20\, 2700 Wiener Neustadt\, Niederösterreich\, 2700\, Austria
CATEGORIES:Frauenkreis,Kurs,Niederösterreich,Retreat,Workshop
ATTACH;FMTTYPE=image/png:https://www.femvents.at/wp-content/uploads/2025/12/inbound6294680556751256490.png
ORGANIZER;CN="mag. bettina fankhauser":MAILTO:info@bettina-energyflow.at
GEO:47.8132475;16.2398859
X-APPLE-STRUCTURED-LOCATION;VALUE=URI;X-ADDRESS=praxis bettina.energyflow | ENERGYFLOW – achtsam.bewusst.spüren Singergasse 20 2700 Wiener Neustadt Niederösterreich 2700 Austria;X-APPLE-RADIUS=500;X-TITLE=Singergasse 20:geo:16.2398859,47.8132475
END:VEVENT
END:VCALENDAR