BEGIN:VCALENDAR
VERSION:2.0
PRODID:-//femvents.at - ECPv6.15.18//NONSGML v1.0//EN
CALSCALE:GREGORIAN
METHOD:PUBLISH
X-WR-CALNAME:femvents.at
X-ORIGINAL-URL:https://www.femvents.at
X-WR-CALDESC:Veranstaltungen für femvents.at
REFRESH-INTERVAL;VALUE=DURATION:PT1H
X-Robots-Tag:noindex
X-PUBLISHED-TTL:PT1H
BEGIN:VTIMEZONE
TZID:Europe/Vienna
BEGIN:DAYLIGHT
TZOFFSETFROM:+0100
TZOFFSETTO:+0200
TZNAME:CEST
DTSTART:20250330T010000
END:DAYLIGHT
BEGIN:STANDARD
TZOFFSETFROM:+0200
TZOFFSETTO:+0100
TZNAME:CET
DTSTART:20251026T010000
END:STANDARD
BEGIN:DAYLIGHT
TZOFFSETFROM:+0100
TZOFFSETTO:+0200
TZNAME:CEST
DTSTART:20260329T010000
END:DAYLIGHT
BEGIN:STANDARD
TZOFFSETFROM:+0200
TZOFFSETTO:+0100
TZNAME:CET
DTSTART:20261025T010000
END:STANDARD
BEGIN:DAYLIGHT
TZOFFSETFROM:+0100
TZOFFSETTO:+0200
TZNAME:CEST
DTSTART:20270328T010000
END:DAYLIGHT
BEGIN:STANDARD
TZOFFSETFROM:+0200
TZOFFSETTO:+0100
TZNAME:CET
DTSTART:20271031T010000
END:STANDARD
END:VTIMEZONE
BEGIN:VEVENT
DTSTART;TZID=Europe/Vienna:20260409T160000
DTEND;TZID=Europe/Vienna:20260412T120000
DTSTAMP:20260420T003554
CREATED:20260206T071036Z
LAST-MODIFIED:20260206T071036Z
UID:10000771-1775750400-1775995200@www.femvents.at
SUMMARY:move + create // Retreat am Traunsee
DESCRIPTION:4 Tage im Zeichen von Bewegung\, Natur und Gestalten.  Wenn du Lust hast\, bei diesen Tagen am Wasser dabei zu sein\, du deinem Körper ein angenehmes Maß an achtsamer Bewegung und Atmen schenken möchtest\, und dir endlich wieder Zeit für Zeichnen\, Drucken und Schreiben in richtig schöner Atmosphäre nehmen willst\, freue ich mich\, wenn du dabei bist.  Programm: Yoga (auf der Matte und in der Natur)\, Creative Sessions\, Me-Time im Spa\, Wanderung\, Kakaozeremonie
URL:https://www.femvents.at/event/move-create-retreat-am-traunsee/
LOCATION:Hotel Post am Traunsee\, Ortsplatz 5\, Traunkirchen\, Oberösterreich\, 4801\, Austria
CATEGORIES:Frauenkreis,Kurs,Malworkshop,Meditation,Oberösterreich,Österreichweit,Retreat,Workshop
ATTACH;FMTTYPE=image/jpeg:https://www.femvents.at/wp-content/uploads/2026/02/9.jpg
ORGANIZER;CN="Studio LIA/ tuttobene Yoga":MAILTO:ciao@tuttobeneyoga.at
GEO:47.8449119;13.7897936
X-APPLE-STRUCTURED-LOCATION;VALUE=URI;X-ADDRESS=Hotel Post am Traunsee Ortsplatz 5 Traunkirchen Oberösterreich 4801 Austria;X-APPLE-RADIUS=500;X-TITLE=Ortsplatz 5:geo:13.7897936,47.8449119
END:VEVENT
BEGIN:VEVENT
DTSTART;VALUE=DATE:20260410
DTEND;VALUE=DATE:20260412
DTSTAMP:20260420T003554
CREATED:20260304T135109Z
LAST-MODIFIED:20260304T164845Z
UID:10000870-1775779200-1775951999@www.femvents.at
SUMMARY:BE You - Woman DAY
DESCRIPTION:BE YOU – Woman Day\nECHT.SCHÖN.DU\nEin tolles Rundumpaket inklusive Identity-Styling mit Vorberatung\, Make-up und Fotoshooting im wunderschönen Ambiente des Siebensternehauses im Herzen von Steyr. \nDer BE You – Woman DAY schenkt dir einen Perspektivenwechsel –\nauf dein Aussehen\, deinen Stil und dein Selbstbild. \nDas Identity Styling gibt dir Klarheit.\nDu erkennst\, was wirklich zu dir passt – nicht zu Trends. \nDas typgerechte Make-up unterstreicht deine Ausstrahlung.\nDu bleibst du. Nur frischer\, sicherer\, strahlender. \nDas Fotoshooting hält genau diesen Moment fest.\nBeim Shooting selbst wirst du geführt\, begleitet und gesehen. So entstehen authentische Bilder\, die dich von deiner schönsten Seite zeigen. \nAlles greift ineinander. Damit am Ende Bilder entstehen\, die sich genauso anfühlen wie der Tag selbst:\nwertschätzend\, ruhig und stärkend. \nDu gehst nicht nur mit Fotos nach Hause.\nSondern mit einem neuen Blick auf dich selbst. \nViele Frauen sagen: \n„Ich bin nicht fotogen.“\n„Ich weiß gar nicht mehr\, was mir steht.“\n„Ich komme selbst viel zu kurz.“ \nUnd vielleicht ist genau jetzt der Zeitpunkt\, dir selbst wieder ein Stück näher zu kommen. \nBist du bereit für deine Zeit?\nDie Plätze sind begrenzt\, damit jede Frau die Aufmerksamkeit bekommt\,\ndie sie verdient. \n👉 Sichere dir deinen Platz \nAlle Infos und die Anmeldung findest du unter diesem Link:\nhttps://www.evadrosdek.at/beyou-womanday/ \n 
URL:https://www.femvents.at/event/be-you-woman-day/
LOCATION:Siebensternehaus\, Stadtplatz 30\, 4400 Steyr\, Stadtplatz 30\, Steyr\, Oberösterreich\, 4400\, Austria
CATEGORIES:Oberösterreich
ATTACH;FMTTYPE=image/jpeg:https://www.femvents.at/wp-content/uploads/2026/03/FlyerS1-scaled.jpg
ORGANIZER;CN="Eva Drosdek Fotodesign":MAILTO:drosdek@aon.at
GEO:48.0390771;14.418789
X-APPLE-STRUCTURED-LOCATION;VALUE=URI;X-ADDRESS=Siebensternehaus Stadtplatz 30 4400 Steyr Stadtplatz 30 Steyr Oberösterreich 4400 Austria;X-APPLE-RADIUS=500;X-TITLE=Stadtplatz 30:geo:14.418789,48.0390771
END:VEVENT
BEGIN:VEVENT
DTSTART;VALUE=DATE:20260410
DTEND;VALUE=DATE:20260412
DTSTAMP:20260420T003554
CREATED:20260401T100847Z
LAST-MODIFIED:20260401T100847Z
UID:10000978-1775779200-1775951999@www.femvents.at
SUMMARY:„achtsam – närrisch – weise"
DESCRIPTION:Die Spiritualität der Clownin entdecken \n\n\n\n\nIn jeder von uns steckt eine Clownin\, die die Welt mit Neugier und Erstaunen entdecken möchte. An diesem Wochenende nach Ostern lassen wir den Trubel des Alltags hinter uns und kommen achtsam und spielerisch der Clownin in uns auf die Spur. Wir lassen uns von ihrer Haltung inspirieren: im Hier und Jetzt ankommen\, das\, was ist\, bejahen\, überraschende Blickwinkel entdecken\, absichtslos da sein\, lustvoll scheitern und Freude und Leichtigkeit erfahren. \nDurch spielerisch-kreatives Tun\, Körper- und Achtsamkeitsübungen sowie meditative Elemente und biblische Impulse entdecken wir die Sicht der Clownin und erforschen die Verbindung zu unserer Spiritualität. Vielleicht wird dabei auch ein bisschen Osterfreude spürbar. \nMitzubringen: eine rote Clownsnase – diese kann auch vor Ort erworben werden (Kostenbeitrag: 3\,00 €) \nLeitung:\nConstanze Moritz\, dipl. Erwachsenenbildnerin\, Clownin\, Spielpädagogin\, Coach \nLeistungen: Spirituelles Clowninnen-Seminar inklusive einer Nächtigung im Einzelzimmer Haus der Frauen sowie Vollpension ab € 270\,00 pro Person \nAnmeldeschluss: 31. März
URL:https://www.femvents.at/event/achtsam-naerrisch-weise/
LOCATION:AndersOrt Haus der Frauen\, St. Johann bei Herberstein 7\, Feistritztal\, Steiermark\, 8222\, Austria
CATEGORIES:Steiermark,Workshop
ATTACH;FMTTYPE=image/png:https://www.femvents.at/wp-content/uploads/2025/06/femvents_eventbild.png
ORGANIZER;CN="AndersOrt Haus der Frauen":MAILTO:kontakt@hausderfrauen.at
GEO:47.2144202;15.8198175
X-APPLE-STRUCTURED-LOCATION;VALUE=URI;X-ADDRESS=AndersOrt Haus der Frauen St. Johann bei Herberstein 7 Feistritztal Steiermark 8222 Austria;X-APPLE-RADIUS=500;X-TITLE=St. Johann bei Herberstein 7:geo:15.8198175,47.2144202
END:VEVENT
BEGIN:VEVENT
DTSTART;VALUE=DATE:20260411
DTEND;VALUE=DATE:20260413
DTSTAMP:20260420T003554
CREATED:20260401T101005Z
LAST-MODIFIED:20260401T101005Z
UID:10000979-1775865600-1776038399@www.femvents.at
SUMMARY:Dem Licht entgegen - Achtsame Sonnenaufgangswanderung im Frühling
DESCRIPTION:In der stillen\, lichten Zeit nach Ostern laden wir zu einer besonderen Erfahrung ein: Wir unternehmen eine Wanderung im ersten Licht des Tages und legen dabei den Fokus auf Achtsamkeit\, innere Aufrichtung und neue Kraft. \nUnser Zusammensein beginnt am 11. April um 18:00 Uhr mit einem gemeinsamen Abendessen im AndersOrt Haus der Frauen. Danach nehmen wir uns Zeit\, um in der Gruppe anzukommen. Eineinhalb Stunden lang widmen wir uns den Fragen: Welche Energie möchten wir stärken? Was darf in uns wachsen? \nMit einer angeleiteten Achtsamkeitsübung und Meditation lassen wir den Abend ausklingen und richten unseren Fokus auf das\, was wir bei der Wanderung am nächsten Tag vertiefen möchten. \nNach einer Nacht in der Geborgenheit des Hauses brechen wir in der Morgendämmerung des 12. April auf. Der Aufstieg zum Aussichtspunkt dauert circa 45 Minuten und wird von Stille\, Achtsamkeit und der zunehmenden Helligkeit begleitet. \nOben angekommen\, verweilen wir ganz im Hier und Jetzt\, verbunden mit der Natur\, mit uns selbst und der Frühlingskraft\, die uns einlädt\, neu aufzubrechen. \nNach dem Abstieg erwartet uns ein gemeinsames Frühstück\, mit dem wir den Morgen ausklingen lassen. Ende der Veranstaltung: ca. 10:00 Uhr. \nEin Angebot für alle\, die den Zauber eines Neubeginns bewusst erleben möchten. \nMitzubringen: gutes und stabiles Schuhwerk\,  Tagesrucksack\, Getränk\, mehrere Lagen Funktionskleidung (evt. auch zum Wechseln)\, Wanderstöcke nach Bedarf\, eine Stirnlampe \nLeitung:\nStefanie Doppler\, systemische Coachin\, psychosoziale Beraterin\, Bergwanderführerin \nLeistungen: Begleitete Sonnenaufgangswanderung\, Achtsamkeitsübungen\, Meditationen und mehr inkl. Nächtigung im Einzelzimmer Haus der Frauen mit Abendessen und Frühstück ab € 160\,00 pro Person
URL:https://www.femvents.at/event/dem-licht-entgegen-achtsame-sonnenaufgangswanderung-im-fruehling/
LOCATION:AndersOrt Haus der Frauen\, St. Johann bei Herberstein 7\, Feistritztal\, Steiermark\, 8222\, Austria
CATEGORIES:Steiermark,Workshop
ATTACH;FMTTYPE=image/png:https://www.femvents.at/wp-content/uploads/2025/06/femvents_eventbild.png
ORGANIZER;CN="AndersOrt Haus der Frauen":MAILTO:kontakt@hausderfrauen.at
GEO:47.2144202;15.8198175
X-APPLE-STRUCTURED-LOCATION;VALUE=URI;X-ADDRESS=AndersOrt Haus der Frauen St. Johann bei Herberstein 7 Feistritztal Steiermark 8222 Austria;X-APPLE-RADIUS=500;X-TITLE=St. Johann bei Herberstein 7:geo:15.8198175,47.2144202
END:VEVENT
BEGIN:VEVENT
DTSTART;TZID=Europe/Vienna:20260411T093000
DTEND;TZID=Europe/Vienna:20260411T113000
DTSTAMP:20260420T003554
CREATED:20260401T203108Z
LAST-MODIFIED:20260401T203108Z
UID:10000981-1775899800-1775907000@www.femvents.at
SUMMARY:GROOVE & YOGA
DESCRIPTION:groove \n\n\n… ist die leichteste Tanzstunde der Welt. \n\n\nEs zählt nicht\, wie du es machst\, sondern einfach nur\, dass du es machst. Auf deine Weise und mit deiner ganz persönlichen Art. Denn darum geht es – finde deinen eigenen GROOVE und tanz mit uns! \n\n\nDu mit dir\, wir mit uns. \n\n\nDu brauchst dafür KEINE Tanzerfahrung! \n\nIn der zweiten Hälfte des Vormittages treffen wir uns für eine einfache Yogaeinheit auf der Matte.
URL:https://www.femvents.at/event/groove-yoga/
LOCATION:Naturheilpraxis Lazarus\, Rathausplatz 5\, Bad Reichenhall\, Berchtesgadenerland\, 83435\, Germany
CATEGORIES:Salzburg,Tanzveranstaltung
ATTACH;FMTTYPE=image/jpeg:https://www.femvents.at/wp-content/uploads/2026/04/GROOVE-YOGA-mit-Nadine-Michaela-Jaenn.-Maerz-Apr.-2026-1.jpeg
GEO:47.7214421;12.8761166
X-APPLE-STRUCTURED-LOCATION;VALUE=URI;X-ADDRESS=Naturheilpraxis Lazarus Rathausplatz 5 Bad Reichenhall Berchtesgadenerland 83435 Germany;X-APPLE-RADIUS=500;X-TITLE=Rathausplatz 5:geo:12.8761166,47.7214421
END:VEVENT
BEGIN:VEVENT
DTSTART;TZID=Europe/Vienna:20260411T093000
DTEND;TZID=Europe/Vienna:20260411T123000
DTSTAMP:20260420T003554
CREATED:20260301T134611Z
LAST-MODIFIED:20260401T094058Z
UID:10000861-1775899800-1775910600@www.femvents.at
SUMMARY:Aromayoga Workshop(s)
DESCRIPTION:Unser Workshop schenkt dir bewusste Zeit für dich – und gleichzeitig ein warmes Get-together mit Frauen\, die sich gegenseitig stärken & inspirieren ✨ \n💫 Workshop-Thema April: SELBSTLIEBE 💫 \n✨ Was dich erwartet: \n🧘‍♀️ Sanftes Yoga – für jedes Level geeignet\n🧠 Geführte Meditation zum Ankommen\n✍️ Journaling-Impulse für innere Klarheit\n🌿 Einführung in die Aromatherapie & praktische Anwendung\n🎁 Liebevoll zusammengestellte Goodie Bags\n🥤 Getränke & Snacks\n👭 Gemütlicher Austausch in entspannter Atmosphäre\n👩‍👩‍👧 Women only | ab 16 Jahren \nOb mit deiner besten Freundin\, Mama oder Oma – gemeinsam wird diese Auszeit noch schöner 🥰 \n📍 Ort: Schmiedingerstraße 1\, 5102 Anthering (Gymnastiksaal der Volksschule)\n💶 Preisübersicht:\n✨ Regulär: 149 €\n👯‍♀️ Bring-a-Friend-Bonus: –15 €\n📩 Anmeldung & Infos: \nsisterspace.circle@gmail.com (Zahlung per Rechnung) \n🤍 Komm genau so\, wie du bist – wir freuen uns auf dich 🤍✨
URL:https://www.femvents.at/event/aromayoga-workshops/
LOCATION:Volksschule Anthering\, Schmiedingerstraße 1\, Anthering\, Salzburg\, 5102\, Austria
CATEGORIES:Frauenkreis,Meditation,Sport
ATTACH;FMTTYPE=image/png:https://www.femvents.at/wp-content/uploads/2026/03/inbound7371818801756521211.png
ORGANIZER;CN="Sister Space Circle":MAILTO:sisterspace.circle@gmail.com
GEO:47.8813163;13.0116331
X-APPLE-STRUCTURED-LOCATION;VALUE=URI;X-ADDRESS=Volksschule Anthering Schmiedingerstraße 1 Anthering Salzburg 5102 Austria;X-APPLE-RADIUS=500;X-TITLE=Schmiedingerstraße 1:geo:13.0116331,47.8813163
END:VEVENT
BEGIN:VEVENT
DTSTART;TZID=Europe/Vienna:20260411T093000
DTEND;TZID=Europe/Vienna:20260411T123000
DTSTAMP:20260420T003554
CREATED:20260309T133540Z
LAST-MODIFIED:20260316T134740Z
UID:10000879-1775899800-1775910600@www.femvents.at
SUMMARY:Aromayoga Workshop & get together
DESCRIPTION:Unser Workshop schenkt dir bewusste Zeit für dich – und gleichzeitig ein warmes Get-together mit Frauen\, die sich gegenseitig stärken & inspirieren ✨ \nWorkshop-Thema April: SELBSTLIEBE \n✨ Was dich erwartet: \n🧘‍♀️ Sanftes Yoga – für jedes Level geeignet\n🧠 Geführte Meditation zum Ankommen\n✍️ Journaling-Impulse für innere Klarheit\n🌿 Einführung in die Aromatherapie & praktische Anwendung\n🎁 Liebevoll zusammengestellte Goodie Bags\n🥤 Getränke & Snacks\n👭 Gemütlicher Austausch in entspannter Atmosphäre \n👩‍👩‍👧 Women only | ab 16 Jahren \nOb mit deiner besten Freundin\, Mama oder Oma – gemeinsam wird diese Auszeit noch schöner 🥰 \n📍 Ort: Schmiedingerstraße 1\, 5102 Anthering (Gymnastiksaal der Volksschule) \n💶 Preisübersicht:\n✨ Regulär: 149 €\n👯‍♀️ Bring-a-Friend-Bonus: –15 € \n5 % der Ticketerlöse unseres Workshops spenden wir an den Verein VIELE zur Unterstützung der Schutzunterkünfte für Frauen & ihre Kinder. \n📩 Anmeldung & Infos: sisterspace.circle@gmail.com (Zahlung per Rechnung) \n🤍 Komm genau so\, wie du bist – wir freuen uns auf dich 🤍✨
URL:https://www.femvents.at/event/aromayoga-workshop-get-together/
LOCATION:Anthering\, Schmiedingerstraße 1\, Volksschule Anthering\, 5102\, Austria
CATEGORIES:Meetup,Salzburg,Workshop
ATTACH;FMTTYPE=image/jpeg:https://www.femvents.at/wp-content/uploads/2026/03/Aromayoga-Workshop-scaled.jpg
ORGANIZER;CN="Sister Space Circle":MAILTO:sisterspace.circle@gmail.com
GEO:47.8802343;13.0124164
X-APPLE-STRUCTURED-LOCATION;VALUE=URI;X-ADDRESS=Anthering Schmiedingerstraße 1 Volksschule Anthering 5102 Austria;X-APPLE-RADIUS=500;X-TITLE=Schmiedingerstraße 1:geo:13.0124164,47.8802343
END:VEVENT
BEGIN:VEVENT
DTSTART;TZID=Europe/Vienna:20260411T100000
DTEND;TZID=Europe/Vienna:20260411T120000
DTSTAMP:20260420T003554
CREATED:20260407T062157Z
LAST-MODIFIED:20260407T062157Z
UID:10000991-1775901600-1775908800@www.femvents.at
SUMMARY:Stmk./Graz  LLL LEBENSFREUDE Frauentreff mit LLL-Botschafterin Margit Baumkircher & Brigitte Tebbich & Helga Gumpinger
DESCRIPTION:🌸✨ Hallo ihr wundervollen Frauen ✨🌸 \n🌼 Lust\, einfach mal rauszukommen?\n🌸 Lachen\, plaudern\, durchatmen & neue Energie tanken?\nDann komm zu unserem LLL-LEBENSFREUDE TREFF 💚🧡🩷 \nEin Ort für echte Begegnungen\, ehrliche Gespräche und diese kleinen Herzensmomente\, die so unglaublich gut tun 💫\n🌷 Egal ob du ganz neu bist oder schon öfter dabei warst –\n🧁 komm genauso\, wie du bist!\nHier ist Platz für dich\, dein Lächeln und alles\, was dich gerade bewegt 🫶\n💃 Wir freuen uns riesig auf dich! 💕 \nBitte Platzreservierung 🤗\ninfo@vereinlebenliebenlachen.at
URL:https://www.femvents.at/event/stmk-graz-lll-lebensfreude-frauentreff-mit-lll-botschafterin-margit-baumkircher-brigitte-tebbich-helga-gumpinger/
LOCATION:Club „Fit mit Brigitte\, Steinfeldgasse 47\, Graz\, Steiermark\, 8020\, Austria
CATEGORIES:Burgenland,LLL
ATTACH;FMTTYPE=image/jpeg:https://www.femvents.at/wp-content/uploads/2026/04/Steirmark-Vpmha0.jpg
ORGANIZER;CN="LEBEN%2C LIEBEN%2C LACHEN &#8211%3B endlich wei%C3%9F ich wie!":MAILTO:info@vereinlebenliebenlachen.at
GEO:47.0648832;15.4204213
X-APPLE-STRUCTURED-LOCATION;VALUE=URI;X-ADDRESS=Club „Fit mit Brigitte Steinfeldgasse 47 Graz Steiermark 8020 Austria;X-APPLE-RADIUS=500;X-TITLE=Steinfeldgasse 47:geo:15.4204213,47.0648832
END:VEVENT
BEGIN:VEVENT
DTSTART;TZID=Europe/Vienna:20260411T100000
DTEND;TZID=Europe/Vienna:20260411T180000
DTSTAMP:20260420T003554
CREATED:20260318T173221Z
LAST-MODIFIED:20260318T173221Z
UID:10000947-1775901600-1775930400@www.femvents.at
SUMMARY:Mentaltraining trifft auf Leinwand
DESCRIPTION:Was dich wirklich antreibt – sichtbar machen. \nDu weißt\, dass da mehr in dir steckt. Mehr Klarheit. Mehr Ausrichtung. Mehr du.\nAber im Alltag geht das oft unter – in To-do-Listen\, Erwartungen und dem ständigen Funktionieren. \nGemeinsam tauchen wir in die Tiefe dessen\, was dir wirklich wichtig ist. Mit sanften Mentaltraining-Methoden spüren wir auf\, was dich von innen heraus wirklich bewegt – deine Werte\, deine Kraft\, dein Kern. Und dann? Bringst du das auf die Leinwand. Mit deinen Händen\, deiner Intuition und dem Medium Collage erschaffst du ein ganz persönliches Kunstwerk – sichtbarer Ausdruck dessen\, wer du bist und wohin du willst. \nWas dich erwartet:\n– Tiefgehende Mentaltraining-Übungen zur Wertearbeit\n– Kreatives Arbeiten mit Collage auf Leinwand\n– Raum für echte Begegnung – mit dir und mit anderen Frauen\n– Du gehst nach Hause mit einem persönlichen Kunstwerk und innerer Klarheit
URL:https://www.femvents.at/event/mentaltraining-trifft-auf-leinwand/
LOCATION:Buntes Atelier\, Rappgasse 3b\, Wien\, Wien\, 1210\, Austria
CATEGORIES:Coaching,Malworkshop,Wien,Workshop
ATTACH;FMTTYPE=image/jpeg:https://www.femvents.at/wp-content/uploads/2026/03/20260318_095350.jpg
ORGANIZER;CN="Angelika Fabian":MAILTO:hallo@die-fabian.at
GEO:48.2686555;16.3932445
X-APPLE-STRUCTURED-LOCATION;VALUE=URI;X-ADDRESS=Buntes Atelier Rappgasse 3b Wien Wien 1210 Austria;X-APPLE-RADIUS=500;X-TITLE=Rappgasse 3b:geo:16.3932445,48.2686555
END:VEVENT
BEGIN:VEVENT
DTSTART;TZID=Europe/Vienna:20260411T140000
DTEND;TZID=Europe/Vienna:20260411T160000
DTSTAMP:20260420T003554
CREATED:20260407T062158Z
LAST-MODIFIED:20260407T062158Z
UID:10000992-1775916000-1775923200@www.femvents.at
SUMMARY:Wien/13. Bezirk LLL – LEBENSFREUDE Frauentreff mit LLL-Botschafterin Daniela Egg
DESCRIPTION:🌸✨ Hallo ihr wundervollen Frauen ✨🌸 \n🌼 Lust\, einfach mal rauszukommen?\n🌸 Lachen\, plaudern\, durchatmen & neue Energie tanken?\nDann komm zu unserem LLL-LEBENSFREUDE TREFF 💚🧡🩷 \nEin Ort für echte Begegnungen\, ehrliche Gespräche und diese kleinen Herzensmomente\, die so unglaublich gut tun 💫\n🌷 Egal ob du ganz neu bist oder schon öfter dabei warst –\n🧁 komm genauso\, wie du bist!\nHier ist Platz für dich\, dein Lächeln und alles\, was dich gerade bewegt 🫶\n💃 Wir freuen uns riesig auf dich! 💕 \nBitte Platzreservierung 🤗\ninfo@vereinlebenliebenlachen.at
URL:https://www.femvents.at/event/wien-13-bezirk-lll-lebensfreude-frauentreff-mit-lll-botschafterin-daniela-egg/
LOCATION:Daniela Egg\, Kupelwiesergasse 32\, Wien\, 1130
CATEGORIES:Burgenland,LLL
ATTACH;FMTTYPE=image/jpeg:https://www.femvents.at/wp-content/uploads/2026/04/Daniela-Egg-2bMfH3.jpg
ORGANIZER;CN="LEBEN%2C LIEBEN%2C LACHEN &#8211%3B endlich wei%C3%9F ich wie!":MAILTO:info@vereinlebenliebenlachen.at
GEO:48.1862689;16.2868593
X-APPLE-STRUCTURED-LOCATION;VALUE=URI;X-ADDRESS=Daniela Egg Kupelwiesergasse 32 Wien 1130;X-APPLE-RADIUS=500;X-TITLE=Kupelwiesergasse 32:geo:16.2868593,48.1862689
END:VEVENT
BEGIN:VEVENT
DTSTART;TZID=Europe/Vienna:20260411T170000
DTEND;TZID=Europe/Vienna:20260411T200000
DTSTAMP:20260420T003554
CREATED:20260402T081107Z
LAST-MODIFIED:20260402T081107Z
UID:10000983-1775926800-1775937600@www.femvents.at
SUMMARY:Frauenkreis
DESCRIPTION:🌷 Frauenkreis im Baumhaus 🌷 \n\nDer Frühling steht für Aufbruch\, Lebendigkeit und neue Kraft. \n\nGemeinsam werden wir lebendig\, spürsam und feiern das Leben in all seinen Facetten.\nIch öffne einen geschützten Raum für Frauen\, die sich stärken\, auftanken und sich selbst bewusster begegenen möchten. Mit achtsamen Impulsen begleite ich dich durch einen Abend voller Verbindung\, Tiefe und Lebendigkeit. \n\nWann: 17.00 – 20.00 Uhr\nWo: Samstag\, 11.04.26 im Baumhaus  Kosten: 50 Euro\, Zwei Plätze sind noch frei\nTel: 0650/76 280 12 \n\nIch freue mich sehr auf einen kraftvollen Abend mit dir 💛✨
URL:https://www.femvents.at/event/frauenkreis-2/
LOCATION:Salzburg\, Aigner Straße 78\, 5026 Salzburg-Aigen\, Salzburg\, Salzburg\, 5026
CATEGORIES:Frauenkreis,Salzburg
ATTACH;FMTTYPE=image/jpeg:https://www.femvents.at/wp-content/uploads/2026/04/Z641375-scaled.jpg
GEO:47.516231;14.550072
X-APPLE-STRUCTURED-LOCATION;VALUE=URI;X-ADDRESS=Salzburg Aigner Straße 78 5026 Salzburg-Aigen Salzburg Salzburg 5026;X-APPLE-RADIUS=500;X-TITLE=Aigner Straße 78\, 5026 Salzburg-Aigen:geo:14.550072,47.516231
END:VEVENT
END:VCALENDAR