BEGIN:VCALENDAR
VERSION:2.0
PRODID:-//femvents.at - ECPv6.15.18//NONSGML v1.0//EN
CALSCALE:GREGORIAN
METHOD:PUBLISH
X-WR-CALNAME:femvents.at
X-ORIGINAL-URL:https://www.femvents.at
X-WR-CALDESC:Veranstaltungen für femvents.at
REFRESH-INTERVAL;VALUE=DURATION:PT1H
X-Robots-Tag:noindex
X-PUBLISHED-TTL:PT1H
BEGIN:VTIMEZONE
TZID:Europe/Vienna
BEGIN:DAYLIGHT
TZOFFSETFROM:+0100
TZOFFSETTO:+0200
TZNAME:CEST
DTSTART:20250330T010000
END:DAYLIGHT
BEGIN:STANDARD
TZOFFSETFROM:+0200
TZOFFSETTO:+0100
TZNAME:CET
DTSTART:20251026T010000
END:STANDARD
BEGIN:DAYLIGHT
TZOFFSETFROM:+0100
TZOFFSETTO:+0200
TZNAME:CEST
DTSTART:20260329T010000
END:DAYLIGHT
BEGIN:STANDARD
TZOFFSETFROM:+0200
TZOFFSETTO:+0100
TZNAME:CET
DTSTART:20261025T010000
END:STANDARD
BEGIN:DAYLIGHT
TZOFFSETFROM:+0100
TZOFFSETTO:+0200
TZNAME:CEST
DTSTART:20270328T010000
END:DAYLIGHT
BEGIN:STANDARD
TZOFFSETFROM:+0200
TZOFFSETTO:+0100
TZNAME:CET
DTSTART:20271031T010000
END:STANDARD
END:VTIMEZONE
BEGIN:VEVENT
DTSTART;TZID=Europe/Vienna:20260414T093000
DTEND;TZID=Europe/Vienna:20260414T183000
DTSTAMP:20260419T224145
CREATED:20260313T100633Z
LAST-MODIFIED:20260409T083330Z
UID:10000915-1776159000-1776191400@www.femvents.at
SUMMARY:M.STORIES Female Business Festival
DESCRIPTION:Das M.STORIES Female Business Festival live in München. \n\n\n\nSei bei unserem M.STORIES Female Business Festival dabei! \nEin Disneyland für Frauen mit Ambitionen. Das ist unsere Vision mit dem M.STORIES Female Business Festival. Lerne Neues von erfolgreichen und spannenden Speaker:innen\, connecte Dich mit inspirierenden Gleichgesinnten\, erhalte Hilfe bei den nächsten Schritten Deiner Karriere\, tauche tief in relevante Themen ein und hab eine einzigartige Zeit in unserer Erlebniswelt. \nWas Dich erwartet: \n– über 50 inspirierende Speaker:innen \n– über 40 spannende Talks und Panels \n– viele informative Masterclasses. Hier tauchst Du tief in ein Thema ein. \n– Pitch Session. Wir bringen Gründerinnen und Investorinnen zusammen. \n– Job-Offer-Talks: Lerne zukunftsweisende Unternehmen kennen. \n– Unsere Erlebniswelt mit Live Podcasts\, Live Lesungen\, Wine Tasting\, Meet-Ups zu bestimmten Themen\, Yoga und Meditation\, Art Gallery\, Pop-Up Market und vielem mehr… \nWas ist neu dieses Jahr? \nDas Ampelsystem bei den Masterclasses. Bei jeder Masterclass schreiben wir dazu\, ob es sich um eine Masterclass für Forgeschrittene handelt\, für Personen mit etwas Vorerfahrung oder für Anfängerinnen. So kannst Du noch besser entscheiden welche Masterclass zu Dir passt. Für die Masterclasses wird es eine Abfrage geben\, sodass alle Teilnehmer:innen ihre gewünschte Masterclass besuchen können. \nUnser Festivalmotto: The next Level – Mutig Voranschreiten \nWir freuen uns auf Dich und einen einzigartigen Tag! \n\nTicket hier kaufen!
URL:https://www.femvents.at/event/m-stories-female-business-festival-muenchen/
LOCATION:Motorworld München\, Am Ausbesserungswerk 8\, München\, 80939\, Germany
CATEGORIES:Festival,NL,Österreichweit,Vortrag,Workshop
ATTACH;FMTTYPE=image/webp:https://www.femvents.at/wp-content/uploads/2026/03/mstories.webp
GEO:48.1351253;11.5819806
X-APPLE-STRUCTURED-LOCATION;VALUE=URI;X-ADDRESS=Motorworld München Am Ausbesserungswerk 8 München 80939 Germany;X-APPLE-RADIUS=500;X-TITLE=Am Ausbesserungswerk 8:geo:11.5819806,48.1351253
END:VEVENT
BEGIN:VEVENT
DTSTART;TZID=Europe/Vienna:20260414T150000
DTEND;TZID=Europe/Vienna:20260414T170000
DTSTAMP:20260419T224145
CREATED:20260313T085605Z
LAST-MODIFIED:20260313T090447Z
UID:10000894-1776178800-1776186000@www.femvents.at
SUMMARY:Traiskirchen LLL LEBENSFREUDE Frauentreff mit LLL-Botschafterin Renate Andratsch
DESCRIPTION:🌸✨ Hallo ihr wundervollen Frauen ✨🌸\n🌼 Lust\, einfach mal rauszukommen?\n🌸 Lachen\, plaudern\, durchatmen & neue Energie tanken?\nDann komm zu unserem LLL-LEBENSFREUDE TREFF 💚🧡🩷\nEin Ort für echte Begegnungen\, ehrliche Gespräche und diese kleinen Herzensmomente\, die so unglaublich gut tun 💫\n🌷 Egal ob du ganz neu bist oder schon öfter dabei warst –\n🧁 komm genauso\, wie du bist!\nHier ist Platz für dich\, dein Lächeln und alles\, was dich gerade bewegt 🫶\n💃 Wir freuen uns riesig auf dich! 💕\nBitte Platzreservierung 🤗\ninfo@vereinlebenliebenlachen.at
URL:https://www.femvents.at/event/traiskirchen-lll-lebensfreude-frauentreff-mit-lll-botschafterin-renate-andratsch/
LOCATION:Cafe Arkadia\, Hauptplatz 17\, Traiskirchen\, 2514\, Hauptplatz 17\, Traiskirchen\, Niederösterreich\, 2514\, Austria
CATEGORIES:Burgenland,L💛L🧡L🩷 Frauentreff
ATTACH;FMTTYPE=image/jpeg:https://www.femvents.at/wp-content/uploads/2026/03/Fruehstueck-Arkadia-IusIhK.jpg
ORGANIZER;CN="Verein 'LEBEN%2C LIEBEN%2C LACHEN - endlich wei%C3%9F ich wie!'":MAILTO:info@vereinlebenliebenlachen.at
GEO:48.0127536;16.2937241
X-APPLE-STRUCTURED-LOCATION;VALUE=URI;X-ADDRESS=Cafe Arkadia Hauptplatz 17 Traiskirchen 2514 Hauptplatz 17 Traiskirchen Niederösterreich 2514 Austria;X-APPLE-RADIUS=500;X-TITLE=Hauptplatz 17:geo:16.2937241,48.0127536
END:VEVENT
BEGIN:VEVENT
DTSTART;TZID=Europe/Vienna:20260414T180000
DTEND;TZID=Europe/Vienna:20260414T200000
DTSTAMP:20260419T224145
CREATED:20260407T062200Z
LAST-MODIFIED:20260414T062504Z
UID:10000996-1776189600-1776196800@www.femvents.at
SUMMARY:NÖ/Baden LLL-BUSINESS Frauentreff mit LLL-Botschafterin Maria Eitler
DESCRIPTION:🌸✨ Hallo liebe Unternehmerinnen & Business-Frauen ✨🌸 \n🌼 Lust auf Austausch auf Augenhöhe?\n🌸 Inspirierende Gespräche\, neue Impulse & wertvolle Kontakte?\nDann komm zu unserem LLL-BUSINESS FRAUENTREFF 💚🧡🩷 \nEin Raum für Vernetzung\, Erfahrungsaustausch und echtes Miteinander 💫\n🌷 Egal ob selbstständig\, in Gründung oder beruflich neu orientiert –\n🧁 komm genau so\, wie du bist!\nHier ist Platz für deine Ideen\, deine Visionen und alles\, was dich beruflich bewegt 🫶 \n💼 Gemeinsam wachsen.\n💬 Gemeinsam lernen.\n💖 Gemeinsam erfolgreich sein. \n💃 Wir freuen uns sehr auf dich! \n📩 Bitte um Platzreservierung\ninfo@vereinlebenliebenlachen.at
URL:https://www.femvents.at/event/noe-baden-lll-business-frauentreff-mit-lll-botschafterin-maria-eitler/
LOCATION:LEZ – Leesdorfer Event Zentrum\, Göschlgasse 1\, Baden\, 2500
CATEGORIES:Burgenland,LLL
ATTACH;FMTTYPE=image/jpeg:https://www.femvents.at/wp-content/uploads/2026/04/Business-Treff-Baden-MDiMgq.jpg
ORGANIZER;CN="LEBEN%2C LIEBEN%2C LACHEN &#8211%3B endlich wei%C3%9F ich wie!":MAILTO:info@vereinlebenliebenlachen.at
GEO:48.003221;16.2491114
X-APPLE-STRUCTURED-LOCATION;VALUE=URI;X-ADDRESS=LEZ – Leesdorfer Event Zentrum Göschlgasse 1 Baden 2500;X-APPLE-RADIUS=500;X-TITLE=Göschlgasse 1:geo:16.2491114,48.003221
END:VEVENT
BEGIN:VEVENT
DTSTART;TZID=Europe/Vienna:20260414T190000
DTEND;TZID=Europe/Vienna:20260414T203000
DTSTAMP:20260419T224145
CREATED:20260407T062201Z
LAST-MODIFIED:20260414T062504Z
UID:10000997-1776193200-1776198600@www.femvents.at
SUMMARY:NÖ/ Deutsch-Brodersdorf   LLL – Treffpunkt – Der Impuls Talk „Körper\, Geist und Seele im Einklang“ mit LLL-Botschafterin Anita Ponweiser
DESCRIPTION:KÖRPER GEIST SEELE in BALANCE  – was braucht unser System? \n  \nAnmeldung direkt bei den Veranstalterinnen:\nAnita Ponweiser\nanitaponweiser@gmx.at \nEine Veranstaltung in Netzwerkverbundenheit mit dem Verein\n„LEBEN\, LIEBEN\, LACHEN – Prävention mit Herz\, Verstand und Freude!“\nDie LLL – Treffpunkte DER IMPULS TALK zeigen\, wie primäre Prävention als Schlüssel zu einem erfüllten Leben wirkt.\nOb körperlich\, emotional\, sozial oder finanziell – wer frühzeitig vorsorgt\, schafft Raum für Lebensfreude\, Leichtigkeit und Selbstbestimmung.\nDie Reihe soll inspirieren\, aktiv Schritte zu gehen\, die Gesundheit\, Sicherheit und Wohlbefinden langfristig fördern. \nAnita Ponweiser
URL:https://www.femvents.at/event/bgld-deutsch-brodersdorf-lll-treffpunkt-der-impuls-talk-koerper-geist-und-seele-im-einklang-mit-lll-botschafterinnen-anita-ponsweiser/
LOCATION:Anita Ponweiser\, Triftgasse 6\, Deutsch-Brodersdorf\, 2443
CATEGORIES:Burgenland,LLL,LLL-PräventionsTreff
ATTACH;FMTTYPE=image/jpeg:https://www.femvents.at/wp-content/uploads/2026/03/Logo-Butah5.jpg
ORGANIZER;CN="Anita Ponweiser":MAILTO:anitaponweier@gmx.at
GEO:47.9437699;16.4696131
X-APPLE-STRUCTURED-LOCATION;VALUE=URI;X-ADDRESS=Anita Ponweiser Triftgasse 6 Deutsch-Brodersdorf 2443;X-APPLE-RADIUS=500;X-TITLE=Triftgasse 6:geo:16.4696131,47.9437699
END:VEVENT
END:VCALENDAR