BEGIN:VCALENDAR
VERSION:2.0
PRODID:-//femvents.at - ECPv6.15.18//NONSGML v1.0//EN
CALSCALE:GREGORIAN
METHOD:PUBLISH
X-ORIGINAL-URL:https://www.femvents.at
X-WR-CALDESC:Veranstaltungen für femvents.at
REFRESH-INTERVAL;VALUE=DURATION:PT1H
X-Robots-Tag:noindex
X-PUBLISHED-TTL:PT1H
BEGIN:VTIMEZONE
TZID:Europe/Vienna
BEGIN:DAYLIGHT
TZOFFSETFROM:+0100
TZOFFSETTO:+0200
TZNAME:CEST
DTSTART:20250330T010000
END:DAYLIGHT
BEGIN:STANDARD
TZOFFSETFROM:+0200
TZOFFSETTO:+0100
TZNAME:CET
DTSTART:20251026T010000
END:STANDARD
BEGIN:DAYLIGHT
TZOFFSETFROM:+0100
TZOFFSETTO:+0200
TZNAME:CEST
DTSTART:20260329T010000
END:DAYLIGHT
BEGIN:STANDARD
TZOFFSETFROM:+0200
TZOFFSETTO:+0100
TZNAME:CET
DTSTART:20261025T010000
END:STANDARD
BEGIN:DAYLIGHT
TZOFFSETFROM:+0100
TZOFFSETTO:+0200
TZNAME:CEST
DTSTART:20270328T010000
END:DAYLIGHT
BEGIN:STANDARD
TZOFFSETFROM:+0200
TZOFFSETTO:+0100
TZNAME:CET
DTSTART:20271031T010000
END:STANDARD
END:VTIMEZONE
BEGIN:VEVENT
DTSTART;TZID=Europe/Vienna:20260418T090000
DTEND;TZID=Europe/Vienna:20260418T120000
DTSTAMP:20260420T003817
CREATED:20260107T150915Z
LAST-MODIFIED:20260107T150915Z
UID:10000633-1776502800-1776513600@www.femvents.at
SUMMARY:Lust und Selbstbild – Sexualität als Teil deiner Identität annehmen
DESCRIPTION:Lust und Selbstbild – Sexualität als Teil deiner Identität annehmen\nWie verändert sich dein Erleben\, wenn du dir erlaubst\, deine Bedürfnisse ernst zu nehmen? \nSexualität wird uns selten offen\, wertfrei oder empowernd vermittelt. Viele Frauen wachsen mit Botschaften auf wie: „Sei nicht zu fordernd“\, „Sei zurückhaltend“\, „Zu viel Lust ist unanständig“.\nDiese Sätze wirken nach und beeinflussen\, wie wir uns fühlen\, was wir zulassen – und wie frei wir in unserer eigenen Sexualität stehen können. \nIn diesem Workshop sprechen wir offen darüber\, wie Prägungen entstehen und wie sie unser Erleben formen. Schritt für Schritt entwickeln wir eine Haltung\, die Lust nicht bewertet\, sondern als Ressource erkennt: für Nähe\, Selbstbewusstsein und Lebendigkeit. \nWir öffnen den Raum für neue Perspektiven: \n• Wie erkennst du\, was du wirklich brauchst und möchtest?\n• Welche inneren Blockaden halten dich zurück – und wie kannst du sie lösen?\n• Was braucht es\, um Sexualität frei von Scham und Tabus zu betrachten?\n• Wie würde es sich anfühlen\, Lust als Kraftquelle zu sehen\, statt als etwas\, das reguliert werden muss? \n👉 Dieser Workshop begleitet dich dabei\, deine Bedürfnisse ernst zu nehmen\, dich mit deinem Körper zu verbinden und Sexualität selbstbestimmt zu gestalten – mit Klarheit\, Neugier und Vertrauen. \nWann: Samstag\, 18. April 2026 | 09:00–12:00\nWo: Business Frauen Center \nReferentin: Hannah Rabensteiner\nPsychologin\, Psychodynamische Psychotherapeutin iA zur Sexualtherapeutin \nKostenlos für BFC Member\nUnkostenbeitrag für externe Personen: 60 € inkl. Ust.\nWorkshop inklusive Seminarverpflegung \nWir bitten um verbindliche Anmeldung.
URL:https://www.femvents.at/event/lust-und-selbstbild-sexualitaet-als-teil-deiner-identitaet-annehmen/
LOCATION:Business Frauen Center Klagenfurt\, Klagenfurt\, Austria
CATEGORIES:Kärnten,Workshop
ATTACH;FMTTYPE=image/jpeg:https://www.femvents.at/wp-content/uploads/2026/01/Mindset-Change-Webseite-Sexualitaet-1030x644-1.jpg
GEO:46.625704;14.3137371
END:VEVENT
BEGIN:VEVENT
DTSTART;TZID=Europe/Vienna:20260418T100000
DTEND;TZID=Europe/Vienna:20260418T104500
DTSTAMP:20260420T003817
CREATED:20260407T062204Z
LAST-MODIFIED:20260418T100947Z
UID:10001001-1776506400-1776509100@www.femvents.at
SUMMARY:NÖ/ Baden  *NEU* LLL- Frauen Nordic Walking mit LLL-Botschafterin Zehra Dzanic-Dorninger
DESCRIPTION:Nordic Walking in deinem Rhythmus mit der Natur \nWir wärmen uns kurz mit leichten Dehnungs- und Koordinationsübungen auf und \ngehen danach ca. 45 Minuten eine Runde durch den Kurpark die für alle passt.\nEs sind keine Vorkenntnisse notwendig.\nNordic Walking Sticks bitte mitnehmen.\nAlle Übungen und Nordic Walking Tempo wird individuell angepasst.  \nSo können wir uns gegenseitig stärken\, tanken Energie und leisten so einen wertvollen Beitrag zu unserer Genesung und Gesundheit!  \nBitte komm‘ pünktlich – wir warten 5 Minuten\, dann geht’s los!  \nBei jedem Wetter – außer starkem Regen oder Gewitter!\nSei auch Du dabei!  \nAnmeldung unter\nInfo@vereinlebenliebenlachen.at \noder\neinfach spontan vorbeikommen.  \nDer Kurpark kann ganzjährig bei freiem Eintritt besucht werden. \n(keine Öffnungszeiten) \n 
URL:https://www.femvents.at/event/noe-baden-neu-lll-frauen-nordic-walking-mit-lll-botschafterin-zehra-dzanic-dorninger/
LOCATION:Eingang Kurpark\, Kaiser Franz-Ring\, Baden\, 2500
CATEGORIES:Burgenland,LLL
ATTACH;FMTTYPE=image/jpeg:https://www.femvents.at/wp-content/uploads/2026/04/Zehra-xJEES4.jpg
ORGANIZER;CN="LEBEN%2C LIEBEN%2C LACHEN &#8211%3B endlich wei%C3%9F ich wie!":MAILTO:info@vereinlebenliebenlachen.at
GEO:48.0102379;16.237873
X-APPLE-STRUCTURED-LOCATION;VALUE=URI;X-ADDRESS=Eingang Kurpark Kaiser Franz-Ring Baden 2500;X-APPLE-RADIUS=500;X-TITLE=Kaiser Franz-Ring:geo:16.237873,48.0102379
END:VEVENT
BEGIN:VEVENT
DTSTART;TZID=Europe/Vienna:20260418T120000
DTEND;TZID=Europe/Vienna:20260420T130000
DTSTAMP:20260420T003817
CREATED:20251215T160001Z
LAST-MODIFIED:20260323T092405Z
UID:10000577-1776513600-1776690000@www.femvents.at
SUMMARY:BODYbestBUDDY - Kreativ-stärkendes Workshop-Wochenende für Frauen
DESCRIPTION:BODYbestBUDDY  \nist ein rundum kreatives\, lebendiges und gleichzeitig entschleunigendes Workshop-Wochenende für dich und deinen Körper. Du lernst mit einem freundlicheren Blick auf deinen Körper zu schauen\, du wirst ihn als deinen BODYbestBUDDY kennen lernen. \nMit empowernden\, kreativen und regulierenden Tools aus der Theaterwelt\, Kunsttherapie und Nervensystemregulation sowie Yoga-Elementen\, die du ganz ohne Vorkenntnisse mitmachen kannst. \nEs gibt viel Natur drumherum\, Zeit zum Durchatmen\, Kraft tanken und für warmherzige\, authentische Gespräche. Feuerstelle und Schwimmteich können wir ebenfalls nutzen. \nWas bringt dir der Workshop? \nKurz gesagt: Dein Körper bist du! Und wenn du den bewertenden Blick auf ihn (und dich!) loslassen und ihm (und dir) mit liebevollem Verständnis begegnen kannst\, wird ganz viel Lebensfreude\, Energie und Kraft freigesetzt.\n\nWer wir sind\n\n\n\nSABINE DORNER\nSchauspielerin\, Theaterpädagogin\, Clownin\, Yoga-Lehrerin\nmag es Menschen zu empowern und in Verbindung zu bringen (auch mit sich selbst!)\nhttps://www.theaterworkshops.at  \n\n\n\n\nund \n\n\n\n\nANNE LANG \nKunsttherapeutin\, Psychosoziale Beraterin\, S-O-S Trainerin für Nervensystemregulation\nhat Sonne im Herzen\, viele Ideen und ein besonderes Interesse für hochsensible\, neurodivergente Nervensysteme und starke Gefühle\nhttp://www.leuchtendbunt.at
URL:https://www.femvents.at/event/bodybestbuddy-kreativ-staerkendes-workshop-wochenende-fuer-frauen/
LOCATION:Seminarhof Phyra\, Pyhra 22\, Oed-Öhling\, Niederösterreich\, 3312\, Austria
CATEGORIES:Malworkshop,Niederösterreich,Retreat,Workshop
ATTACH;FMTTYPE=image/png:https://www.femvents.at/wp-content/uploads/2025/12/BODYbestBUDDY_2026_1.png
ORGANIZER;CN="Anne Lang | leuchtendbunt Kreativcoaching":MAILTO:anne.lang@leuchtendbunt.at
GEO:48.0928511;14.7447697
X-APPLE-STRUCTURED-LOCATION;VALUE=URI;X-ADDRESS=Seminarhof Phyra Pyhra 22 Oed-Öhling Niederösterreich 3312 Austria;X-APPLE-RADIUS=500;X-TITLE=Pyhra 22:geo:14.7447697,48.0928511
END:VEVENT
BEGIN:VEVENT
DTSTART;TZID=Europe/Vienna:20260418T160000
DTEND;TZID=Europe/Vienna:20260418T190000
DTSTAMP:20260420T003817
CREATED:20260201T161025Z
LAST-MODIFIED:20260201T161025Z
UID:10000740-1776528000-1776538800@www.femvents.at
SUMMARY:Zyklus Zirkel Baden
DESCRIPTION:Der Zyklus Zirkel ist ein monatliches Treffen\, in dem wir Frauen über alles sprechen können\, was uns mit oder ohne Zyklus beschäftigt. Jeder Termin widmet sich einem anderen Thema.
URL:https://www.femvents.at/event/zyklus-zirkel-baden-3/
LOCATION:Das Yogaprojekt Studio\, Pelzgasse 18\, 2500 Baden\, Pelzgasse 18\, Baden\, Niederösterreich\, 2500\, Austria
CATEGORIES:Frauenkreis,Niederösterreich
ATTACH;FMTTYPE=image/jpeg:https://www.femvents.at/wp-content/uploads/2026/02/1000120428-2.jpg
ORGANIZER;CN="Katharina Gl%C3%B6ckel":MAILTO:katharina.gloeckel@gmail.com
GEO:48.00821;16.2284136
X-APPLE-STRUCTURED-LOCATION;VALUE=URI;X-ADDRESS=Das Yogaprojekt Studio Pelzgasse 18 2500 Baden Pelzgasse 18 Baden Niederösterreich 2500 Austria;X-APPLE-RADIUS=500;X-TITLE=Pelzgasse 18:geo:16.2284136,48.00821
END:VEVENT
BEGIN:VEVENT
DTSTART;TZID=Europe/Vienna:20260418T180000
DTEND;TZID=Europe/Vienna:20260418T180000
DTSTAMP:20260420T003817
CREATED:20260408T164829Z
LAST-MODIFIED:20260408T164916Z
UID:10001059-1776535200-1776535200@www.femvents.at
SUMMARY:Kinesiologie trifft Kräuter
DESCRIPTION:Zeit zum Durchatmen\, zum Austauschen und zum Entdecken der ersten Frühlingskräuter. \nWir laden dich zu einer besonderen Wanderung im Leithagebirge ein.\n8km\, ca. 4h\, gemütliches Tempo \nAnmeldung: info@kinesiologie-elisabeth-schuster.at
URL:https://www.femvents.at/event/kinesiologie-trifft-kraeuter/
LOCATION:2443 Loretto\, vor der Kirche\, Hauptplatz 22\, Loretto\, Burgenland\, 2443
CATEGORIES:Burgenland,Frauenkreis,Meetup,Workshop
ATTACH;FMTTYPE=image/jpeg:https://www.femvents.at/wp-content/uploads/2026/04/Schuster.jpg
ORGANIZER;CN="Elisabeth Schuster und Alexandra Winkler":MAILTO:info@kinesiologie-elisabeth-schuster.at
GEO:47.9144836;16.5163021
X-APPLE-STRUCTURED-LOCATION;VALUE=URI;X-ADDRESS=2443 Loretto vor der Kirche Hauptplatz 22 Loretto Burgenland 2443;X-APPLE-RADIUS=500;X-TITLE=Hauptplatz 22:geo:16.5163021,47.9144836
END:VEVENT
BEGIN:VEVENT
DTSTART;TZID=Europe/Vienna:20260418T180000
DTEND;TZID=Europe/Vienna:20260418T180000
DTSTAMP:20260420T003817
CREATED:20260414T062504Z
LAST-MODIFIED:20260418T100947Z
UID:10001076-1776535200-1776535200@www.femvents.at
SUMMARY:Kinesiologie trifft Kräuter
DESCRIPTION:Zeit zum Durchatmen\, zum Austauschen und zum Entdecken der ersten Frühlingskräuter.\nWir laden dich zu einer besonderen Wanderung im Leithagebirge ein.\n8km\, ca. 4h\, gemütliches Tempo\nAnmeldung: info@kinesiologie-elisabeth-schuster.at
URL:https://www.femvents.at/event/kinesiologie-trifft-kraeuter-2/
LOCATION:2443 Loretto\, vor der Kirche\, Hauptplatz 22\, Loretto\, Burgenland\, 2443\, Hauptplatz 22\, Loretto\, Burgenland\, 2443\, Austria
CATEGORIES:Burgenland,Externe Veranstaltung
ATTACH;FMTTYPE=image/jpeg:https://www.femvents.at/wp-content/uploads/2026/04/Schuster-tH2phU-81P0Uf.jpg
ORGANIZER;CN="Elisabeth Schuster und Alexandra Winkler":MAILTO:info@kinesiologie-elisabeth-schuster.at
GEO:47.9144836;16.5163021
X-APPLE-STRUCTURED-LOCATION;VALUE=URI;X-ADDRESS=2443 Loretto vor der Kirche Hauptplatz 22 Loretto Burgenland 2443 Hauptplatz 22 Loretto Burgenland 2443 Austria;X-APPLE-RADIUS=500;X-TITLE=Hauptplatz 22:geo:16.5163021,47.9144836
END:VEVENT
BEGIN:VEVENT
DTSTART;TZID=Europe/Vienna:20260418T180000
DTEND;TZID=Europe/Vienna:20260418T200000
DTSTAMP:20260420T003817
CREATED:20260323T180952Z
LAST-MODIFIED:20260323T180952Z
UID:10000955-1776535200-1776542400@www.femvents.at
SUMMARY:Chair Dance Workshop
DESCRIPTION:SALZBURG Chair Dance Workshop ✨😍 März Edition \nBist du ready? ❤️‍🔥 \nQueen\, willst du lernen wie man richtig mit/auf/um einen Sessel tanzt und dich elegant\, schön und wohl dabei fühlen? \nDu willst dich mit deiner weiblichen Energie verbinden und brauchst einen Selbstbewusstseins-Push? 🥰 \nDu sehnst dich nach einer sicheren Atmosphäre\, wo du dich neu entdecken und dich mit anderen tollen Frauen gemeinsam austauschen kannst? Dann bist du beim SELFLOVE & BOOTYSHAKE Chair Dance Workshop genau richtig. 😍❤️ \nIch freue mich auf dich! 🫶🏻 \nAnmeldung & mehr Infos via Mail:\nselflove.bootyshake@gmail.com \nLet’s shine together 💎 \nFolge mir auf Instagram für mehr: @johanna.selflove \nMuch Love\nJohanna
URL:https://www.femvents.at/event/chair-dance-workshop/
LOCATION:Dance Base Salzburg\, Weiserhofstraße 3\, Salzburg\, 5020\, Austria
CATEGORIES:Salzburg,Tanzveranstaltung,Workshop
ATTACH;FMTTYPE=image/png:https://www.femvents.at/wp-content/uploads/2026/03/Chair-Dance-WS-18.04.png
ORGANIZER;CN="Selflove &amp%3B Bootyshake by Johanna":MAILTO:info@selflove-bootyshake.com
GEO:47.8120247;13.0474994
X-APPLE-STRUCTURED-LOCATION;VALUE=URI;X-ADDRESS=Dance Base Salzburg Weiserhofstraße 3 Salzburg 5020 Austria;X-APPLE-RADIUS=500;X-TITLE=Weiserhofstraße 3:geo:13.0474994,47.8120247
END:VEVENT
END:VCALENDAR