BEGIN:VCALENDAR
VERSION:2.0
PRODID:-//femvents.at - ECPv6.15.18//NONSGML v1.0//EN
CALSCALE:GREGORIAN
METHOD:PUBLISH
X-ORIGINAL-URL:https://www.femvents.at
X-WR-CALDESC:Veranstaltungen für femvents.at
REFRESH-INTERVAL;VALUE=DURATION:PT1H
X-Robots-Tag:noindex
X-PUBLISHED-TTL:PT1H
BEGIN:VTIMEZONE
TZID:Europe/Vienna
BEGIN:DAYLIGHT
TZOFFSETFROM:+0100
TZOFFSETTO:+0200
TZNAME:CEST
DTSTART:20250330T010000
END:DAYLIGHT
BEGIN:STANDARD
TZOFFSETFROM:+0200
TZOFFSETTO:+0100
TZNAME:CET
DTSTART:20251026T010000
END:STANDARD
BEGIN:DAYLIGHT
TZOFFSETFROM:+0100
TZOFFSETTO:+0200
TZNAME:CEST
DTSTART:20260329T010000
END:DAYLIGHT
BEGIN:STANDARD
TZOFFSETFROM:+0200
TZOFFSETTO:+0100
TZNAME:CET
DTSTART:20261025T010000
END:STANDARD
BEGIN:DAYLIGHT
TZOFFSETFROM:+0100
TZOFFSETTO:+0200
TZNAME:CEST
DTSTART:20270328T010000
END:DAYLIGHT
BEGIN:STANDARD
TZOFFSETFROM:+0200
TZOFFSETTO:+0100
TZNAME:CET
DTSTART:20271031T010000
END:STANDARD
END:VTIMEZONE
BEGIN:VTIMEZONE
TZID:Europe/Berlin
BEGIN:DAYLIGHT
TZOFFSETFROM:+0100
TZOFFSETTO:+0200
TZNAME:CEST
DTSTART:20250330T010000
END:DAYLIGHT
BEGIN:STANDARD
TZOFFSETFROM:+0200
TZOFFSETTO:+0100
TZNAME:CET
DTSTART:20251026T010000
END:STANDARD
BEGIN:DAYLIGHT
TZOFFSETFROM:+0100
TZOFFSETTO:+0200
TZNAME:CEST
DTSTART:20260329T010000
END:DAYLIGHT
BEGIN:STANDARD
TZOFFSETFROM:+0200
TZOFFSETTO:+0100
TZNAME:CET
DTSTART:20261025T010000
END:STANDARD
BEGIN:DAYLIGHT
TZOFFSETFROM:+0100
TZOFFSETTO:+0200
TZNAME:CEST
DTSTART:20270328T010000
END:DAYLIGHT
BEGIN:STANDARD
TZOFFSETFROM:+0200
TZOFFSETTO:+0100
TZNAME:CET
DTSTART:20271031T010000
END:STANDARD
END:VTIMEZONE
BEGIN:VEVENT
DTSTART;TZID=Europe/Vienna:20260421T180000
DTEND;TZID=Europe/Vienna:20260421T193000
DTSTAMP:20260420T003713
CREATED:20260407T062206Z
LAST-MODIFIED:20260419T100947Z
UID:10001007-1776794400-1776799800@www.femvents.at
SUMMARY:Bgld./ Hornstein LLL – Treffpunkt Impuls Talk  ZURÜCK ZU DIR – was deine Haut wirklich braucht mit LLL-Botschafterin Alexandra Winkler
DESCRIPTION:Ich freue mich auf einen inspirierenden Abend voller neuer Perspektiven\, Verständnis und wertvoller Impulse für deine Gesundheit.\nDie Teilnahme ist kostenfrei\, eine verbindliche Anmeldung ist jedoch unbedingt erforderlich. \nAnmeldung direkt bei den Veranstalterinnen\nAlexandra Winkler\nallo@dreimalgruen.at\n0676/4378328 \nEine Veranstaltung in Netzwerkverbundenheit mit dem Verein\n„LEBEN\, LIEBEN\, LACHEN – Prävention mit Herz\, Verstand und Freude!“\nDie LLL – Treffpunkt  DER IMPULS TALK  zeigen\, wie primäre Prävention als Schlüssel zu einem erfüllten Leben wirkt.\nOb körperlich\, emotional\, sozial oder finanziell – wer frühzeitig vorsorgt\, schafft Raum für Lebensfreude\, Leichtigkeit und Selbstbestimmung.\nDie Reihe soll  inspirieren\, aktiv Schritte zu gehen\, die Gesundheit\, Sicherheit und Wohlbefinden langfristig fördern. \n 
URL:https://www.femvents.at/event/bgld-hornstein-lll-treffpunkt-impuls-talk-zurueck-zu-dir-was-deine-haut-wirklich-braucht-mit-lll-botschafterin-alexandra-winkler/
LOCATION:Forsthaus Hornstein\, Rechte Hauptzeile 22\, Hornstein\, 7053
CATEGORIES:Burgenland,LLL,LLL-PräventionsTreff
ATTACH;FMTTYPE=image/jpeg:https://www.femvents.at/wp-content/uploads/2026/03/Logo-Butah5.jpg
ORGANIZER;CN="Alexandra Winkler":MAILTO:hallo@dreimalgruen.at
GEO:47.8802435;16.4446157
X-APPLE-STRUCTURED-LOCATION;VALUE=URI;X-ADDRESS=Forsthaus Hornstein Rechte Hauptzeile 22 Hornstein 7053;X-APPLE-RADIUS=500;X-TITLE=Rechte Hauptzeile 22:geo:16.4446157,47.8802435
END:VEVENT
BEGIN:VEVENT
DTSTART;TZID=Europe/Vienna:20260421T180000
DTEND;TZID=Europe/Vienna:20260421T220000
DTSTAMP:20260420T003714
CREATED:20260407T062205Z
LAST-MODIFIED:20260419T100947Z
UID:10001006-1776794400-1776808800@www.femvents.at
SUMMARY:Bgld./ Neufeld  LLL-TANZRAUM  Family & Friends 🎶Schlager 60/70er🎶
DESCRIPTION:✨ NEU! LLL-TANZRAUM  ✨ \nManchmal braucht es nicht viel:\nEin bisschen Musik\, ein paar Schritte – und plötzlich ist sie da… die Freude 💛 \nMit dem LLL-TANZRAUM möchten wir einen Ort schaffen\, an dem du einfach du sein kannst.\nOhne Druck\, ohne Perfektion – einfach tanzen\, lachen und den Moment genießen. \n🎶 Schlager 60/70er – Musik\, die Erinnerungen weckt und ins Herz geht \nEgal ob du alleine kommst oder gemeinsam – du bist willkommen. \n👉 Komm vorbei & tanz mit!\nEintritt: freie Spende
URL:https://www.femvents.at/event/bgld-neufeld-lll-tanzraum-family-friends-%f0%9f%8e%b6schlager-60-70er%f0%9f%8e%b6/
LOCATION:Neufeldersee Hotel&Restaurant\, Eisenstädter Straße 35\, Neufeld\, 2493
CATEGORIES:Burgenland,LLL Family & Friends Treff
ATTACH;FMTTYPE=image/jpeg:https://www.femvents.at/wp-content/uploads/2026/04/Tanzraum-D9cItF.jpg
ORGANIZER;CN="LEBEN%2C LIEBEN%2C LACHEN &#8211%3B endlich wei%C3%9F ich wie!":MAILTO:info@vereinlebenliebenlachen.at
GEO:47.8656397;16.3860933
X-APPLE-STRUCTURED-LOCATION;VALUE=URI;X-ADDRESS=Neufeldersee Hotel&Restaurant Eisenstädter Straße 35 Neufeld 2493;X-APPLE-RADIUS=500;X-TITLE=Eisenstädter Straße 35:geo:16.3860933,47.8656397
END:VEVENT
BEGIN:VEVENT
DTSTART;TZID=Europe/Vienna:20260421T190000
DTEND;TZID=Europe/Vienna:20260421T200000
DTSTAMP:20260420T003714
CREATED:20260330T115045Z
LAST-MODIFIED:20260401T094500Z
UID:10000969-1776798000-1776801600@www.femvents.at
SUMMARY:Wechselzeit
DESCRIPTION:Online Veranstaltung für Frauen 40+ \nInformationen für diese manchmal doch herausfordernde Zeit\, damit es leichter wird. \nHier wird mit dem Tabuthema aufgeräumt und eine Basis für die Zukunft geschafft.
URL:https://www.femvents.at/event/wechselzeit-2/
LOCATION:Online-Event\, Austria
CATEGORIES:Online-Event,Wechseljahre
ATTACH;FMTTYPE=image/jpeg:https://www.femvents.at/wp-content/uploads/2026/03/Wechselzeit-21.4.2026.jpg
ORGANIZER;CN="Susanne Hof":MAILTO:mail@susannehof.com
GEO:47.516231;14.550072
END:VEVENT
BEGIN:VEVENT
DTSTART;TZID=Europe/Berlin:20260421T190000
DTEND;TZID=Europe/Berlin:20260421T210000
DTSTAMP:20260420T003714
CREATED:20260415T083827Z
LAST-MODIFIED:20260415T083827Z
UID:10001088-1776798000-1776805200@www.femvents.at
SUMMARY:Mit 50 Cent die Welt verändern I Harriet Bruce-Annan
DESCRIPTION:Vortrag \nReferentin: Harriet Bruce-Annan\nModeration: Sabrina Haunsperg  \n  \nVom Putzeimer zum Bundesverdienstkreuz \n  \nWas wie ein Hollywood-Drehbuch klingt\, ist eine wahre Geschichte:   \nHarriet Bruce-Annan ist eine ghanaische Programmiererin\, Unternehmerin und Humanistin\, die heute in Düsseldorf und Accra (Ghana) lebt. Geboren in Accra\, kam sie ohne Geld\, ohne Netzwerk und ohne Sicherheit nach Europa. Um zu überleben\, arbeitete sie als Klofrau – und traf eine Entscheidung\, die alles verändern sollte. In freiwilligen zusätzlichen Nachtschichten\, ausschließlich auf Trinkgeldbasis\, sammelte sie jeden Cent – nicht für sich\, sondern für Kinder in den Slums von Accra. Aus dieser Entschlossenheit entstand der Hilfsverein African Angel\, der bis heute über 100 Kindern Bildung\, Schutz und echte Zukunftsperspektiven ermöglicht. Für dieses außergewöhnliche Engagement wurde Harriet mit einer der höchsten zivilen Ehrungen\, dem Verdienstkreuz am Bande der Bundesrepublik Deutschland\, durch den damaligen Bundespräsidenten Joachim Gauck persönlich ausgezeichnet. Im Club Alpha stellt Harriet ihre Arbeit persönlich vor. Sie spricht über Verantwortung\, weibliche Selbstermächtigung und darüber\, wie aus einer einzelnen Idee nachhaltige Veränderung wachsen kann.  \n  \n\nHarriet Bruce-Annan \nGeboren in  Accra\, Ghana\, 1965 \n1979 – 1988 Studium am West Africa Computer Science Institute mit Diplom– Abschluss in Computer Programmierung  \n1990 Emigration nach Deutschland \n2003 Gründung des Vereins African Angel e.V. in Düsseldorf  \n2004 Gründung von African Angel NGO in Accra\, Ghana.   \nBuch-Veröffentlichungen: 2009  “Mit 50 Cent die Welt verändern!“\, 2012 „Wie ein Stern am Horizont“  \n2011 Verleihung Die GOLDENE BILD der FRAU (Preis der Frauenzeitschrift BILD der FRAU\, Europas größter Frauenzeitschrift)  \n07.03.2013  Verleihung des Deutschen Bundesverdienstkreuzes   \n2014 Errichtung des 3ten Hauses in Ghana\, wo mittlerweile über 100 Kinder beherbergt werden \nFoto: ©privat
URL:https://www.femvents.at/event/mit-50-cent-die-welt-veraendern-i-harriet-bruce-annan/
LOCATION:Club alpha\, Stubenbastei 12/14\, Wien\, 1010\, Österreich
CATEGORIES:Diskussion,Finanzen,im Gespräch,Karriere,Persönlichkeitsentwicklung,Wien
ATTACH;FMTTYPE=image/png:https://www.femvents.at/wp-content/uploads/2026/04/Hariett_21.04.2026-OPjb6v.png
ORGANIZER;CN="Club alpha":MAILTO:clubalpha@clubalpha.at
GEO:48.2063723;16.3776169
X-APPLE-STRUCTURED-LOCATION;VALUE=URI;X-ADDRESS=Club alpha Stubenbastei 12/14 Wien 1010 Österreich;X-APPLE-RADIUS=500;X-TITLE=Stubenbastei 12/14:geo:16.3776169,48.2063723
END:VEVENT
END:VCALENDAR