BEGIN:VCALENDAR
VERSION:2.0
PRODID:-//femvents.at - ECPv6.15.18//NONSGML v1.0//EN
CALSCALE:GREGORIAN
METHOD:PUBLISH
X-ORIGINAL-URL:https://www.femvents.at
X-WR-CALDESC:Veranstaltungen für femvents.at
REFRESH-INTERVAL;VALUE=DURATION:PT1H
X-Robots-Tag:noindex
X-PUBLISHED-TTL:PT1H
BEGIN:VTIMEZONE
TZID:Europe/Vienna
BEGIN:DAYLIGHT
TZOFFSETFROM:+0100
TZOFFSETTO:+0200
TZNAME:CEST
DTSTART:20250330T010000
END:DAYLIGHT
BEGIN:STANDARD
TZOFFSETFROM:+0200
TZOFFSETTO:+0100
TZNAME:CET
DTSTART:20251026T010000
END:STANDARD
BEGIN:DAYLIGHT
TZOFFSETFROM:+0100
TZOFFSETTO:+0200
TZNAME:CEST
DTSTART:20260329T010000
END:DAYLIGHT
BEGIN:STANDARD
TZOFFSETFROM:+0200
TZOFFSETTO:+0100
TZNAME:CET
DTSTART:20261025T010000
END:STANDARD
BEGIN:DAYLIGHT
TZOFFSETFROM:+0100
TZOFFSETTO:+0200
TZNAME:CEST
DTSTART:20270328T010000
END:DAYLIGHT
BEGIN:STANDARD
TZOFFSETFROM:+0200
TZOFFSETTO:+0100
TZNAME:CET
DTSTART:20271031T010000
END:STANDARD
END:VTIMEZONE
BEGIN:VEVENT
DTSTART;TZID=Europe/Vienna:20260422T100000
DTEND;TZID=Europe/Vienna:20260422T113000
DTSTAMP:20260420T003815
CREATED:20260415T091451Z
LAST-MODIFIED:20260419T100947Z
UID:10001107-1776852000-1776857400@www.femvents.at
SUMMARY:NÖ/Wr. Neustadt   LLL- Frauen Nordic Walking mit LLL-Botschafterin Mehtap Elitas-Sevindik
DESCRIPTION:Nordic Walking in deinem Rhythmus mit der Natur \nGemeinsam dehnen\, auflockern\, losmarschieren und wieder runter kommen.  \nSo können wir uns gegenseitig stärken\, tanken Energie und leisten so einen wertvollen Beitrag zu unserer Genesung und Gesundheit!  \nBitte komm‘ pünktlich – wir warten 5 Minuten\, dann geht’s los!  \nBei jedem Wetter – außer starkem Regen oder Gewitter!\nSei auch Du dabei!  \nAnmeldung unter:\nInfo@vereinlebenliebenlachen.at \noder\neinfach spontan vorbeikommen \n \nTreffpunkt roter Punkt \, Parkmöglichkeiten:  Hofer Parkplatz  \n  \n  \n 
URL:https://www.femvents.at/event/noe-wr-neustadt-lll-frauen-nordic-walking-mit-lll-botschafterin-mehtap-elitas-sevindik/
LOCATION:Milak Wr.Neustadt\, Burgplatz 1\, Wr. Neustadt\, Niederösterreich\, 2700
CATEGORIES:Burgenland,LLL
ATTACH;FMTTYPE=image/jpeg:https://www.femvents.at/wp-content/uploads/2026/04/Waldbaden-n41GJO.jpg
ORGANIZER;CN="LEBEN%2C LIEBEN%2C LACHEN &#8211%3B endlich wei%C3%9F ich wie!":MAILTO:info@vereinlebenliebenlachen.at
GEO:47.8019748;16.2426907
X-APPLE-STRUCTURED-LOCATION;VALUE=URI;X-ADDRESS=Milak Wr.Neustadt Burgplatz 1 Wr. Neustadt Niederösterreich 2700;X-APPLE-RADIUS=500;X-TITLE=Burgplatz 1:geo:16.2426907,47.8019748
END:VEVENT
BEGIN:VEVENT
DTSTART;TZID=Europe/Vienna:20260422T173000
DTEND;TZID=Europe/Vienna:20260422T190000
DTSTAMP:20260420T003815
CREATED:20260415T091453Z
LAST-MODIFIED:20260419T100947Z
UID:10001108-1776879000-1776884400@www.femvents.at
SUMMARY:Stmk./Graz LLL – Treffpunkt Impuls Talk „Money Mindset“  mit  LLL-Botschafterin Sarah Hofbauer
DESCRIPTION:Ein inspirierender Impuls-Talk rund um das Thema Geld und Mindset: In diesem Vortrag erfahren Frauen\, wie sie finanzielle Zusammenhänge besser verstehen\, sinnvolle Anlagestrategien nutzen und Schritt für Schritt Vermögen aufbauen können. Ziel ist es\, finanzielle Sicherheit zu schaffen und die eigene Zukunft selbst bestimmt zu gestalten. \nAnmeldung direkt bei den Veranstalterin\nSarah Hofbauer\ninfo@srah-hofbauer.com \nEine Veranstaltung in Netzwerkverbundenheit mit dem Verein\n„LEBEN\, LIEBEN\, LACHEN – Prävention mit Herz\, Verstand und Freude!“\nDie LLL – Treffpunkt  DER IMPULS TALK  zeigen\, wie primäre Prävention als Schlüssel zu einem erfüllten Leben wirkt.\nOb körperlich\, emotional\, sozial oder finanziell – wer frühzeitig vorsorgt\, schafft Raum für Lebensfreude\, Leichtigkeit und Selbstbestimmung.\nDie Reihe soll  inspirieren\, aktiv Schritte zu gehen\, die Gesundheit\, Sicherheit und Wohlbefinden langfristig fördern. \nSarah Hofbauer
URL:https://www.femvents.at/event/stmk-graz-lll-treffpunkt-impuls-talk-money-mindset-mit-lll-botschafterin-sarah-hofbauer/
LOCATION:Spacelend Graz\, Neubaugasse 24\, 8020\, Steiermark\, 8020
CATEGORIES:Burgenland,LLL,LLL-PräventionsTreff
ATTACH;FMTTYPE=image/jpeg:https://www.femvents.at/wp-content/uploads/2026/03/Logo-Butah5.jpg
ORGANIZER;CN="Sarah Hofbauer":MAILTO:info@sarah-hofbauer.com
GEO:47.0773909;15.4310574
X-APPLE-STRUCTURED-LOCATION;VALUE=URI;X-ADDRESS=Spacelend Graz Neubaugasse 24 8020 Steiermark 8020;X-APPLE-RADIUS=500;X-TITLE=Neubaugasse 24:geo:15.4310574,47.0773909
END:VEVENT
BEGIN:VEVENT
DTSTART;TZID=Europe/Vienna:20260422T180000
DTEND;TZID=Europe/Vienna:20260422T200000
DTSTAMP:20260420T003815
CREATED:20260407T062206Z
LAST-MODIFIED:20260419T100947Z
UID:10001008-1776880800-1776888000@www.femvents.at
SUMMARY:Bgld./Neufeld LLL-BUSINESS Frauentreff mit LLL-Botschafterin Susanne E. Tichy
DESCRIPTION:🌸✨ Hallo liebe Unternehmerinnen & Business-Frauen ✨🌸 \n🌼 Lust auf Austausch auf Augenhöhe?\n🌸 Inspirierende Gespräche\, neue Impulse & wertvolle Kontakte?\nDann komm zu unserem LLL-BUSINESS FRAUENTREFF 💚🧡🩷 \nEin Raum für Vernetzung\, Erfahrungsaustausch und echtes Miteinander 💫\n🌷 Egal ob selbstständig\, in Gründung oder beruflich neu orientiert –\n🧁 komm genau so\, wie du bist!\nHier ist Platz für deine Ideen\, deine Visionen und alles\, was dich beruflich bewegt 🫶 \n💼 Gemeinsam wachsen.\n💬 Gemeinsam lernen.\n💖 Gemeinsam erfolgreich sein. \n💃 Wir freuen uns sehr auf dich! \n📩 Bitte um Platzreservierung\ninfo@vereinlebenliebenlachen.at
URL:https://www.femvents.at/event/bgld-neufeld-lll-business-frauentreff-mit-lll-botschafterin-susanne-e-tichy/
LOCATION:Neufeldersee Hotel&Restaurant\, Eisenstädter Straße 35\, Neufeld\, 2493
CATEGORIES:Burgenland,LLL
ATTACH;FMTTYPE=image/jpeg:https://www.femvents.at/wp-content/uploads/2026/03/Business-Treff-Neufeld-CycA2i.jpg
ORGANIZER;CN="LEBEN%2C LIEBEN%2C LACHEN &#8211%3B endlich wei%C3%9F ich wie!":MAILTO:info@vereinlebenliebenlachen.at
GEO:47.8656397;16.3860933
X-APPLE-STRUCTURED-LOCATION;VALUE=URI;X-ADDRESS=Neufeldersee Hotel&Restaurant Eisenstädter Straße 35 Neufeld 2493;X-APPLE-RADIUS=500;X-TITLE=Eisenstädter Straße 35:geo:16.3860933,47.8656397
END:VEVENT
END:VCALENDAR