BEGIN:VCALENDAR
VERSION:2.0
PRODID:-//femvents.at - ECPv6.15.18//NONSGML v1.0//EN
CALSCALE:GREGORIAN
METHOD:PUBLISH
X-WR-CALNAME:femvents.at
X-ORIGINAL-URL:https://www.femvents.at
X-WR-CALDESC:Veranstaltungen für femvents.at
REFRESH-INTERVAL;VALUE=DURATION:PT1H
X-Robots-Tag:noindex
X-PUBLISHED-TTL:PT1H
BEGIN:VTIMEZONE
TZID:Europe/Vienna
BEGIN:DAYLIGHT
TZOFFSETFROM:+0100
TZOFFSETTO:+0200
TZNAME:CEST
DTSTART:20250330T010000
END:DAYLIGHT
BEGIN:STANDARD
TZOFFSETFROM:+0200
TZOFFSETTO:+0100
TZNAME:CET
DTSTART:20251026T010000
END:STANDARD
BEGIN:DAYLIGHT
TZOFFSETFROM:+0100
TZOFFSETTO:+0200
TZNAME:CEST
DTSTART:20260329T010000
END:DAYLIGHT
BEGIN:STANDARD
TZOFFSETFROM:+0200
TZOFFSETTO:+0100
TZNAME:CET
DTSTART:20261025T010000
END:STANDARD
BEGIN:DAYLIGHT
TZOFFSETFROM:+0100
TZOFFSETTO:+0200
TZNAME:CEST
DTSTART:20270328T010000
END:DAYLIGHT
BEGIN:STANDARD
TZOFFSETFROM:+0200
TZOFFSETTO:+0100
TZNAME:CET
DTSTART:20271031T010000
END:STANDARD
END:VTIMEZONE
BEGIN:VTIMEZONE
TZID:Europe/Istanbul
BEGIN:STANDARD
TZOFFSETFROM:+0300
TZOFFSETTO:+0300
TZNAME:+03
DTSTART:20250101T000000
END:STANDARD
END:VTIMEZONE
BEGIN:VEVENT
DTSTART;VALUE=DATE:20260423
DTEND;VALUE=DATE:20260427
DTSTAMP:20260420T003538
CREATED:20260220T121611Z
LAST-MODIFIED:20260401T094632Z
UID:10000835-1776902400-1777247999@www.femvents.at
SUMMARY:Feel your Flow Retreat
DESCRIPTION:Das KREATIV-Retreat für Körper\, Geist & Seele\n23. – 26. April 2026 im @strandhotel_weissensee\nSichere dir den Early-Bird-Preis bis 15. März! \n✨ viele unterschiedliche Materialien und Möglichkeiten dich kreativ auszuprobieren\n✨ Tägliche Klang QiGong Sessions für einen guten Start in den Tag\n✨ eigene Malhütte direkt am See\, wo wir ungestört sind\n✨ kunsttherapeutische Übungen\, die ich je nach Bedarf spontan auswähle\n✨ Wertvoller Austausch mit Gleichgesinnten\n✨ hervorragende vegane Küche\n✨ und bei Bedarf die Nutzung des See-Spas \nIch freu mich auf 4 magische Tage – die unheimlich viel in dir bewirken können – und dich wieder ein Stück näher zu dir selbst bringen werden 💕✨
URL:https://www.femvents.at/event/feel-your-flow-retreat/
LOCATION:Strandhotel am Weissensee\, Neusach 18\, 9762 Weissensee\, Kärnten\, 9762 Weissensee\, Austria
CATEGORIES:Kärnten,Retreat
ATTACH;FMTTYPE=image/jpeg:https://www.femvents.at/wp-content/uploads/2026/02/FeelYourFlow_Header.jpg
ORGANIZER;CN="Herz an Herz Atelier":MAILTO:tina@herzanherz.at
GEO:46.7168392;13.3060805
X-APPLE-STRUCTURED-LOCATION;VALUE=URI;X-ADDRESS=Strandhotel am Weissensee Neusach 18 9762 Weissensee Kärnten 9762 Weissensee Austria;X-APPLE-RADIUS=500;X-TITLE=Neusach 18:geo:13.3060805,46.7168392
END:VEVENT
BEGIN:VEVENT
DTSTART;VALUE=DATE:20260423
DTEND;VALUE=DATE:20260501
DTSTAMP:20260420T003538
CREATED:20260205T161625Z
LAST-MODIFIED:20260205T161625Z
UID:10000767-1776902400-1777593599@www.femvents.at
SUMMARY:geführte Frauenreise: Istanbul + Kappadokien
DESCRIPTION:Bei dieser Reise kombiniere ich zwei Welten\, die unterschiedlicher nicht sein könnten – und genau deshalb perfekt zusammenpassen: das vibrierende Istanbul und das magische Kappadokien. \nStatt „0815-Tour“ erlebst du eine Reise\, die Wohlfühlmomente\, Genuss\, Kultur und echte Begegnungen verbindet. Gemeinsam entdecken wir verborgene Ecken\, essen uns durch Streetfood-Klassiker\, baden im Hamam-Schaum und stehen später vor Landschaften\, die aussehen wie von einem anderen Planeten. \nDiese Reise ist für Frauen gemacht\, die gern leicht reisen\, gut essen\, gerne lachen und Lust haben\, sich selbst wieder ein Stück näherzukommen. Und ja: auch für dich. \n\n\n\n\n\n\n\n\n\n\n\n\n\n\n\n\n\nWarum Istanbul & Kappadokien?\n\n\n\nWeil du hier zwei Seiten der Türkei erlebst\, die zusammen ein unschlagbares Duo sind:\n\n\nIstanbul – energiegeladen\, geschichtsträchtig\, laut\, bunt\, köstlich. Eine Stadt\, die dir sofort unter die Haut geht. Moscheen\, Märkte\, versteckte Viertel… und so viel weibliche Lebensfreude.\nKappadokien – mystisch\, ruhig\, spektakulär. Felsformationen wie aus einem Märchenbuch\, Täler in Rosa und Rot\, unglaubliche unterirdische Städte und ein Sternenhimmel\, der dich sprachlos macht.\n\nDiese Kombination ist einzigartig: erst Großstadt-Vibes\, dann Naturwunder. Erst Streetfood und Hamam\, dann Felsen\, Weite und Stille. Eine Reise für Kopf\, Herz und Seele. \nUnd das Beste? Du reist nicht allein – aber frei. Wir sind eine kleine Frauengruppe\, wertschätzend\, entspannt\, neugierig – und du musst dich um nichts kümmern. \nDas detaillierte Programm findest du auf meiner Website: www-ladies-who-travel.com
URL:https://www.femvents.at/event/gefuehrte-frauenreise-istanbul-kappadokien/
CATEGORIES:Frauenkreis,Meetup,Österreichweit,Retreat
ATTACH;FMTTYPE=image/jpeg:https://www.femvents.at/wp-content/uploads/2026/02/Ladies-who-travel_Tuerkei_004-low.jpg
ORGANIZER;CN="Ladies Who Travel - Sabrina Weber":MAILTO:hello@ladies-who-travel.com
END:VEVENT
BEGIN:VEVENT
DTSTART;TZID=Europe/Vienna:20260423T133000
DTEND;TZID=Europe/Vienna:20260423T180000
DTSTAMP:20260420T003538
CREATED:20260313T085607Z
LAST-MODIFIED:20260313T090526Z
UID:10000898-1776951000-1776967200@www.femvents.at
SUMMARY:Hornstein LLL - "Die Malerinnen"  mit LLL - Botschafterin Cleo Ruisz
DESCRIPTION:🎨 Achtung\, Farb-Alarm! 🎨\nLadies\, es wird bunt!\nCleo öffnet einmal im Monat die Türen ihres Ateliers für einen entspannten Malnachmittag – ganz ohne Leistungsdruck\, ganz ohne „Workshop-Feeling“.\nDafür mit viel Spaß\, Farbe an den Fingern und vielleicht auch auf der Nase. 😉\nWir malen gemeinsam vor uns hin\, quatschen\,  lachen – und wenn Ihr feststeckt\, flüstert Cleo euch gerne den einen oder anderen kreativen Schubs zu.\nFarben & Co. bitte selbst einpacken – wer spontan ohne Material dasteht\, kann sich gegen einen kleinen Wertschätzungsbeitrag gerne bei Cleo bedienen.\nFreut euch auf eure kreativen Chaos-Momente mit Cleo.\n👩‍🎨 Nur 4 Plätze – also schnell anmelden!\ninfo@vereinlebenliebenlachen.at
URL:https://www.femvents.at/event/hornstein-lll-die-malerinnen-mit-lll-botschafterin-cleo-ruisz/
LOCATION:Atelier Cleo Ruisz\, Eisenstädterstraße 80\, Hornstein\, 7053\, Eisenstädter Straße 80\, Hornstein\, Burgenland\, 7053\, Austria
CATEGORIES:Burgenland,LLL,L💛L🧡L🩷 Frauentreff
ATTACH;FMTTYPE=image/png:https://www.femvents.at/wp-content/uploads/2026/03/Foto-scaled-V1t3hS.png
ORGANIZER;CN="LEBEN%2C LIEBEN%2C LACHEN - endlich wei%C3%9F ich wie!":MAILTO:info@vereinlebenliebenlachen.at
GEO:47.8728967;16.4405648
X-APPLE-STRUCTURED-LOCATION;VALUE=URI;X-ADDRESS=Atelier Cleo Ruisz Eisenstädterstraße 80 Hornstein 7053 Eisenstädter Straße 80 Hornstein Burgenland 7053 Austria;X-APPLE-RADIUS=500;X-TITLE=Eisenstädter Straße 80:geo:16.4405648,47.8728967
END:VEVENT
BEGIN:VEVENT
DTSTART;TZID=Europe/Vienna:20260423T140000
DTEND;TZID=Europe/Vienna:20260423T220000
DTSTAMP:20260420T003538
CREATED:20260324T072628Z
LAST-MODIFIED:20260324T073909Z
UID:10000957-1776952800-1776981600@www.femvents.at
SUMMARY:fraubraucht dolce vita
DESCRIPTION:Sehr herzlich möchte ich Euch zu einer entspannten Geselligkeit in italienischer Atmosphäre mit guten Getränken und Cicchetti bei klingenden Musik für neue berufliche oder private Verbindungen einladen! \nKomm wie Du bist und tauch‘ ein in einen Nachmittag des dolce vita!
URL:https://www.femvents.at/event/fraubraucht-dolce-vita/
LOCATION:WIENER SOEHNE\, Postgasse 11/V\, Wien\, 1010
CATEGORIES:Netzwerk-Treffen,Wien
ATTACH;FMTTYPE=image/jpeg:https://www.femvents.at/wp-content/uploads/2026/03/1000238590.jpg
ORGANIZER;CN="www.fraubraucht.at":MAILTO:Kontakt@fraubraucht.at
GEO:48.2096061;16.3785662
X-APPLE-STRUCTURED-LOCATION;VALUE=URI;X-ADDRESS=WIENER SOEHNE Postgasse 11/V Wien 1010;X-APPLE-RADIUS=500;X-TITLE=Postgasse 11/V:geo:16.3785662,48.2096061
END:VEVENT
BEGIN:VEVENT
DTSTART;TZID=Europe/Vienna:20260423T183000
DTEND;TZID=Europe/Vienna:20260423T203000
DTSTAMP:20260420T003538
CREATED:20260122T071139Z
LAST-MODIFIED:20260122T071139Z
UID:10000699-1776969000-1776976200@www.femvents.at
SUMMARY:Linoprint Bloom: Slow Printing\, Upcycling & Deep Feeling
DESCRIPTION:Donnerstag\, 23. April von 18:30 – 20:30 Uhr \nDieser Workshop verbindet kreatives Upcycling mit einem modernen Selbstliebe-Ansatz. Du bringst ein Textil mit\, das vielleicht in Vergessenheit geraten ist – und schenkst ihm (und dir) ein neues Statement. Nicht perfekt. Sondern echt. Nicht neu gekauft. Sondern neu gefühlt. \nLinoldruck wird hier zur Selbstverbindung: Was möchte durch dich sichtbar werden?Welches Wort\, welches Symbol\, welche Energie darf bleiben? \nWas ist Linoprint eigentlich? \nLinoprint oder Linolschnitt ist eine traditionelle Drucktechnik\, bei der Motive in eine weiche Linoleumplatte geschnitten werden. Die erhabenen Flächen werden anschließend mit Farbe eingewalzt und auf Stoff oder Papier gedruckt. Jeder Druck ist ein Unikat! \nDer Reiz liegt im Rhythmus: Schneiden\, Rollen\, Drucken – Schritt für Schritt entsteht etwas Eigenes\, Echtes. Und genau das macht Linoprint so besonders: Es entschleunigt\, verbindet dich mit dem Moment und lässt dich in einen kreativen Flow eintauchen.
URL:https://www.femvents.at/event/linoprint-bloom-slow-printing-upcycling-deep-feeling/
LOCATION:Salzburg\, Aigner Straße 78\, 5026 Salzburg-Aigen\, Salzburg\, Salzburg\, 5026
CATEGORIES:Salzburg,Workshop
ATTACH;FMTTYPE=image/jpeg:https://www.femvents.at/wp-content/uploads/2026/01/photo_2025-09-23_14-28-17-2.jpg
ORGANIZER;CN="SELF LOVE CLUB @liebestrunken":MAILTO:hey@liebestrunken.com
GEO:47.516231;14.550072
X-APPLE-STRUCTURED-LOCATION;VALUE=URI;X-ADDRESS=Salzburg Aigner Straße 78 5026 Salzburg-Aigen Salzburg Salzburg 5026;X-APPLE-RADIUS=500;X-TITLE=Aigner Straße 78\, 5026 Salzburg-Aigen:geo:14.550072,47.516231
END:VEVENT
BEGIN:VEVENT
DTSTART;TZID=Europe/Vienna:20260423T190000
DTEND;TZID=Europe/Vienna:20260423T200000
DTSTAMP:20260420T003538
CREATED:20260217T111030Z
LAST-MODIFIED:20260217T111030Z
UID:10000824-1776970800-1776974400@www.femvents.at
SUMMARY:Gründerinnen-Sprechstunde: Fempreneur
DESCRIPTION:Du möchtest dich selbstständig machen aber hast noch 1000 Fragen?\n💬 Komm zum zweiwöchentlichen Online-Expertinnen-Talk für Gründerinnen (in spe) zu allen Fragen rund um deine Selbstständigkeit! \nIn diesem kostenlosen Webinar erwartet dich: \n\nOffene Q&A-Session zu allen Themen der Unternehmensgründung\nPraxisnahe Antworten auf deine individuellen Herausforderungen\nVernetzung mit Gleichgesinnten in entspannter Atmosphäre\nWertvolle Impulse und konkrete Handlungsschritte\n\nDetails:\n🗓️ Jeden zweiten Donnerstag\n⏰ 19:00 Uhr\n💻 Via Zoom\n💰 Kostenlos \nBringe deine Fragen mit oder höre einfach zu und lass dich inspirieren.\nDieser interaktive Austausch ist perfekt für dich\, egal ob du… \n\nmit dem Gedanken spielst\, dich selbstständig zu machen\nkonkrete Schritte zur Gründung planst\nbereits gegründet hast und vor neuen Herausforderungen stehst\n\n👩‍💼 Über den Host:\nIsabella ist diplomierte psychologische Beraterin\, Business Coach\, Trainerin für Erwachsenenbildung und zertifiziert für Burnoutprävention. Mit 14+ Jahren Erfahrung als selbstständige Digital Product Designerin bringt sie einen reichen Erfahrungsschatz in der Zusammenarbeit mit Kund:innen in ganz Europa mit. ✨ \n🔗 Melde dich jetzt für einen der nächsten Termine an! \nhttps://scheduler.zoom.us/isabella-raunigk/fempreneur-after-work
URL:https://www.femvents.at/event/gruenderinnen-sprechstunde-fempreneur-17/
LOCATION:Online-Event\, Austria
CATEGORIES:After Work,Coaching,Netzwerk-Treffen,Online-Event,Österreichweit
ATTACH;FMTTYPE=image/png:https://www.femvents.at/wp-content/uploads/2026/02/aFempreneur-After-Work-Linkedin-Video-SSG-Coop-3.png
ORGANIZER;CN="Mind Distillery":MAILTO:hello@mind-distillery.com
GEO:47.516231;14.550072
END:VEVENT
BEGIN:VEVENT
DTSTART;TZID=Europe/Vienna:20260423T190000
DTEND;TZID=Europe/Vienna:20260423T210000
DTSTAMP:20260420T003538
CREATED:20260330T144603Z
LAST-MODIFIED:20260330T150434Z
UID:10000972-1776970800-1776978000@www.femvents.at
SUMMARY:Film – TABU.auf.BRUCH
DESCRIPTION:Lasst uns über Tabus sprechen! \nDer Film begleitet aus einer künstlerisch-dokumentarischen Perspektive unsere Veranstaltung TABU.auf.BRUCH im September 2023 in Ludesch. Er fängt intime Momente\, Gespräche\, Körperausdruck und Stille ein – und verwebt sie zu einer dichten\, kraftvollen Collage menschlicher Erfahrungen. Mitwirkende sprechen über Geburt\, Gewalt\, Menstruation\, Scham\, Sexualität\, Trauer\, Weiblichkeit\, Mutterschaft\, Körperbilder\, Wut\, Geld\, Macht und Sprachlosigkeit. \nWas dich erwartet \nFilmvorführung (52 min) und gemeinsames Gespräch mit Fragen aus dem Publikum und weiteren Mitwirkenden. \nAnschließend laden wir zum Ausklang ein. \nFilmtrailer auf youtube\nAward Winner: Better World Film Festival 2024
URL:https://www.femvents.at/event/film-tabu-auf-bruch/
LOCATION:Volksbank Bregenz\, Bahnhosftr. 12\, Bregenz\, Vorarlberg\, 6900\, Austria
CATEGORIES:Salon13,Vorarlberg
ATTACH;FMTTYPE=image/jpeg:https://www.femvents.at/wp-content/uploads/2026/03/260423_Flyer-TABU.auf_.BRUCH-Film-S1-1.jpg
ORGANIZER;CN="SALON 13":MAILTO:info@salon13.at
GEO:47.5040135;9.7447679
X-APPLE-STRUCTURED-LOCATION;VALUE=URI;X-ADDRESS=Volksbank Bregenz Bahnhosftr. 12 Bregenz Vorarlberg 6900 Austria;X-APPLE-RADIUS=500;X-TITLE=Bahnhosftr. 12:geo:9.7447679,47.5040135
END:VEVENT
BEGIN:VEVENT
DTSTART;TZID=Europe/Vienna:20260423T190000
DTEND;TZID=Europe/Vienna:20260423T220000
DTSTAMP:20260420T003538
CREATED:20260315T090250Z
LAST-MODIFIED:20260315T090250Z
UID:10000920-1776970800-1776981600@www.femvents.at
SUMMARY:SPEAK UP WIEN
DESCRIPTION:SPEAK UP – Wien | 23. April 2026 | 19:00 Uhr \nKI produziert Content im Überfluss.\nWas fehlt\, sind Menschen mit Haltung. \nWir brauchen keinen weiteren inhaltsleeren Content.\nWir brauchen Menschen mit klarer Haltung.\nTiefe statt Oberfläche.\nBegegnung statt Beschallung. \nSPEAK UP ist ein Raum für genau das.\nFür Stimmen\, die etwas meinen.\nFür Geschichten\, die erlebt statt optimiert sind.\nFür Begegnungen\, die bleiben. \nWas dich erwartet: \n✔ 10-minütige Impulsreden mit echtem Mehrwert – keine Pitchveranstaltung\, sondern Gedanken\, die bewegen. \n✔ Unterschiedliche Themenfelder und unverwechselbare Speeches von Frauen – ehrlich\, mutig\, kompetent. \n✔ Ein Abend voller Inspiration\, Substanz und Unterhaltung – kein leeres Motivationsfeuerwerk\, sondern echte Impulse. \n✔ Netzwerken auf Augenhöhe – gemeinsam wachsen\, sich stärken\, sich wirklich begegnen. \n✔ Safer Space mit professionellem Rahmen – angenehme Atmosphäre\, Snacks & Getränke inklusive. \nWenn du genug hast von Oberflächen-Content.\nWenn du echte Stimmen hören willst.\nWenn du spüren willst\, wie Haltung im Raum klingt — \nDann ist SPEAK UP dein Abend. \nSei dabei. Deine Stimme gehört in diese Welt.
URL:https://www.femvents.at/event/speak-up-wien/
LOCATION:Wien\, wien\, Wien\, 1060\, Austria
CATEGORIES:After Work,Netzwerk-Treffen,Wien
ATTACH;FMTTYPE=image/jpeg:https://www.femvents.at/wp-content/uploads/2026/03/288-R6II1407-scaled.jpg
ORGANIZER;CN="Female Speakers Academy":MAILTO:hello@femalespeakersacademy.com
GEO:48.1945985;16.3504336
END:VEVENT
END:VCALENDAR