BEGIN:VCALENDAR
VERSION:2.0
PRODID:-//femvents.at - ECPv6.15.18//NONSGML v1.0//EN
CALSCALE:GREGORIAN
METHOD:PUBLISH
X-ORIGINAL-URL:https://www.femvents.at
X-WR-CALDESC:Veranstaltungen für femvents.at
REFRESH-INTERVAL;VALUE=DURATION:PT1H
X-Robots-Tag:noindex
X-PUBLISHED-TTL:PT1H
BEGIN:VTIMEZONE
TZID:Europe/Vienna
BEGIN:DAYLIGHT
TZOFFSETFROM:+0100
TZOFFSETTO:+0200
TZNAME:CEST
DTSTART:20250330T010000
END:DAYLIGHT
BEGIN:STANDARD
TZOFFSETFROM:+0200
TZOFFSETTO:+0100
TZNAME:CET
DTSTART:20251026T010000
END:STANDARD
BEGIN:DAYLIGHT
TZOFFSETFROM:+0100
TZOFFSETTO:+0200
TZNAME:CEST
DTSTART:20260329T010000
END:DAYLIGHT
BEGIN:STANDARD
TZOFFSETFROM:+0200
TZOFFSETTO:+0100
TZNAME:CET
DTSTART:20261025T010000
END:STANDARD
BEGIN:DAYLIGHT
TZOFFSETFROM:+0100
TZOFFSETTO:+0200
TZNAME:CEST
DTSTART:20270328T010000
END:DAYLIGHT
BEGIN:STANDARD
TZOFFSETFROM:+0200
TZOFFSETTO:+0100
TZNAME:CET
DTSTART:20271031T010000
END:STANDARD
END:VTIMEZONE
BEGIN:VTIMEZONE
TZID:Europe/Istanbul
BEGIN:STANDARD
TZOFFSETFROM:+0300
TZOFFSETTO:+0300
TZNAME:+03
DTSTART:20250101T000000
END:STANDARD
END:VTIMEZONE
BEGIN:VEVENT
DTSTART;VALUE=DATE:20260423
DTEND;VALUE=DATE:20260427
DTSTAMP:20260420T003816
CREATED:20260220T121611Z
LAST-MODIFIED:20260401T094632Z
UID:10000835-1776902400-1777247999@www.femvents.at
SUMMARY:Feel your Flow Retreat
DESCRIPTION:Das KREATIV-Retreat für Körper\, Geist & Seele\n23. – 26. April 2026 im @strandhotel_weissensee\nSichere dir den Early-Bird-Preis bis 15. März! \n✨ viele unterschiedliche Materialien und Möglichkeiten dich kreativ auszuprobieren\n✨ Tägliche Klang QiGong Sessions für einen guten Start in den Tag\n✨ eigene Malhütte direkt am See\, wo wir ungestört sind\n✨ kunsttherapeutische Übungen\, die ich je nach Bedarf spontan auswähle\n✨ Wertvoller Austausch mit Gleichgesinnten\n✨ hervorragende vegane Küche\n✨ und bei Bedarf die Nutzung des See-Spas \nIch freu mich auf 4 magische Tage – die unheimlich viel in dir bewirken können – und dich wieder ein Stück näher zu dir selbst bringen werden 💕✨
URL:https://www.femvents.at/event/feel-your-flow-retreat/
LOCATION:Strandhotel am Weissensee\, Neusach 18\, 9762 Weissensee\, Kärnten\, 9762 Weissensee\, Austria
CATEGORIES:Kärnten,Retreat
ATTACH;FMTTYPE=image/jpeg:https://www.femvents.at/wp-content/uploads/2026/02/FeelYourFlow_Header.jpg
ORGANIZER;CN="Herz an Herz Atelier":MAILTO:tina@herzanherz.at
GEO:46.7168392;13.3060805
X-APPLE-STRUCTURED-LOCATION;VALUE=URI;X-ADDRESS=Strandhotel am Weissensee Neusach 18 9762 Weissensee Kärnten 9762 Weissensee Austria;X-APPLE-RADIUS=500;X-TITLE=Neusach 18:geo:13.3060805,46.7168392
END:VEVENT
BEGIN:VEVENT
DTSTART;VALUE=DATE:20260423
DTEND;VALUE=DATE:20260501
DTSTAMP:20260420T003816
CREATED:20260205T161625Z
LAST-MODIFIED:20260205T161625Z
UID:10000767-1776902400-1777593599@www.femvents.at
SUMMARY:geführte Frauenreise: Istanbul + Kappadokien
DESCRIPTION:Bei dieser Reise kombiniere ich zwei Welten\, die unterschiedlicher nicht sein könnten – und genau deshalb perfekt zusammenpassen: das vibrierende Istanbul und das magische Kappadokien. \nStatt „0815-Tour“ erlebst du eine Reise\, die Wohlfühlmomente\, Genuss\, Kultur und echte Begegnungen verbindet. Gemeinsam entdecken wir verborgene Ecken\, essen uns durch Streetfood-Klassiker\, baden im Hamam-Schaum und stehen später vor Landschaften\, die aussehen wie von einem anderen Planeten. \nDiese Reise ist für Frauen gemacht\, die gern leicht reisen\, gut essen\, gerne lachen und Lust haben\, sich selbst wieder ein Stück näherzukommen. Und ja: auch für dich. \n\n\n\n\n\n\n\n\n\n\n\n\n\n\n\n\n\nWarum Istanbul & Kappadokien?\n\n\n\nWeil du hier zwei Seiten der Türkei erlebst\, die zusammen ein unschlagbares Duo sind:\n\n\nIstanbul – energiegeladen\, geschichtsträchtig\, laut\, bunt\, köstlich. Eine Stadt\, die dir sofort unter die Haut geht. Moscheen\, Märkte\, versteckte Viertel… und so viel weibliche Lebensfreude.\nKappadokien – mystisch\, ruhig\, spektakulär. Felsformationen wie aus einem Märchenbuch\, Täler in Rosa und Rot\, unglaubliche unterirdische Städte und ein Sternenhimmel\, der dich sprachlos macht.\n\nDiese Kombination ist einzigartig: erst Großstadt-Vibes\, dann Naturwunder. Erst Streetfood und Hamam\, dann Felsen\, Weite und Stille. Eine Reise für Kopf\, Herz und Seele. \nUnd das Beste? Du reist nicht allein – aber frei. Wir sind eine kleine Frauengruppe\, wertschätzend\, entspannt\, neugierig – und du musst dich um nichts kümmern. \nDas detaillierte Programm findest du auf meiner Website: www-ladies-who-travel.com
URL:https://www.femvents.at/event/gefuehrte-frauenreise-istanbul-kappadokien/
CATEGORIES:Frauenkreis,Meetup,Österreichweit,Retreat
ATTACH;FMTTYPE=image/jpeg:https://www.femvents.at/wp-content/uploads/2026/02/Ladies-who-travel_Tuerkei_004-low.jpg
ORGANIZER;CN="Ladies Who Travel - Sabrina Weber":MAILTO:hello@ladies-who-travel.com
END:VEVENT
BEGIN:VEVENT
DTSTART;TZID=Europe/Vienna:20260425T090000
DTEND;TZID=Europe/Vienna:20260426T170000
DTSTAMP:20260420T003816
CREATED:20260301T164702Z
LAST-MODIFIED:20260303T182238Z
UID:10000864-1777107600-1777222800@www.femvents.at
SUMMARY:DIE-BOTSCHAFT-DEINER-HÄNDE
DESCRIPTION:Die Hände repräsentieren deine individuelle innere Landkarte\, die dich zu dir selbst führen kann. \nDu lernst in diesem Workshop einen bedeutsamen Teil deiner Innenwelt kennen. Mit dem Bewusstwerden dieser Seite von dir steht dir die Möglichkeit offen\, deine Stärken und Bedürfnisse weiter zu entwickeln und in ein Gleichgewicht zu bringen. \nDer intuitive Ausdruck der Seelenthemen mit Farbe und Pinsel unterstreicht deine Erkenntnisse und dient als liebevoller Reminder. \nLade deine innere Landkarte liebevoll ins tägliche Leben ein… \nVoranmeldung bis 17.04.2026
URL:https://www.femvents.at/event/die-botschaft-deiner-haende/
LOCATION:Ruhedomizil Meschach 4\, Meschach 4\, Götzis\, Vorarlberg\, 6840\, Austria
CATEGORIES:Vorarlberg,Workshop
ATTACH;FMTTYPE=image/jpeg:https://www.femvents.at/wp-content/uploads/2026/03/Flyer-Vorderseite-.jpg
ORGANIZER;CN="Nina Nachbaur I Yvonne Schmid I Anke Meier-Thiem":MAILTO:info@lebensart-handanalytik.ch
GEO:47.3316604;9.6712538
X-APPLE-STRUCTURED-LOCATION;VALUE=URI;X-ADDRESS=Ruhedomizil Meschach 4 Meschach 4 Götzis Vorarlberg 6840 Austria;X-APPLE-RADIUS=500;X-TITLE=Meschach 4:geo:9.6712538,47.3316604
END:VEVENT
BEGIN:VEVENT
DTSTART;TZID=Europe/Vienna:20260426T110000
DTEND;TZID=Europe/Vienna:20260426T140000
DTSTAMP:20260420T003816
CREATED:20260407T062207Z
LAST-MODIFIED:20260419T100947Z
UID:10001012-1777201200-1777212000@www.femvents.at
SUMMARY:Bgld./Purbach LLL-Family & Friends Treff mit LIVE MUSIK „Sandhouse“ mit LLL-Botschafterin Veronika Sederl
DESCRIPTION:🌼 Lust\, einfach mal rauszukommen und neue Menschen kennenlernen\, dann ist der Family & Friends Treff genau das richtige für dich. \n🌸 Lachen\, plaudern\, durchatmen & neue Energie tanken? \nEin Ort für echte Begegnungen\, ehrliche Gespräche und diese kleinen Herzensmomente\, die so unglaublich gut tun 💫\n🌷 Egal ob du ganz neu bist oder schon öfter dabei warst –\n🧁 komm genauso\, wie du bist!\nHier ist Platz für dich\, dein Lächeln und alles\, was dich gerade bewegt 🫶\n💃 Wir freuen uns riesig auf dich! 💕 \nBitte Platzreservierung 🤗\ninfo@vereinlebenliebenlachen.at
URL:https://www.femvents.at/event/bgld-purbach-lll-family-friends-treff-mit-live-musik-sandhouse-mit-lll-botschafterin-veronika-sederl-4/
LOCATION:die Sandhofer Heurigen-Restaurant  Birgit Müller-Sandhofer\, Am Kellerplatz 47K\, Purbach\, 7083\, Austria
CATEGORIES:Burgenland,LLL Family & Friends Treff
ATTACH;FMTTYPE=image/png:https://www.femvents.at/wp-content/uploads/2026/03/Sandhofer-2026-lp1Tif.png
ORGANIZER;CN="LEBEN%2C LIEBEN%2C LACHEN &#8211%3B endlich wei%C3%9F ich wie!":MAILTO:info@vereinlebenliebenlachen.at
GEO:47.9161318;16.6925972
X-APPLE-STRUCTURED-LOCATION;VALUE=URI;X-ADDRESS=die Sandhofer Heurigen-Restaurant  Birgit Müller-Sandhofer Am Kellerplatz 47K Purbach 7083 Austria;X-APPLE-RADIUS=500;X-TITLE=Am Kellerplatz 47K:geo:16.6925972,47.9161318
END:VEVENT
BEGIN:VEVENT
DTSTART;TZID=Europe/Vienna:20260426T130000
DTEND;TZID=Europe/Vienna:20260426T150000
DTSTAMP:20260420T003816
CREATED:20260224T150813Z
LAST-MODIFIED:20260224T150813Z
UID:10000846-1777208400-1777215600@www.femvents.at
SUMMARY:Let Art stop Time
DESCRIPTION:Fühlst du dich manchmal\, als würde alles viel zu schnell gehen\, deine To-do-Liste dich überfordern und du den Moment gar nicht mehr richtig genießen kannst? Was wäre\, wenn Kunst dir zeigen könnte\, wie man die Zeit für einen Augenblick anhält? Stell dir einen Raum vor\, in dem du aus dem Alltagsstress aussteigen\, loslassen und mit Freude wachsen kannst – in einem sicheren und unterstützenden Umfeld. Ein Moment nur für dich\, um Selbstfürsorge zu praktizieren\, inspirierende Menschen zu treffen und ein ehrliches\, ganz eigenes Kunstwerk zu erschaffen. \nWir beginnen mit sanften Dehnübungen und einer Meditation\, um mit unserem Körper in Verbindung zu kommen und unsere Empfindungen wahrzunehmen. Durch achtsame Bewegung und bewusstes Atmen lenken wir unsere Aufmerksamkeit wieder nach innen. Anschließend begleite ich dich durch eine kreative Übung\, in der du dein Werk gestaltest und deine Beziehung zur Zeit erforschen kannst. Dabei liegt der Fokus auf der Freude am Prozess – frei von Bewertung und ohne den Druck\, ein „schönes“ Ergebnis erzielen zu müssen. Wenn du dir erlaubst zu spielen\, deiner Fantasie zu folgen und auf deine innere Stimme zu hören\, entsteht Raum für eine befreiende und lebendige Erfahrung. \nDieser Workshop ist eine Einladung\, zu entschleunigen\, wieder bei dir selbst anzukommen und dich in einer unterstützenden Gemeinschaft auszutauschen. Du investierst nicht nur in dich selbst\, sondern erlaubst dir auch\, Raum einzunehmen und deine Einzigartigkeit anzuerkennen. Du gehst nach Hause auch mit Tipps\, wie du im Alltag „die Zeit stoppen“ kannst\, dein eigenes Kunstwerk sowie liebevoll von mir gestaltete Geschenke. \nDu brauchst weder körperliche noch künstlerische Vorerfahrung – nur ein offenes Herz und die Bereitschaft\, in deinem eigenen Rhythmus zu entspannen und zu spielen. Bitte trage bequeme Kleidung. Yogamatten und Malmaterialien werden zur Verfügung gestellt.
URL:https://www.femvents.at/event/let-art-stop-time/
LOCATION:The Soul Space\, Alexander-Girardi-Straße 39\, Salzburg\, 5020
CATEGORIES:Malworkshop,Salzburg,Workshop
ATTACH;FMTTYPE=image/jpeg:https://www.femvents.at/wp-content/uploads/2026/02/IMG_8344.jpeg
GEO:47.8014154;13.0448441
X-APPLE-STRUCTURED-LOCATION;VALUE=URI;X-ADDRESS=The Soul Space Alexander-Girardi-Straße 39 Salzburg 5020;X-APPLE-RADIUS=500;X-TITLE=Alexander-Girardi-Straße 39:geo:13.0448441,47.8014154
END:VEVENT
BEGIN:VEVENT
DTSTART;TZID=Europe/Vienna:20260426T140000
DTEND;TZID=Europe/Vienna:20260426T144000
DTSTAMP:20260420T003816
CREATED:20260407T062207Z
LAST-MODIFIED:20260419T100947Z
UID:10001013-1777212000-1777214400@www.femvents.at
SUMMARY:Bgld./Wimpassing  LLL- Frauen Schnatterschritte  *LEICHT* mit LLL-Botschafterin Sabine Willmann
DESCRIPTION:Die „LLL-Schnatterschritte LEICHT“\, gedacht für diejenigen unter euch\, die sich gerne bewegen möchten\, aber (noch) keine langen Spaziergänge machen können – sei es nach einer Krankheit\, nach einer Operation oder weil man sich alleine einfach nicht so traut. \nWir gehen gemeinsam ganz entspannt und langsam eine kleine Runde um den See (1\,5 km) „schnattern“ ein bisschen\, genießen \ndie Natur und die frische Luft.  \nSo können wir uns gegenseitig stärken\, tanken Energie und leisten so einen wertvollen Beitrag zu unserer Genesung und Gesundheit!  \nSei auch Du dabei! \nNimm‘ gerne Deine Walkingstöcke mit!  \nDauer: 30 – max. 40 Minuten  \nAnmeldung unter\nInfo@vereinlebenliebenlachen.at \noder\neinfach spontan vorbeikommen.  \nBitte komm‘ pünktlich – wir warten 5 Minuten\, dann geht’s los!  \nBei jedem Wetter – außer Starkregen oder Gewitter!
URL:https://www.femvents.at/event/bgld-wimpassing-lll-frauen-schnatterschritte-leicht-mit-lll-botschafterin-sabine-willmann-3/
LOCATION:Treffpunkt: Am unteren Parkplatz Nr. 2 des Ziegelwerk Gasthaus\, Ziegelofengasse 28\, Wimpassing\, Burgenland
CATEGORIES:Burgenland,LLL
ATTACH;FMTTYPE=image/jpeg:https://www.femvents.at/wp-content/uploads/2026/04/Schnatterschritte-Wimpassing-Logo-qUA8XO.jpg
ORGANIZER;CN="LEBEN%2C LIEBEN%2C LACHEN &#8211%3B endlich wei%C3%9F ich wie!":MAILTO:info@vereinlebenliebenlachen.at
GEO:47.9150551;16.4304338
X-APPLE-STRUCTURED-LOCATION;VALUE=URI;X-ADDRESS=Treffpunkt: Am unteren Parkplatz Nr. 2 des Ziegelwerk Gasthaus Ziegelofengasse 28 Wimpassing Burgenland;X-APPLE-RADIUS=500;X-TITLE=Ziegelofengasse 28:geo:16.4304338,47.9150551
END:VEVENT
BEGIN:VEVENT
DTSTART;TZID=Europe/Vienna:20260426T150000
DTEND;TZID=Europe/Vienna:20260426T163000
DTSTAMP:20260420T003816
CREATED:20260407T062207Z
LAST-MODIFIED:20260419T100947Z
UID:10001014-1777215600-1777221000@www.femvents.at
SUMMARY:Bgld./Wimpassing  LLL- Frauen Schnatterschritte mit LLL-Botschafterin Sabine Willmann
DESCRIPTION:Bei unseren LLL-Schnatterschritten verbinden wir Bewegung mit inspirierenden Gesprächen. \nBei unserem Spaziergang\, gerne mit Walkingstöcke oder Walkingringe\, tauschen wir uns über verschiedenste Themen aus\, genießen die Natur und tanken frische Energie voller LEBEN\, LIEBEN\,LACHEN \nDauer: 60 – max. 90 Minuten \nSei auch Du dabei! \nAnmeldung bitte unter\ninfo@vereinlebenliebenlachen.at \noder \neinfach spontan vorbeikommen!  \nBitte komm‘ pünktlich\, wir warten 5 Minuten\, dann geht’s los!  \nBei jedem Wetter – außer Starkregen oder Gewitter! 
URL:https://www.femvents.at/event/bgld-wimpassing-lll-frauen-schnatterschritte-mit-lll-botschafterin-sabine-willmann-3/
LOCATION:Treffpunkt: Am unteren Parkplatz Nr. 2 des Ziegelwerk Gasthaus\, Ziegelofengasse 28\, Wimpassing\, Burgenland
CATEGORIES:Burgenland,LLL
ATTACH;FMTTYPE=image/jpeg:https://www.femvents.at/wp-content/uploads/2026/04/Schnatterschritte-Wimpassing-Logo-qUA8XO.jpg
ORGANIZER;CN="LEBEN%2C LIEBEN%2C LACHEN &#8211%3B endlich wei%C3%9F ich wie!":MAILTO:info@vereinlebenliebenlachen.at
GEO:47.9150551;16.4304338
X-APPLE-STRUCTURED-LOCATION;VALUE=URI;X-ADDRESS=Treffpunkt: Am unteren Parkplatz Nr. 2 des Ziegelwerk Gasthaus Ziegelofengasse 28 Wimpassing Burgenland;X-APPLE-RADIUS=500;X-TITLE=Ziegelofengasse 28:geo:16.4304338,47.9150551
END:VEVENT
BEGIN:VEVENT
DTSTART;TZID=Europe/Vienna:20260426T200000
DTEND;TZID=Europe/Vienna:20260426T213000
DTSTAMP:20260420T003816
CREATED:20260414T064520Z
LAST-MODIFIED:20260414T064520Z
UID:10001075-1777233600-1777239000@www.femvents.at
SUMMARY:"Sinnvoll Leben" - Dein Weg zur Klarheit und Umsetzung
DESCRIPTION:Der Mentoring begleitet dich dabei klare Entscheidungen darüber zu treffen wofür du deine Zeit\, deine Energie und deine Fähigkeiten einsetzen möchtest\, anstatt weiter eine Route zu verfolgen\, die nie wirklich deine war. \nDabei wirst du durch strukturierte Inhalte und gezielte Live-Termine begleitet\, die dir Orientierung geben und dich genau an den Punkten unterstützen\, an denen viele sonst aussteigen\, oder wieder ins Alte zurückfallen. \nWenn du spürst\, dass du nicht länger nur funktionieren möchtest\, sondern dein Leben bewusster gestalten willst\, dann ist das kein spontaner Gedanke\, sondern ein wichtiger Hinweis. Ein Hinweis darauf\, dass es Zeit ist\, genauer hinzuschauen und deinen eigenen Weg zu finden. \nDu musst nicht alles ändern\, oder wissen\, aber du darfst im kleinem anfangen die Richtung nach zu justieren. \n12 Wochen Begleitung\, mit 4 Zoom Terminen in der Gruppe (max. 12 Frauen*).
URL:https://www.femvents.at/event/sinnvoll-leben-dein-weg-zur-klarheit-und-umsetzung/
LOCATION:Online-Event\, Austria
CATEGORIES:Kurs,Wien
ATTACH;FMTTYPE=image/png:https://www.femvents.at/wp-content/uploads/2026/04/FELICITY-Purpose-Praesentation.png
ORGANIZER;CN="find YOUR felicity by Nora Gabriel":MAILTO:info@find-your-felicity.com
GEO:47.516231;14.550072
END:VEVENT
END:VCALENDAR