BEGIN:VCALENDAR
VERSION:2.0
PRODID:-//femvents.at - ECPv6.15.18//NONSGML v1.0//EN
CALSCALE:GREGORIAN
METHOD:PUBLISH
X-ORIGINAL-URL:https://www.femvents.at
X-WR-CALDESC:Veranstaltungen für femvents.at
REFRESH-INTERVAL;VALUE=DURATION:PT1H
X-Robots-Tag:noindex
X-PUBLISHED-TTL:PT1H
BEGIN:VTIMEZONE
TZID:Europe/Vienna
BEGIN:DAYLIGHT
TZOFFSETFROM:+0100
TZOFFSETTO:+0200
TZNAME:CEST
DTSTART:20250330T010000
END:DAYLIGHT
BEGIN:STANDARD
TZOFFSETFROM:+0200
TZOFFSETTO:+0100
TZNAME:CET
DTSTART:20251026T010000
END:STANDARD
BEGIN:DAYLIGHT
TZOFFSETFROM:+0100
TZOFFSETTO:+0200
TZNAME:CEST
DTSTART:20260329T010000
END:DAYLIGHT
BEGIN:STANDARD
TZOFFSETFROM:+0200
TZOFFSETTO:+0100
TZNAME:CET
DTSTART:20261025T010000
END:STANDARD
BEGIN:DAYLIGHT
TZOFFSETFROM:+0100
TZOFFSETTO:+0200
TZNAME:CEST
DTSTART:20270328T010000
END:DAYLIGHT
BEGIN:STANDARD
TZOFFSETFROM:+0200
TZOFFSETTO:+0100
TZNAME:CET
DTSTART:20271031T010000
END:STANDARD
END:VTIMEZONE
BEGIN:VEVENT
DTSTART;VALUE=DATE:20260430
DTEND;VALUE=DATE:20260504
DTSTAMP:20260419T224442
CREATED:20260323T085530Z
LAST-MODIFIED:20260401T094831Z
UID:10000951-1777507200-1777852799@www.femvents.at
SUMMARY:Verbinde dich mit deiner weiblichen Kraft
DESCRIPTION:Ein Frauen Retreat (30.4.-3.5.26) in den Bergen\, um die weiblichen Kräfte zu nähren und kreativ zu werden.❣️ \nhttps://www.carina-hladik.com/angebot/retreat/verbinde-dich-mit-deiner-weiblichen-kraft \nEs ist das Herzensprojekt von mir – Carina Hladik:\nDas Erste Frauen-Retreat zur Walpurgisnacht am Hochälpele. Es ist ein KRAFTPLATZ für alle weiblich gelesenen Mitmenschen\, die sich die Zeit nehmen in die Berge und magischen Wälder Vorarelbergs einzutauchen.\nDieser Ort (HOCHÄLPELE) beschenkt einen mit Ruhe\, Vertrauen und Kraft.\nEs gibt es ein besonderes Ritual (13.Munay Ki)\, das uns hilft\, die weibliche Linie in unserer Familie – in die Vergangenheit und in die Zukunft – zu heilen bzw. uns mit dem Hier und Jetzt versöhnt.\nEs sind alle weiblichen Wesen jeden Alters willkommen.\nEs freut mich\, wenn du dabei bist und sogar an eine Schwester/Freundin/ Mutter mitbringst. \nAlle Infos findest du auf der Homepage.\nBitte melde dich (aelpele@protonmail.com) wenn du noch Fragen dazu haben solltest\, die dir Helfen eine Entscheidung für das Retreat zu treffen 😃.\nAlles Liebe und Herzliche Grüßle\nCarina
URL:https://www.femvents.at/event/verbinde-dich-mit-deiner-weiblichen-kraft/
LOCATION:HOCHÄLPELE\, HOCHÄLPELE\, DORNBIRN - Bödele\, Vorarlberg\, 6850\, Austria
CATEGORIES:Malworkshop,Retreat,Vorarlberg
ORGANIZER;CN="Carina Hladik":MAILTO:carinahladik007@gmail.com
GEO:47.3997222;9.8166667
X-APPLE-STRUCTURED-LOCATION;VALUE=URI;X-ADDRESS=HOCHÄLPELE HOCHÄLPELE DORNBIRN - Bödele Vorarlberg 6850 Austria;X-APPLE-RADIUS=500;X-TITLE=HOCHÄLPELE:geo:9.8166667,47.3997222
END:VEVENT
BEGIN:VEVENT
DTSTART;VALUE=DATE:20260430
DTEND;VALUE=DATE:20260504
DTSTAMP:20260419T224442
CREATED:20260325T150516Z
LAST-MODIFIED:20260401T094852Z
UID:10000966-1777507200-1777852799@www.femvents.at
SUMMARY:FrühlingsWeise_Naturauszeit für Frauen
DESCRIPTION:In diesen Tagen möchten wir uns Raum und Zeit schenken\, um uns vertrauensvoll in die „Arme von Mutter Erde“ fallen zu lassen. \nNicht um uns der Welt zu entziehen\, sondern um der Welt zu begegnen! \nWir brauchen eine kreativ-schöpferischen und naturspirituellen Praxis\, die uns wieder mit dem zyklischen Leben verbindet – eingebettet in den größeren Zusammenhang des Seins und im Kreis von Gleichgesinnten! \nEs geht um Vertrauen und Hingabe an das üppige Leben\, um die Vermehrung von Lebendigkeit! Es geht um die Kraft unserer Stimme und den sinnlichen Ausdruck unseres verkörperten Seins. \nIm zyklischen Rad des Jahres lauschen wir den Qualitäten dieser besonderen Zeit. Wir werden sinnlich und erfahrend erforschen\, was Verbundenheit\, Verantwortlichkeit\, Sinnlichkeit\, Wonne\, Erblühen und Selbstfürsorge wirklich bedeuten. \nIn dieser Naturauszeit erwarten euch inspirierende Impulse: \n\nKreatives Gestalten\nSchwellengänge\nBestärkende Sharings im Kreis\nKraftvolle Lieder und Rituale\n\nWir wollen in Verbindung gehen – mit der natürlichen Welt und mit uns selbst. \nUnser Miteinander wird eine wohltuende Mischung aus Solozeiten\, um mit uns selbst ins Gespräch zu kommen\, und gemeinsamen Zeiten im Kreis\, in denen wir ein tragendes Netz weben\, das uns hält und stärkt. \nMit viel Raum für schöpferischen Ausdruck – in Bewegung\, Stimme und kreativem Tun mit unseren Händen – wollen wir die Themen dieser Zeit aufgreifen und an unsere ursprüngliche\, wilde Kraft andocken.
URL:https://www.femvents.at/event/fruehlingsweise_naturauszeit-fuer-frauen/
LOCATION:‚Schwarzenbach an der Pielach\, Schwarzenbach an der Pielach\, Schwarzenbach an der Pielch\, Niederösterreich\, 3212\, Austria
CATEGORIES:Frauenkreis,Niederösterreich,Retreat
ATTACH;FMTTYPE=image/jpeg:https://www.femvents.at/wp-content/uploads/2026/03/1.jpg
ORGANIZER;CN="Lilian FRTIZ":MAILTO:office@lilianfritz.me
GEO:47.9464222;15.3830235
X-APPLE-STRUCTURED-LOCATION;VALUE=URI;X-ADDRESS=‚Schwarzenbach an der Pielach Schwarzenbach an der Pielach Schwarzenbach an der Pielch Niederösterreich 3212 Austria;X-APPLE-RADIUS=500;X-TITLE=Schwarzenbach an der Pielach:geo:15.3830235,47.9464222
END:VEVENT
BEGIN:VEVENT
DTSTART;TZID=Europe/Vienna:20260501T020000
DTEND;TZID=Europe/Vienna:20260506T040000
DTSTAMP:20260419T224442
CREATED:20260228T121551Z
LAST-MODIFIED:20260228T121551Z
UID:10000856-1777600800-1778040000@www.femvents.at
SUMMARY:Retreat "Yoga & Klangreise"
DESCRIPTION:Yoga & Klang Retreat am Weissensee\n30. April – 3. Mai 2026 | Donnerstag bis Sonntag\nmit Daniela Suko & Marianne Kolarik \nVier Tage Auszeit für Körper\, Geist und Seele im 4-Sterne-Superior Strandhotel am Weissensee. \nErlebe eine harmonische Mischung aus aktivierendem Morgen-Yoga\, meditativem YinYoga mit Live-Klängen\, Pranayama\, Mantrasingen im Wald und berührenden Klangreisen mit Trommel & Handpan. Genieße Waldbaden\, Saunamomente und kulinarische Verwöhnmomente mit vegetarisch-veganer Halbpension. \nDas Retreat bietet Raum für Ruhe\, Rückzug und Begegnung – eingebettet in die einzigartige Naturkulisse des glasklaren Weissensees. \nTeilnehmerinnenanzahl: 6–12 Personen | Anfängerinnen herzlich willkommen! \nPreise: \n\nRetreat-Beitrag: € 260 pro Person\nÜbernachtung mit Halbpension im Strandhotel Weissensee: ab € 145 pro Nacht im Doppelzimmer (Einzelzimmerzuschlag € 30)\nzzgl. Ortstaxe\n\nAnmeldung & Information:\nMarianne Kolarik\nmail@yogaimprater.at \nWir freuen uns auf dich!
URL:https://www.femvents.at/event/retreat-yoga-klangreise/
LOCATION:Strandhotel Weissensee\, Neusach 18\, Weissensee\, Kärnten\, 9762\, Austria
CATEGORIES:Kärnten,Retreat
ATTACH;FMTTYPE=image/jpeg:https://www.femvents.at/wp-content/uploads/2026/02/IMG_8319-2-scaled.jpg
ORGANIZER;CN="Verein Aufleben - Projekt Yoga im Prater":MAILTO:mail@yogaimprater.at
GEO:46.7168392;13.3060805
X-APPLE-STRUCTURED-LOCATION;VALUE=URI;X-ADDRESS=Strandhotel Weissensee Neusach 18 Weissensee Kärnten 9762 Austria;X-APPLE-RADIUS=500;X-TITLE=Neusach 18:geo:13.3060805,46.7168392
END:VEVENT
BEGIN:VEVENT
DTSTART;TZID=Europe/Vienna:20260501T160000
DTEND;TZID=Europe/Vienna:20260503T163000
DTSTAMP:20260419T224442
CREATED:20260407T091701Z
LAST-MODIFIED:20260407T091701Z
UID:10001054-1777651200-1777825800@www.femvents.at
SUMMARY:Female Leadership & Balance Days
DESCRIPTION:Raus aus dem Alltag\, rein in deine volle Kraft\n\n\n\n\nDeine Auszeit für mehr WOW in Führung & Leben\n\n\n\n\nDieses Format ist für Frauen\, die viel bewegen – und dabei bei sich bleiben wollen. Es richtet sich an Menschen in Führungspositionen\, die ihre Leadership-Skills reflektieren\, erweitern und in Einklang mit ihrer Persönlichkeit bringen wollen. \nDu führst. Du gibst. Du machst möglich. Aber manchmal spürst du: Da geht mehr. Mehr Leichtigkeit\, mehr Klarheit\, mehr du selbst. \nDie FEMALE LEADERSHIP & BALANCE DAYS sind dein Reset für Kopf\, Herz und Körper: \nTage\, die wirken. Und dein Leadership neu definieren. Mitten in der schönen Wachau\, fernab vom Lärm – aber ganz bei dir. \nMit Zeit für dich\, bewussten Pausen\, SPA-Momenten\, Reflexionsräumen und kleinen Ritualen\, die dich wieder bei dir ankommen lassen. \nEin Wochenende voller Energie\, Reflexion\, Tiefe und echter Verbindung. \nKeine Rollen. Keine To-dos. Nur du. Und dein nächstes Level.
URL:https://www.femvents.at/event/female-leadership-balance-days/
LOCATION:Maria Taferl\, Wachau\, Maria Taferl 24\, Maria Taferl\, Oberösterreich\, 3672\, Austria
CATEGORIES:Retreat
ATTACH;FMTTYPE=image/jpeg:https://www.femvents.at/wp-content/uploads/2026/04/schachner_hotel_maria-taferl.jpg
ORGANIZER;CN="Female Leadership &amp%3B Balance Days - Juliana K%C3%A4fer &amp%3B Sandra Manich":MAILTO:j_kaefer@gmx.at
GEO:48.2250451;15.1577317
X-APPLE-STRUCTURED-LOCATION;VALUE=URI;X-ADDRESS=Maria Taferl Wachau Maria Taferl 24 Maria Taferl Oberösterreich 3672 Austria;X-APPLE-RADIUS=500;X-TITLE=Maria Taferl 24:geo:15.1577317,48.2250451
END:VEVENT
BEGIN:VEVENT
DTSTART;TZID=Europe/Vienna:20260502T090000
DTEND;TZID=Europe/Vienna:20260502T110000
DTSTAMP:20260419T224442
CREATED:20260415T091454Z
LAST-MODIFIED:20260419T100948Z
UID:10001109-1777712400-1777719600@www.femvents.at
SUMMARY:NÖ/Mistelbach  LLL – LEBENSFREUDE Frauentreff mit LLL-Botschafterin Helga Gumpinger & Roswitha Goldschmid
DESCRIPTION:🌸✨ Hallo ihr wundervollen Frauen ✨🌸 \n🌼 Lust\, einfach mal rauszukommen?\n🌸 Lachen\, plaudern\, durchatmen & neue Energie tanken?\nDann komm zu unserem LLL-LEBENSFREUDE TREFF 💚🧡🩷 \nEin Ort für echte Begegnungen\, ehrliche Gespräche und diese kleinen Herzensmomente\, die so unglaublich gut tun 💫\n🌷 Egal ob du ganz neu bist oder schon öfter dabei warst –\n🧁 komm genauso\, wie du bist!\nHier ist Platz für dich\, dein Lächeln und alles\, was dich gerade bewegt 🫶\n💃 Wir freuen uns riesig auf dich! 💕 \nBitte Platzreservierung 🤗\ninfo@vereinlebenliebenlachen.at
URL:https://www.femvents.at/event/noe-mistelbach-lll-lebensfreude-frauentreff-mit-lll-botschafterin-helga-gumpinger-roswitha-goldschmid/
LOCATION:Cafe Harlekin\, Bahnstrasse 5\, Mistelbach\, Niederösterreich\, 2130
CATEGORIES:Burgenland,LLL
ATTACH;FMTTYPE=image/jpeg:https://www.femvents.at/wp-content/uploads/2026/04/Mistelbach-501Oo2.jpg
ORGANIZER;CN="LEBEN%2C LIEBEN%2C LACHEN &#8211%3B endlich wei%C3%9F ich wie!":MAILTO:info@vereinlebenliebenlachen.at
GEO:48.5671538;16.5717833
X-APPLE-STRUCTURED-LOCATION;VALUE=URI;X-ADDRESS=Cafe Harlekin Bahnstrasse 5 Mistelbach Niederösterreich 2130;X-APPLE-RADIUS=500;X-TITLE=Bahnstrasse 5:geo:16.5717833,48.5671538
END:VEVENT
BEGIN:VEVENT
DTSTART;TZID=Europe/Vienna:20260502T093000
DTEND;TZID=Europe/Vienna:20260502T120000
DTSTAMP:20260419T224442
CREATED:20260413T083953Z
LAST-MODIFIED:20260413T083953Z
UID:10001068-1777714200-1777723200@www.femvents.at
SUMMARY:Golden Circle Damensalon 50+
DESCRIPTION:Hallo liebe Lady❣️ \nNächster Damensalon am 2. Mai 2026 von 9:45 Uhr bis 12:00 Uhr bei mir in der Gemeinschaftspraxis in 1180 Wien  \nEs ist kein Kaffeetratsch es geht tiefer❣️ \nWir freuen uns  auf dich  \nGlg Silvia Hummel 🐝& Lydia
URL:https://www.femvents.at/event/golden-circle-damensalon-50/
LOCATION:Gemeinschaftspraxis Ladykompass\, Gersthoferstrasse 109/12\, Wien\, Wien\, 1180\, Austria
CATEGORIES:Frauenkreis,Wien
ATTACH;FMTTYPE=image/jpeg:https://www.femvents.at/wp-content/uploads/2026/04/89a3f619-02b2-4f29-929f-051a12a45140.jpeg
ORGANIZER;CN="Silvia Hummel":MAILTO:Info@ladykompass.at
GEO:48.2369512;16.3231968
X-APPLE-STRUCTURED-LOCATION;VALUE=URI;X-ADDRESS=Gemeinschaftspraxis Ladykompass Gersthoferstrasse 109/12 Wien Wien 1180 Austria;X-APPLE-RADIUS=500;X-TITLE=Gersthoferstrasse 109/12:geo:16.3231968,48.2369512
END:VEVENT
BEGIN:VEVENT
DTSTART;TZID=Europe/Vienna:20260502T100000
DTEND;TZID=Europe/Vienna:20260502T104500
DTSTAMP:20260419T224442
CREATED:20260407T062209Z
LAST-MODIFIED:20260419T100948Z
UID:10001017-1777716000-1777718700@www.femvents.at
SUMMARY:NÖ/ Baden  *NEU* LLL- Frauen Nordic Walking mit LLL-Botschafterin Zehra Dzanic-Dorninger
DESCRIPTION:Nordic Walking in deinem Rhythmus mit der Natur \nWir wärmen uns kurz mit leichten Dehnungs- und Koordinationsübungen auf und \ngehen danach ca. 45 Minuten eine Runde durch den Kurpark die für alle passt.\nEs sind keine Vorkenntnisse notwendig.\nNordic Walking Sticks bitte mitnehmen.\nAlle Übungen und Nordic Walking Tempo wird individuell angepasst.  \nSo können wir uns gegenseitig stärken\, tanken Energie und leisten so einen wertvollen Beitrag zu unserer Genesung und Gesundheit!  \nBitte komm‘ pünktlich – wir warten 5 Minuten\, dann geht’s los!  \nBei jedem Wetter – außer starkem Regen oder Gewitter!\nSei auch Du dabei!  \nAnmeldung unter\nInfo@vereinlebenliebenlachen.at \noder\neinfach spontan vorbeikommen.  \nDer Kurpark kann ganzjährig bei freiem Eintritt besucht werden. \n(keine Öffnungszeiten) \n 
URL:https://www.femvents.at/event/noe-baden-neu-lll-frauen-nordic-walking-mit-lll-botschafterin-zehra-dzanic-dorninger-3/
LOCATION:Eingang Kurpark\, Kaiser Franz-Ring\, Baden\, 2500
CATEGORIES:Burgenland,LLL
ATTACH;FMTTYPE=image/jpeg:https://www.femvents.at/wp-content/uploads/2026/04/Zehra-xJEES4.jpg
ORGANIZER;CN="LEBEN%2C LIEBEN%2C LACHEN &#8211%3B endlich wei%C3%9F ich wie!":MAILTO:info@vereinlebenliebenlachen.at
GEO:48.0102379;16.237873
X-APPLE-STRUCTURED-LOCATION;VALUE=URI;X-ADDRESS=Eingang Kurpark Kaiser Franz-Ring Baden 2500;X-APPLE-RADIUS=500;X-TITLE=Kaiser Franz-Ring:geo:16.237873,48.0102379
END:VEVENT
BEGIN:VEVENT
DTSTART;TZID=Europe/Vienna:20260502T100000
DTEND;TZID=Europe/Vienna:20260502T180000
DTSTAMP:20260419T224442
CREATED:20260209T100111Z
LAST-MODIFIED:20260209T100111Z
UID:10000784-1777716000-1777744800@www.femvents.at
SUMMARY:IM KREIS DER WEIBLICHEN KRÄFTE
DESCRIPTION:Die WeiseNorden – Klarheit\, Erkenntnis\, Intuition\nDieses Seminar öffnet einen geschützten Raum\, in dem du deine Wahrnehmung klärst und deine innere Führung schärfst. Du arbeitest mit Stille\, Atem\, Klang\, Bewegung und Ritualen\, um zu unterscheiden\, was wesentlich ist – und was dich nur ablenkt. \nWas dich erwartet– Zentrierung & Erdung als Basis für klare Entscheidungen– Rituale für Erkenntnis\, Loslassen und Neu-Ausrichtung– Körperarbeit und Reflexionsräume: Muster erkennen\, Wahrheit benennen– Exklusiver Kleingruppenrahmen: ruhig\, präzise\, ohne Druck \nWenn dich das ruft: Reserviere jetzt deinen Platz.Kontaktformular auf www.source-praxis.at ausfüllen → bei „Worum es geht?“ das Seminar auswählen → Bestätigung per E-Mail erhalten.Telefonisch: +43 677 644 20744
URL:https://www.femvents.at/event/im-kreis-der-weiblichen-kraefte-3/
LOCATION:Weichstetten\, Weichstetten\, Austria
CATEGORIES:Frauenkreis,Kurs,Meditation,Oberösterreich,Retreat,Soundhealing,Workshop
ATTACH;FMTTYPE=image/jpeg:https://www.femvents.at/wp-content/uploads/2026/02/erste-seite_archtypen_seminartermine2026-2.jpg
GEO:48.12146;14.32131
END:VEVENT
BEGIN:VEVENT
DTSTART;TZID=Europe/Vienna:20260502T170000
DTEND;TZID=Europe/Vienna:20260502T200000
DTSTAMP:20260419T224442
CREATED:20260413T165544Z
LAST-MODIFIED:20260413T165544Z
UID:10001074-1777741200-1777752000@www.femvents.at
SUMMARY:Blütenzauber Kreativworkshop
DESCRIPTION:Inmitten der Fülle der Natur lade ich dich ein\, für einen Moment innezuhalten. 🌱 \nIn diesem Workshop arbeiten wir mit von mir liebevoll per Hand gesammelten und achtsam getrockneten Blüten. Jede einzelne trägt eine besondere Geschichte und ihre eigene Energie in sich und wird zur Inspiration für deinen kreativen Prozess.🌸🌹 \nRund um die Zeit von Beltane verbinden wir uns bewusst mit den Kräften der Natur – mit dem Lebendigen\, dem Wachsenden\, dem Verbindenden. Es ist eine Einladung\, die weiblichen und männlichen Energien in dir wahrzunehmen und in Einklang zu bringen. Spüre dich selbst dabei wieder ein Stück mehr und komme in Kontakt mit deiner dir innewohnenden Schöpferkraft.✨ \nEin Raum für dich. Für dein Sein. Für deine Verbindung – zur Natur und zu dir selbst. 🙏🏻🌸🌱 \nIch freu mich\, wenn du dabei bist. 🙏🏻🪷
URL:https://www.femvents.at/event/bluetenzauber-kreativworkshop/
LOCATION:Salve! Zentrum für psychosoziale Gesundheit\, Lehnergasse 13\, 1230 Wien\, Wien\, 1230\, Austria
CATEGORIES:Wien,Workshop
ATTACH;FMTTYPE=image/jpeg:https://www.femvents.at/wp-content/uploads/2026/04/IMG_1659.jpeg
GEO:48.1390872;16.2830005
X-APPLE-STRUCTURED-LOCATION;VALUE=URI;X-ADDRESS=Salve! Zentrum für psychosoziale Gesundheit Lehnergasse 13 1230 Wien Wien 1230 Austria;X-APPLE-RADIUS=500;X-TITLE=Lehnergasse 13:geo:16.2830005,48.1390872
END:VEVENT
END:VCALENDAR