BEGIN:VCALENDAR
VERSION:2.0
PRODID:-//femvents.at - ECPv6.15.18//NONSGML v1.0//EN
CALSCALE:GREGORIAN
METHOD:PUBLISH
X-ORIGINAL-URL:https://www.femvents.at
X-WR-CALDESC:Veranstaltungen für femvents.at
REFRESH-INTERVAL;VALUE=DURATION:PT1H
X-Robots-Tag:noindex
X-PUBLISHED-TTL:PT1H
BEGIN:VTIMEZONE
TZID:Europe/Vienna
BEGIN:DAYLIGHT
TZOFFSETFROM:+0100
TZOFFSETTO:+0200
TZNAME:CEST
DTSTART:20250330T010000
END:DAYLIGHT
BEGIN:STANDARD
TZOFFSETFROM:+0200
TZOFFSETTO:+0100
TZNAME:CET
DTSTART:20251026T010000
END:STANDARD
BEGIN:DAYLIGHT
TZOFFSETFROM:+0100
TZOFFSETTO:+0200
TZNAME:CEST
DTSTART:20260329T010000
END:DAYLIGHT
BEGIN:STANDARD
TZOFFSETFROM:+0200
TZOFFSETTO:+0100
TZNAME:CET
DTSTART:20261025T010000
END:STANDARD
BEGIN:DAYLIGHT
TZOFFSETFROM:+0100
TZOFFSETTO:+0200
TZNAME:CEST
DTSTART:20270328T010000
END:DAYLIGHT
BEGIN:STANDARD
TZOFFSETFROM:+0200
TZOFFSETTO:+0100
TZNAME:CET
DTSTART:20271031T010000
END:STANDARD
END:VTIMEZONE
BEGIN:VEVENT
DTSTART;TZID=Europe/Vienna:20260501T020000
DTEND;TZID=Europe/Vienna:20260506T040000
DTSTAMP:20260419T223339
CREATED:20260228T121551Z
LAST-MODIFIED:20260228T121551Z
UID:10000856-1777600800-1778040000@www.femvents.at
SUMMARY:Retreat "Yoga & Klangreise"
DESCRIPTION:Yoga & Klang Retreat am Weissensee\n30. April – 3. Mai 2026 | Donnerstag bis Sonntag\nmit Daniela Suko & Marianne Kolarik \nVier Tage Auszeit für Körper\, Geist und Seele im 4-Sterne-Superior Strandhotel am Weissensee. \nErlebe eine harmonische Mischung aus aktivierendem Morgen-Yoga\, meditativem YinYoga mit Live-Klängen\, Pranayama\, Mantrasingen im Wald und berührenden Klangreisen mit Trommel & Handpan. Genieße Waldbaden\, Saunamomente und kulinarische Verwöhnmomente mit vegetarisch-veganer Halbpension. \nDas Retreat bietet Raum für Ruhe\, Rückzug und Begegnung – eingebettet in die einzigartige Naturkulisse des glasklaren Weissensees. \nTeilnehmerinnenanzahl: 6–12 Personen | Anfängerinnen herzlich willkommen! \nPreise: \n\nRetreat-Beitrag: € 260 pro Person\nÜbernachtung mit Halbpension im Strandhotel Weissensee: ab € 145 pro Nacht im Doppelzimmer (Einzelzimmerzuschlag € 30)\nzzgl. Ortstaxe\n\nAnmeldung & Information:\nMarianne Kolarik\nmail@yogaimprater.at \nWir freuen uns auf dich!
URL:https://www.femvents.at/event/retreat-yoga-klangreise/
LOCATION:Strandhotel Weissensee\, Neusach 18\, Weissensee\, Kärnten\, 9762\, Austria
CATEGORIES:Kärnten,Retreat
ATTACH;FMTTYPE=image/jpeg:https://www.femvents.at/wp-content/uploads/2026/02/IMG_8319-2-scaled.jpg
ORGANIZER;CN="Verein Aufleben - Projekt Yoga im Prater":MAILTO:mail@yogaimprater.at
GEO:46.7168392;13.3060805
X-APPLE-STRUCTURED-LOCATION;VALUE=URI;X-ADDRESS=Strandhotel Weissensee Neusach 18 Weissensee Kärnten 9762 Austria;X-APPLE-RADIUS=500;X-TITLE=Neusach 18:geo:13.3060805,46.7168392
END:VEVENT
BEGIN:VEVENT
DTSTART;VALUE=DATE:20260503
DTEND;VALUE=DATE:20260507
DTSTAMP:20260419T223339
CREATED:20260416T065120Z
LAST-MODIFIED:20260416T065250Z
UID:10001113-1777766400-1778111999@www.femvents.at
SUMMARY:My inner Summit: Klarheit und Kraft auf 1500M
DESCRIPTION:Klarheit statt Dauerrauschen\, Bewusstsein statt Autopilot. In der Stille der Südtiroler Berge entwickelt ihr nachhaltigen Fokus\, innere Stärke und souveräne Selbstführung – hin zu mehr Klarheit und Selbstbestimmung. \n\n\n\n\nDie Selbstführungs – Masterclass für weibliche Führungskräfte & Unternehmerinnen\nSei dabei: Inmitten der Stille des vigilius mountain resort auf 1500m lädt die Masterclass My Inner Summit dazu ein\, Selbstführung neu zu denken. Hin zu mehr Selbstbestimmung\, Klarheit und innerer Verbindung. \nIn einer Zeit hoher Geschwindigkeit\, komplexer Rollen und permanenter Erreichbarkeit verlieren viele Frauen den Kontakt zu dem\, was sie trägt und stärkt. In der Masterclass gewinnen Frauen in verantwortungsvollen Rollen Raum für innere Klarheit\, mentale Stärke und nachhaltige Veränderung – fern ab von To-do-Listen und Leistungsdruck. \nHard facts \nOrt: vigilius mountain resort\, Lana\, Südtirol (auf 1500m) \nAblauf: 03.–06.Mai\nTag 1: 18:30–22:00Uhr\nTag 2-4: ganztägig inkl. Abendprogramm \nDie Masterclass verbindet fundierte Inhalte aus Neurowissenschaft und Positiver Psychologie mit einem relevanten Mix aus Theorie\, Praxis und persönlicher Reflexion. Das vigilius mountain resort als kraftvoller Rückzugsort und ausgewählte Naturwanderungen unterstützen dabei\, Abstand zu gewinnen\, Klarheit zu entwickeln und innere Stärke zu entfalten. Die Masterclass ist eine Entwicklungsreise für Frauen\, die mehr wollen als ein Seminar – einen Perspektivwechsel. \nInhalte im Überblick: \n\n„Erkenne was Dich trägt“: Stärken\, Werte\, Emotionen\n„Entfalte Deine Wirksamkeit“: Motivation\, Energiequellen\, inneres Team\n„Führe Dich selbst. Authentisch“: Sinn\, Resilienz\, Selbstmitgefühl\n„Deine Vision–Dein Weg“: (Self-) Leadership Manifest\nIm Anschluss: Einzelcoachings & Austauschformate\n\nAnmeldung \n\nAnmeldung: info@vigilius.it\nMehr erfahren: myinnersummit.com\nVereinbart bei Bedarf gerne ein unverbindliches Kennenlerngespräch bei delight@britastiegler.com oder julia@juliaoelgart.de\nPreis: ab EUR 3.650 (Kurs\, 4 Übernachtungen nach gewählter Kategorie\, HP\, alle Aktivitäten)
URL:https://www.femvents.at/event/my-inner-summit-klarheit-und-kraft-auf-1500m/
LOCATION:Vigilius Mountain Resort\, Lana\, Südtirol\, Lana\, 39011\, Italy
CATEGORIES:Österreichweit,Retreat
ATTACH;FMTTYPE=image/jpeg:https://www.femvents.at/wp-content/uploads/2026/01/sheconomy_Foto-ambitions_Sweater_Pulli_c_PhilippLipiarski.jpg
GEO:46.6130968;11.1563292
END:VEVENT
BEGIN:VEVENT
DTSTART;TZID=Europe/Vienna:20260504T170000
DTEND;TZID=Europe/Vienna:20260504T180000
DTSTAMP:20260419T223339
CREATED:20260401T085206Z
LAST-MODIFIED:20260401T085214Z
UID:10000975-1777914000-1777917600@www.femvents.at
SUMMARY:„Gründen mit 50+“ mit Michaela Ernst & Stefanie Salata
DESCRIPTION:Unsere Webinar-Serie Career Sessions bringt die Themen auf den Punkt\, die Frauen im Job wirklich weiterbringen. Am Montag\, 4. Mai um 17:00 sind Michaela Ernst\, sheconomy Co-Founder & Gründerin des Female Empowerment Lab\, und Stefanie Salata\, Gründerin von Stella Circle & Aufsichtsrätin\, zu Gast mit dem Thema „Gründen mit 50+“. \nGründen mit 50+ heißt: Erfahrung gezielt in Wirkung übersetzen. \nIn dieser Career Session zeigen Stefanie Salata und Michaela Ernst\, worauf es wirklich ankommt – von Positionierung und Sichtbarkeit bis zu Geschäftsmodell und Finanzierung. \nZum Inhalt:\nWas oft unterschätzt wird: Niemand wartet auf dein Angebot – und Kapital folgt nicht Ideen\, sondern Klarheit. Im Dialog verbinden sie zwei entscheidende Perspektiven: Markt und Geld auf der einen\, Wirkung und Sichtbarkeit auf der anderen Seite. \nEin ehrlicher Reality Check – jenseits von Gründungsromantik\, aber voller Chancen. Denn: Gründen ist keine Frage des Alters\, sondern eine strategische Entscheidung. \nIn dieser Session legen wir besonderen Fokus auf den ehrlichen Austausch: Fragen\, Perspektiven und Wortmeldungen sind ausdrücklich erwünscht. \nDiese Session richtet sich an …\n… Frauen ab 50\, die den Schritt in die Selbstständigkeit planen\, bereits gegründet haben oder neue berufliche Wege für sich ausloten wollen. Ganz gleich\, ob sie am Anfang stehen\, mitten im Prozess sind oder sich neu orientieren möchten. \nAnmeldung:\nEure erste Teilnahme im neuen Career Campus ist kostenlos – einfach bei der Buchung im Shop den Code sheconomy eingeben. Regulär kostet die Teilnahme an einer Career Session 29 €.\nDas Gratis-Ticket gilt auch dann\, wenn ihr euch bereits vor Februar 2026 zu einer anderen Career Session angemeldet hattet. Jetzt Ticket sichern. \nTipp: Mit dem sheconomy Community Abo um nur 99 € pro Jahr ist eure Teilnahme bei allen Career Sessions inkludiert – plus 4 x Printmagazin & E-Paper und she Event Fixplatz in AT oder DE. Jetzt Mitglied in der sheconomy Community werden. Community Member erhalten den Link zur Career Session automatisch am Tag des Events. \nZu den Referentinnen:\nStefanie Salata bringt die Perspektive mit\, die viele Gründer*innen nicht haben: Sie sitzt selbst auf der Seite der Entscheider*innen – als Aufsichtsrätin und ehemalige Bankvorständin. Sie war unter anderem Managing Director bei der Deutschen Bank\, Vorständin der Volksbank sowie Vorsitzende der Geschäftsführung der Berliner Bank. Heute gibt sie dieses Wissen als Gründerin von Stella Circle weiter – einer Agentur für Top-Führungskräfte. Im Fokus stehen Sparring\, strategischer Austausch und nachhaltige berufliche Entwicklung. \nAls Co-Founderin von sheconomy und Gründerin des Female Empowerment Lab beschäftigt sich Michaela Ernst seit Jahren mit der Frage\, wie Frauen ihre Kompetenz klar zeigen\, wirksam auftreten und ihre Themen am Markt platzieren. In ihrer Arbeit verbindet sie journalistische Präzision mit strategischem Blick auf Wirkung – und genau darum geht es auch beim Gründen: gesehen werden\, verstanden werden\, gewählt werden.
URL:https://www.femvents.at/event/gruenden-mit-50-mit-michaela-ernst-stefanie-salata/
LOCATION:Online-Event\, Austria
CATEGORIES:Online-Event,Workshop
ATTACH;FMTTYPE=image/png:https://www.femvents.at/wp-content/uploads/2026/04/Career-Sessions.png
GEO:47.516231;14.550072
END:VEVENT
END:VCALENDAR