BEGIN:VCALENDAR
VERSION:2.0
PRODID:-//femvents.at - ECPv6.15.18//NONSGML v1.0//EN
CALSCALE:GREGORIAN
METHOD:PUBLISH
X-ORIGINAL-URL:https://www.femvents.at
X-WR-CALDESC:Veranstaltungen für femvents.at
REFRESH-INTERVAL;VALUE=DURATION:PT1H
X-Robots-Tag:noindex
X-PUBLISHED-TTL:PT1H
BEGIN:VTIMEZONE
TZID:Europe/Vienna
BEGIN:DAYLIGHT
TZOFFSETFROM:+0100
TZOFFSETTO:+0200
TZNAME:CEST
DTSTART:20250330T010000
END:DAYLIGHT
BEGIN:STANDARD
TZOFFSETFROM:+0200
TZOFFSETTO:+0100
TZNAME:CET
DTSTART:20251026T010000
END:STANDARD
BEGIN:DAYLIGHT
TZOFFSETFROM:+0100
TZOFFSETTO:+0200
TZNAME:CEST
DTSTART:20260329T010000
END:DAYLIGHT
BEGIN:STANDARD
TZOFFSETFROM:+0200
TZOFFSETTO:+0100
TZNAME:CET
DTSTART:20261025T010000
END:STANDARD
BEGIN:DAYLIGHT
TZOFFSETFROM:+0100
TZOFFSETTO:+0200
TZNAME:CEST
DTSTART:20270328T010000
END:DAYLIGHT
BEGIN:STANDARD
TZOFFSETFROM:+0200
TZOFFSETTO:+0100
TZNAME:CET
DTSTART:20271031T010000
END:STANDARD
END:VTIMEZONE
BEGIN:VTIMEZONE
TZID:Europe/Berlin
BEGIN:DAYLIGHT
TZOFFSETFROM:+0100
TZOFFSETTO:+0200
TZNAME:CEST
DTSTART:20250330T010000
END:DAYLIGHT
BEGIN:STANDARD
TZOFFSETFROM:+0200
TZOFFSETTO:+0100
TZNAME:CET
DTSTART:20251026T010000
END:STANDARD
BEGIN:DAYLIGHT
TZOFFSETFROM:+0100
TZOFFSETTO:+0200
TZNAME:CEST
DTSTART:20260329T010000
END:DAYLIGHT
BEGIN:STANDARD
TZOFFSETFROM:+0200
TZOFFSETTO:+0100
TZNAME:CET
DTSTART:20261025T010000
END:STANDARD
BEGIN:DAYLIGHT
TZOFFSETFROM:+0100
TZOFFSETTO:+0200
TZNAME:CEST
DTSTART:20270328T010000
END:DAYLIGHT
BEGIN:STANDARD
TZOFFSETFROM:+0200
TZOFFSETTO:+0100
TZNAME:CET
DTSTART:20271031T010000
END:STANDARD
END:VTIMEZONE
BEGIN:VEVENT
DTSTART;TZID=Europe/Vienna:20260501T020000
DTEND;TZID=Europe/Vienna:20260506T040000
DTSTAMP:20260419T204726
CREATED:20260228T121551Z
LAST-MODIFIED:20260228T121551Z
UID:10000856-1777600800-1778040000@www.femvents.at
SUMMARY:Retreat "Yoga & Klangreise"
DESCRIPTION:Yoga & Klang Retreat am Weissensee\n30. April – 3. Mai 2026 | Donnerstag bis Sonntag\nmit Daniela Suko & Marianne Kolarik \nVier Tage Auszeit für Körper\, Geist und Seele im 4-Sterne-Superior Strandhotel am Weissensee. \nErlebe eine harmonische Mischung aus aktivierendem Morgen-Yoga\, meditativem YinYoga mit Live-Klängen\, Pranayama\, Mantrasingen im Wald und berührenden Klangreisen mit Trommel & Handpan. Genieße Waldbaden\, Saunamomente und kulinarische Verwöhnmomente mit vegetarisch-veganer Halbpension. \nDas Retreat bietet Raum für Ruhe\, Rückzug und Begegnung – eingebettet in die einzigartige Naturkulisse des glasklaren Weissensees. \nTeilnehmerinnenanzahl: 6–12 Personen | Anfängerinnen herzlich willkommen! \nPreise: \n\nRetreat-Beitrag: € 260 pro Person\nÜbernachtung mit Halbpension im Strandhotel Weissensee: ab € 145 pro Nacht im Doppelzimmer (Einzelzimmerzuschlag € 30)\nzzgl. Ortstaxe\n\nAnmeldung & Information:\nMarianne Kolarik\nmail@yogaimprater.at \nWir freuen uns auf dich!
URL:https://www.femvents.at/event/retreat-yoga-klangreise/
LOCATION:Strandhotel Weissensee\, Neusach 18\, Weissensee\, Kärnten\, 9762\, Austria
CATEGORIES:Kärnten,Retreat
ATTACH;FMTTYPE=image/jpeg:https://www.femvents.at/wp-content/uploads/2026/02/IMG_8319-2-scaled.jpg
ORGANIZER;CN="Verein Aufleben - Projekt Yoga im Prater":MAILTO:mail@yogaimprater.at
GEO:46.7168392;13.3060805
X-APPLE-STRUCTURED-LOCATION;VALUE=URI;X-ADDRESS=Strandhotel Weissensee Neusach 18 Weissensee Kärnten 9762 Austria;X-APPLE-RADIUS=500;X-TITLE=Neusach 18:geo:13.3060805,46.7168392
END:VEVENT
BEGIN:VEVENT
DTSTART;VALUE=DATE:20260503
DTEND;VALUE=DATE:20260507
DTSTAMP:20260419T204726
CREATED:20260416T065120Z
LAST-MODIFIED:20260416T065250Z
UID:10001113-1777766400-1778111999@www.femvents.at
SUMMARY:My inner Summit: Klarheit und Kraft auf 1500M
DESCRIPTION:Klarheit statt Dauerrauschen\, Bewusstsein statt Autopilot. In der Stille der Südtiroler Berge entwickelt ihr nachhaltigen Fokus\, innere Stärke und souveräne Selbstführung – hin zu mehr Klarheit und Selbstbestimmung. \n\n\n\n\nDie Selbstführungs – Masterclass für weibliche Führungskräfte & Unternehmerinnen\nSei dabei: Inmitten der Stille des vigilius mountain resort auf 1500m lädt die Masterclass My Inner Summit dazu ein\, Selbstführung neu zu denken. Hin zu mehr Selbstbestimmung\, Klarheit und innerer Verbindung. \nIn einer Zeit hoher Geschwindigkeit\, komplexer Rollen und permanenter Erreichbarkeit verlieren viele Frauen den Kontakt zu dem\, was sie trägt und stärkt. In der Masterclass gewinnen Frauen in verantwortungsvollen Rollen Raum für innere Klarheit\, mentale Stärke und nachhaltige Veränderung – fern ab von To-do-Listen und Leistungsdruck. \nHard facts \nOrt: vigilius mountain resort\, Lana\, Südtirol (auf 1500m) \nAblauf: 03.–06.Mai\nTag 1: 18:30–22:00Uhr\nTag 2-4: ganztägig inkl. Abendprogramm \nDie Masterclass verbindet fundierte Inhalte aus Neurowissenschaft und Positiver Psychologie mit einem relevanten Mix aus Theorie\, Praxis und persönlicher Reflexion. Das vigilius mountain resort als kraftvoller Rückzugsort und ausgewählte Naturwanderungen unterstützen dabei\, Abstand zu gewinnen\, Klarheit zu entwickeln und innere Stärke zu entfalten. Die Masterclass ist eine Entwicklungsreise für Frauen\, die mehr wollen als ein Seminar – einen Perspektivwechsel. \nInhalte im Überblick: \n\n„Erkenne was Dich trägt“: Stärken\, Werte\, Emotionen\n„Entfalte Deine Wirksamkeit“: Motivation\, Energiequellen\, inneres Team\n„Führe Dich selbst. Authentisch“: Sinn\, Resilienz\, Selbstmitgefühl\n„Deine Vision–Dein Weg“: (Self-) Leadership Manifest\nIm Anschluss: Einzelcoachings & Austauschformate\n\nAnmeldung \n\nAnmeldung: info@vigilius.it\nMehr erfahren: myinnersummit.com\nVereinbart bei Bedarf gerne ein unverbindliches Kennenlerngespräch bei delight@britastiegler.com oder julia@juliaoelgart.de\nPreis: ab EUR 3.650 (Kurs\, 4 Übernachtungen nach gewählter Kategorie\, HP\, alle Aktivitäten)
URL:https://www.femvents.at/event/my-inner-summit-klarheit-und-kraft-auf-1500m/
LOCATION:Vigilius Mountain Resort\, Lana\, Südtirol\, Lana\, 39011\, Italy
CATEGORIES:Österreichweit,Retreat
ATTACH;FMTTYPE=image/jpeg:https://www.femvents.at/wp-content/uploads/2026/01/sheconomy_Foto-ambitions_Sweater_Pulli_c_PhilippLipiarski.jpg
GEO:46.6130968;11.1563292
END:VEVENT
BEGIN:VEVENT
DTSTART;TZID=Europe/Vienna:20260505T090000
DTEND;TZID=Europe/Vienna:20260505T100000
DTSTAMP:20260419T204726
CREATED:20260410T095104Z
LAST-MODIFIED:20260410T095104Z
UID:10001065-1777971600-1777975200@www.femvents.at
SUMMARY:SilverGirls:LoungeOnAir Zyklisch erfolgreich arbeiten
DESCRIPTION:Was erwartet Sie?\n \nDer weibliche Zyklus wird häufig nicht thematisiert oder als belastend wahrgenommen – dabei leiden viele Frauen still unter Beschwerden\, die ihren Alltag\, ihren Beruf und ihre Zielerreichung beeinflussen. In diesem Webinar erfährst du\, wie du den Zyklus als Ressource nutzen kannst. Du lernst\, wie du die verschiedenen Zyklusphasen gezielt für Produktivität\, Fokus und Wohlbefinden einsetzen kannst. \n Referentin: Kathrin Hirczy\, ist Fitness Trainerin sowie Female Health & Business Trainerin. Sie unterstützt Menschen mit Gebärmutter dabei\, ihr Leben bewusst an ihrem Zyklus auszurichten. In ihrer langjährigen Tätigkeit als Führungskraft weiblicher Teams hat sie erkannt\, dass Zyklusbeschwerden selten angesprochen werden – weder im beruflichen noch im privaten Umfeld. Dabei steckt im weiblichen Zyklus enormes Potenzial: Richtig genutzt kann er Wohlbefinden\, Leistungsfähigkeit und Klarheit in vielen Lebensbereichen nachhaltig stärken. Mit ihrer Arbeit möchte sie das Tabu rund um den Zyklus aufbrechen und Frauen ermutigen\, ihre Ressourcen bestmöglich zu nutzen. \n Weitere Informationen: www.kathrin-hirczy.at/ \n Ort: Online \nDem Meeting treten Sie hier bei:\nBitte den Link kopieren und in Ihren Browser einfügen:\nmeet.google.com/ejd-ectm-rtr \nTeilnehmerinnenanzahl: Unbegrenzt \nWir freuen uns sehr\, Sie bei unserer SilverGirls:LoungeOnAir online begrüßen zu dürfen!
URL:https://www.femvents.at/event/silvergirlsloungeonair-zyklisch-erfolgreich-arbeiten/
LOCATION:Online-Event\, Austria
CATEGORIES:Online-Event,Workshop
ATTACH;FMTTYPE=image/png:https://www.femvents.at/wp-content/uploads/2026/04/femventsBild.png
GEO:47.516231;14.550072
END:VEVENT
BEGIN:VEVENT
DTSTART;TZID=Europe/Vienna:20260505T100000
DTEND;TZID=Europe/Vienna:20260505T120000
DTSTAMP:20260419T204726
CREATED:20260414T062507Z
LAST-MODIFIED:20260419T100948Z
UID:10001078-1777975200-1777982400@www.femvents.at
SUMMARY:Bgld./Wulkaprodersdorf LLL- Die Schreiberinnen“ mit LLL-Botschafterin Hana Magelis
DESCRIPTION:LLL“Die Schreiberinnen“ ✍️ kreative Spaziergänge durch Gedanken \nSchreibst du gerne Geschichten\, verfasst du Gedichte\, oder wolltest es immer schon versuchen?\nDich vielleicht erst einmal lauschend zum Schreiben inspirieren lassen? \nHana Magelis lädt zu einem ersten\, frei zugänglichen und kostenfreien Treffen schreibender\, dichtender und lesender Frauen\, in ihr Wohnzimmer ein. \nWas erwartet dich? \nEinmal monatlich trifft sich die kreative Schreibgruppe im Raum Eisenstadt und Umgebung\, meandernd durch Wohnzimmer\, Lokale oder im Sommer gerne im Freien und liest selbst verfasste Geschichten und Gedichte zu wechselnden Themen vor. Das Genre und die Form sind frei wählbar. Danach sprechen wir über die persönliche Schreiberfahrung und empfehlen uns abschließend jeweils ein Buch das unbedingt gelesen werden sollte 📚 \nFür das erste Treffen bring bitte ein Foto oder Bild deiner Wahl und einen von dir dazu verfassten Text und einen Buchtipp mit um gleich starten zu können 🤩👍🏼📚 \nIch freu mich auf Dich\, herzlichst Hana 💕 \nAnmeldung unter: info@vereinlebenliebenlachen.at\nBegrenzte Teilnehmerinnenzahl
URL:https://www.femvents.at/event/bgld-wulkaprodersdorf-lll-die-schreiberinnen-mit-lll-botschafterin-hana-magelis-2/
LOCATION:Hana Magelis\, Wulkahof 2 Stiege 3\, Wulkaprodersdorf\, 7041\, Austria
CATEGORIES:Burgenland,LLL
ATTACH;FMTTYPE=image/jpeg:https://www.femvents.at/wp-content/uploads/2026/04/Schreiberinnen-2-cOUUlj.jpg
ORGANIZER;CN="LEBEN%2C LIEBEN%2C LACHEN &#8211%3B endlich wei%C3%9F ich wie!":MAILTO:info@vereinlebenliebenlachen.at
GEO:47.835498;16.6206514
X-APPLE-STRUCTURED-LOCATION;VALUE=URI;X-ADDRESS=Hana Magelis Wulkahof 2 Stiege 3 Wulkaprodersdorf 7041 Austria;X-APPLE-RADIUS=500;X-TITLE=Wulkahof 2 Stiege 3:geo:16.6206514,47.835498
END:VEVENT
BEGIN:VEVENT
DTSTART;TZID=Europe/Vienna:20260505T180000
DTEND;TZID=Europe/Vienna:20260505T203000
DTSTAMP:20260419T204726
CREATED:20260318T173249Z
LAST-MODIFIED:20260318T173249Z
UID:10000948-1778004000-1778013000@www.femvents.at
SUMMARY:Vision to decision
DESCRIPTION:Du denkst. Und denkst. Und kommst trotzdem nicht ins Tun.\nGemeinsam mit Anna Binder von fromvisiontogoal. \nEntscheidungen fühlen sich schwer an. Und wenn du dich endlich durchgerungen hast\, startet das Kopfkino von vorne: „Was wäre wenn…?“\nStimmig fühlt es sich nie an. \nDas kennen wir. Und genau dafür haben wir diesen Abend geschaffen. \nIn unserem Workshop Vision to Decision bekommst du keine Motivation von außen – sondern echte Werkzeuge\, die von innen wirken. Wir helfen dir\, deine ganz persönliche Entscheidungsformel zu entwickeln\, damit du weißt: Das hier ist meins. Das tue ich. \nWas du mitnimmst: \n\nDeine persönliche Entscheidungsformel\nPraktische Tools\, die du sofort anwenden kannst\nKlarheit über deine Werte\nSelbstvertrauen\, Mut und Handlungsfähigkeit\nInnere Ruhe statt Gedankenkarussell
URL:https://www.femvents.at/event/vision-to-decision/
LOCATION:Praxiskreis\, Stumpergasse 48/18\, Wien\, Wien\, 1060\, Austria
CATEGORIES:Coaching,Wien,Workshop
ATTACH;FMTTYPE=image/jpeg:https://www.femvents.at/wp-content/uploads/2026/03/05.05.2026-_-Workshop-_-Entscheidungen_20260318_102541_0000.jpg
ORGANIZER;CN="Angelika Fabian":MAILTO:hallo@die-fabian.at
GEO:48.1947246;16.3437599
X-APPLE-STRUCTURED-LOCATION;VALUE=URI;X-ADDRESS=Praxiskreis Stumpergasse 48/18 Wien Wien 1060 Austria;X-APPLE-RADIUS=500;X-TITLE=Stumpergasse 48/18:geo:16.3437599,48.1947246
END:VEVENT
BEGIN:VEVENT
DTSTART;TZID=Europe/Vienna:20260505T183000
DTEND;TZID=Europe/Vienna:20260505T203000
DTSTAMP:20260419T204726
CREATED:20260416T070534Z
LAST-MODIFIED:20260416T070534Z
UID:10001117-1778005800-1778013000@www.femvents.at
SUMMARY:Selbsthilfegruppentreffen für Endometriosebetroffene
DESCRIPTION:Für Anmeldungen zu Gruppentreffen in Wien schreibe bitte formlos an: endopower.wien@gmail.com\nUnser Ziel – Ablauf eines Treffens\nUnsere SHG möchte einen offenen und lockeren Austausch bieten und verhindern\, dass sich Endometriose Betroffene alleine fühlen. \nAlle zwei Monate findet das Austauschcafé statt\, in dessen Rahmen die Teilnehmenden ca zwei Stunden Zeit haben ihre Erfahrungen und Sorgen zu teilen und sich gegenseitig Tipps zu geben (einander zu empowern). \nWir organisieren derzeit keine Vorträge oder geben Themen vor – diese ergeben sich in der (Gruppen-) Diskussion.
URL:https://www.femvents.at/event/selbsthilfegruppentreffen-fuer-endometriosebetroffene-2/
LOCATION:Wien\, wien\, Wien\, 1060\, Austria
CATEGORIES:After Work,Frauenkreis,Meetup,Netzwerk-Treffen,Stammtisch,Wien
ATTACH;FMTTYPE=image/png:https://www.femvents.at/wp-content/uploads/2025/10/Cafe.png
ORGANIZER;CN="EndoPower.Wien":MAILTO:endopower.wien@gmail.com
GEO:48.1945985;16.3504336
END:VEVENT
BEGIN:VEVENT
DTSTART;TZID=Europe/Vienna:20260505T190000
DTEND;TZID=Europe/Vienna:20260505T203000
DTSTAMP:20260419T204726
CREATED:20260417T092500Z
LAST-MODIFIED:20260419T100948Z
UID:10001134-1778007600-1778013000@www.femvents.at
SUMMARY:NÖ/ Deutsch-Brodersdorf   LLL – Treffpunkt – Der Impuls Talk „Körper\, Geist und Seele im Einklang“ mit LLL-Botschafterin Anita Ponweiser
DESCRIPTION:KÖRPER GEIST SEELE in BALANCE  – was braucht unser System? \n  \nAnmeldung direkt bei den Veranstalterin:\nAnita Ponweiser\nanitaponweiser@gmx.at \nEine Veranstaltung in Netzwerkverbundenheit mit dem Verein\n„LEBEN\, LIEBEN\, LACHEN – Prävention mit Herz\, Verstand und Freude!“\nDie LLL – Treffpunkte DER IMPULS TALK zeigen\, wie primäre Prävention als Schlüssel zu einem erfüllten Leben wirkt.\nOb körperlich\, emotional\, sozial oder finanziell – wer frühzeitig vorsorgt\, schafft Raum für Lebensfreude\, Leichtigkeit und Selbstbestimmung.\nDie Reihe soll inspirieren\, aktiv Schritte zu gehen\, die Gesundheit\, Sicherheit und Wohlbefinden langfristig fördern.
URL:https://www.femvents.at/event/noe-deutsch-brodersdorf-lll-treffpunkt-der-impuls-talk-koerper-geist-und-seele-im-einklang-mit-lll-botschafterin-anita-ponweiser/
LOCATION:Anita Ponweiser\, Triftgasse 6\, Deutsch-Brodersdorf\, 2443
CATEGORIES:Burgenland,LLL,LLL-PräventionsTreff
ATTACH;FMTTYPE=image/jpeg:https://www.femvents.at/wp-content/uploads/2026/03/Logo-Butah5.jpg
ORGANIZER;CN="Anita Ponweiser":MAILTO:anitaponweier@gmx.at
GEO:47.9437699;16.4696131
X-APPLE-STRUCTURED-LOCATION;VALUE=URI;X-ADDRESS=Anita Ponweiser Triftgasse 6 Deutsch-Brodersdorf 2443;X-APPLE-RADIUS=500;X-TITLE=Triftgasse 6:geo:16.4696131,47.9437699
END:VEVENT
BEGIN:VEVENT
DTSTART;TZID=Europe/Berlin:20260505T190000
DTEND;TZID=Europe/Berlin:20260505T210000
DTSTAMP:20260419T204726
CREATED:20260415T083846Z
LAST-MODIFIED:20260415T083846Z
UID:10001092-1778007600-1778014800@www.femvents.at
SUMMARY:Vernissage “Bilderwelten” | Regina Merta
DESCRIPTION:Künstlerin: Regina Merta \nBegrüßung: Claudia Suppan \n  \n\nRegina Merta lebt und arbeitet in Wien sowie in ihrem Atelier am Riederberg im Wienerwald. Sie ist Mitglied der Berufsvereinigung bildender Künstler\, der IG Bildende Kunst\, der Bildrecht und der International Association of Art. \nIhre Malerei widmet sich dem Wunder des Menschen\, dem Geheimnis des Lebens\, dem Universum und der Natur in ihrer Gesamtheit. Dabei arbeitet sie in vielfältigen Techniken – von Öl\, Acryl\, Aquarell bis hin zu Kohle\, Graphit und Rötel. \nSeit ihrer Jugend beschäftigt sich Merta intensiv mit bildender Kunst und Philosophie. Ihre Arbeiten – oft in Verbindung mit lyrischen Texten und Gedichten – entspringen ihrem innersten Empfinden und tragen die Inspiration durch Leonardo da Vinci in sich. Ihre Werke werden seit vielen Jahren international anerkannt und ausgezeichnet. \nMertas Kunst berührt die Seele – sie malt das Leben als abenteuerliche Reise. \nPassend zur Wiener Festspielzeit im Mai präsentiert Regina Merta Arbeiten\, die in enger Beziehung zur Musik stehen. Darüber hinaus greift sie Themen wie Physik\, Chemie\, Umwelt und die Vergänglichkeit des Lebens auf – stets im Bewusstsein der feinen Verbindungen zwischen Mensch und Natur. \n  \n\n  \nRegina Merta ist eine internationale Künstlerin und hatte bereits Präsentationen ihrer Exponate in zahlreichen internationalen Ausstellungen durch renommierte Galerien  u.a. in New York City\, Paris\, London\, Venedig\, Museum Spazio Klien Borgo (I)\, Miami\, Shanghai\, Florenz\, Rom\, Verona\, Barcelona\, Berlin\, München\, Zürich\, Basel und  Wien – unter anderem in: Künstlerhaus\, Kunsthaus Wien Museum Hundertwasser\, Museumsquartier Wien\, Haus Wittgenstein\, Kunstsalon Schloss Schönbrunn\, Europahaus – Schloss Miller Aichholz\, Galerien\, Museen\, Charity-Kunstauktionen sowie eigene Projekte. \n\nRegina Merta – BILDERWELTEN – Bildende Künstlerin / Malerei + Zeichnungen\nAtelier www.reginamerta.at\n\n\nDie Ausstellung kann auch nach der Vernissage und bis Ende Juni zu unseren Öffnungszeiten besucht werden.
URL:https://www.femvents.at/event/vernissage-bilderwelten-regina-merta/
LOCATION:Club alpha\, Stubenbastei 12/14\, Wien\, 1010\, Österreich
CATEGORIES:Kunst & Kultur,Vernissage,Wien
ATTACH;FMTTYPE=image/webp:https://www.femvents.at/wp-content/uploads/2026/04/vernissage-yLJBpp.webp
ORGANIZER;CN="Club alpha":MAILTO:clubalpha@clubalpha.at
GEO:48.2063723;16.3776169
X-APPLE-STRUCTURED-LOCATION;VALUE=URI;X-ADDRESS=Club alpha Stubenbastei 12/14 Wien 1010 Österreich;X-APPLE-RADIUS=500;X-TITLE=Stubenbastei 12/14:geo:16.3776169,48.2063723
END:VEVENT
END:VCALENDAR