BEGIN:VCALENDAR
VERSION:2.0
PRODID:-//femvents.at - ECPv6.15.18//NONSGML v1.0//EN
CALSCALE:GREGORIAN
METHOD:PUBLISH
X-WR-CALNAME:femvents.at
X-ORIGINAL-URL:https://www.femvents.at
X-WR-CALDESC:Veranstaltungen für femvents.at
REFRESH-INTERVAL;VALUE=DURATION:PT1H
X-Robots-Tag:noindex
X-PUBLISHED-TTL:PT1H
BEGIN:VTIMEZONE
TZID:Europe/Vienna
BEGIN:DAYLIGHT
TZOFFSETFROM:+0100
TZOFFSETTO:+0200
TZNAME:CEST
DTSTART:20250330T010000
END:DAYLIGHT
BEGIN:STANDARD
TZOFFSETFROM:+0200
TZOFFSETTO:+0100
TZNAME:CET
DTSTART:20251026T010000
END:STANDARD
BEGIN:DAYLIGHT
TZOFFSETFROM:+0100
TZOFFSETTO:+0200
TZNAME:CEST
DTSTART:20260329T010000
END:DAYLIGHT
BEGIN:STANDARD
TZOFFSETFROM:+0200
TZOFFSETTO:+0100
TZNAME:CET
DTSTART:20261025T010000
END:STANDARD
BEGIN:DAYLIGHT
TZOFFSETFROM:+0100
TZOFFSETTO:+0200
TZNAME:CEST
DTSTART:20270328T010000
END:DAYLIGHT
BEGIN:STANDARD
TZOFFSETFROM:+0200
TZOFFSETTO:+0100
TZNAME:CET
DTSTART:20271031T010000
END:STANDARD
END:VTIMEZONE
BEGIN:VTIMEZONE
TZID:Europe/Berlin
BEGIN:DAYLIGHT
TZOFFSETFROM:+0100
TZOFFSETTO:+0200
TZNAME:CEST
DTSTART:20250330T010000
END:DAYLIGHT
BEGIN:STANDARD
TZOFFSETFROM:+0200
TZOFFSETTO:+0100
TZNAME:CET
DTSTART:20251026T010000
END:STANDARD
BEGIN:DAYLIGHT
TZOFFSETFROM:+0100
TZOFFSETTO:+0200
TZNAME:CEST
DTSTART:20260329T010000
END:DAYLIGHT
BEGIN:STANDARD
TZOFFSETFROM:+0200
TZOFFSETTO:+0100
TZNAME:CET
DTSTART:20261025T010000
END:STANDARD
BEGIN:DAYLIGHT
TZOFFSETFROM:+0100
TZOFFSETTO:+0200
TZNAME:CEST
DTSTART:20270328T010000
END:DAYLIGHT
BEGIN:STANDARD
TZOFFSETFROM:+0200
TZOFFSETTO:+0100
TZNAME:CET
DTSTART:20271031T010000
END:STANDARD
END:VTIMEZONE
BEGIN:VEVENT
DTSTART;TZID=Europe/Vienna:20260507T163000
DTEND;TZID=Europe/Vienna:20260507T183000
DTSTAMP:20260419T185741
CREATED:20260416T092456Z
LAST-MODIFIED:20260419T100948Z
UID:10001129-1778171400-1778178600@www.femvents.at
SUMMARY:Wien/2.Bezirk LLL-LEBENSFREUDE  Frauentreff mit LLL-Botschafterinnen Simone Frasz & Claudia Kniezanrek
DESCRIPTION:🌸✨ Hallo ihr wundervollen Frauen ✨🌸 \n🌼 Lust\, einfach mal rauszukommen?\n🌸 Lachen\, plaudern\, durchatmen & neue Energie tanken?\nDann komm zu unserem LLL-LEBENSFREUDE TREFF 💚🧡🩷 \nEin Ort für echte Begegnungen\, ehrliche Gespräche und diese kleinen Herzensmomente\, die so unglaublich gut tun 💫\n🌷 Egal ob du ganz neu bist oder schon öfter dabei warst –\n🧁 komm genauso\, wie du bist!\nHier ist Platz für dich\, dein Lächeln und alles\, was dich gerade bewegt 🫶\n💃 Wir freuen uns riesig auf dich! 💕 \nBitte Platzreservierung 🤗\ninfo@vereinlebenliebenlachen.at
URL:https://www.femvents.at/event/wien-2-bezirk-lll-lebensfreude-frauentreff-mit-lll-botschafterinnen-simone-frasz-claudia-kniezanrek/
LOCATION:Zoku Vienna\, Perspektivstraße 6\, Wien\, 1020\, Austria
CATEGORIES:Burgenland,LLL
ATTACH;FMTTYPE=image/jpeg:https://www.femvents.at/wp-content/uploads/2026/04/Wien-e66RFV.jpg
ORGANIZER;CN="LEBEN%2C LIEBEN%2C LACHEN &#8211%3B endlich wei%C3%9F ich wie!":MAILTO:info@vereinlebenliebenlachen.at
GEO:48.2163823;16.4028125
X-APPLE-STRUCTURED-LOCATION;VALUE=URI;X-ADDRESS=Zoku Vienna Perspektivstraße 6 Wien 1020 Austria;X-APPLE-RADIUS=500;X-TITLE=Perspektivstraße 6:geo:16.4028125,48.2163823
END:VEVENT
BEGIN:VEVENT
DTSTART;TZID=Europe/Berlin:20260507T170000
DTEND;TZID=Europe/Berlin:20260507T170000
DTSTAMP:20260419T185741
CREATED:20260415T083809Z
LAST-MODIFIED:20260415T083809Z
UID:10001085-1778173200-1778173200@www.femvents.at
SUMMARY:alpha unterwegs | “Sie & KI” im ecoplus Haus der Digitalisierung (Tulln)
DESCRIPTION:  \nReferentinnen: Johanna Mikl-Leitner\, Julia Eisner\, Anna Kofler\, Julia Kaufmann\, Petra Schinnerl\, Ingrid Heschl\, Michaela Vorlaufer\, Veronika Geyer\, Martina Spitaler\, Viktoria Zischka \nModeration: Cornelia Ertl \n  \nalpha unterwegs in Kooperation mit \nec0plus Haus der Digitalisierung \nKonrad-Lorenz-Straße 10\, 3430 Tulln an der Donau \n  \n\n  \nIm Rahmen von „alpha unterwegs“ führt uns der Club alpha dieses Mal direkt dorthin wo die Zukunft entsteht: ins Haus der Digitalisierung in Tulln. Mit „Sie & KI“ lädt das Haus der Digitalisierung am 7. Mai in Kooperation mit dem Club alpha zu einer hochkarätigen Veranstaltung rund um Künstliche Intelligenz ein. \nKünstliche Intelligenz ist längst Teil vieler Arbeitsbereiche – oft auch ohne dass wir das bewusst wahrnehmen. Umso wichtiger ist es zu verstehen\, was dahintersteckt\, welche Möglichkeiten sich daraus ergeben und wo es sinnvoll ist\, sich aktiv einzubringen.\nDie interessante Veranstaltung richtet sich gezielt an Frauen – sowohl an jene\, die sich erstmals mit dem Thema beschäftigen\, als auch an jene\, die bereits damit arbeiten und ihr Wissen vertiefen oder sich dazu austauschen möchten. \nDen Auftakt bildet eine Keynote von Julia Eisner (Women in AI Austria)\, die zeigt\, warum KI-Kompetenz künftig entscheidend ist. In drei kompakten Podiumsdiskussionen zu den Themenfeldern New Work: Mensch und Maschine am Arbeitsplatz\, Bildung & KI: Skills für morgen und Governance & Ethics sprechen erfolgreiche Frauen aus Wirtschaft\, Technologie und Bildung über ihre Erfahrungen aus der Praxis und erläutern\, wie sich Arbeitsabläufe verändern\, welche Fähigkeiten tatsächlich gebraucht werden und wo die Chancen\, aber auch die Grenzen der KI liegen. \nDarauf baut auch das weitere Angebot auf: alle Teilnehmerinnen erhalten im Anschluss Zugang zu einem KI-Videokurs sowie zu Workshops im Haus der Digitalisierung\, wobei konkrete Anwendungen vermittelt und direkt ausprobiert werden können. \n  \n\nSpeakerinnen: \n\nJohanna Mikl-Leitner\, Landeshauptfrau Niederösterreich\nJulia Eisner (Women in AI Austria)\nAnna Kofler (thynk.ai)\nJulia Kaufmann (ACP)\nPetra Schinnerl (Metallbau Schinnerl)\nIngrid Heschl (Microsoft)\nMichaela Vorlaufer (WIFI)\nVeronika Geyer (Marketing Beratung)\nMartina Spitaler (Pädagogische Hochschule Niederösterreich) \nViktoria Zischka (rewe)\n\n  \n\n  \nDie Anmeldung findet nicht über Club alpha\, sondern direkt über das ecoplus Haus der Digitalisierung statt und ist ab 15. April bis 30. April möglich.  \nDer Link zur Anmeldung folgt in Kürze. \n\n\nFoto: ©
URL:https://www.femvents.at/event/alpha-unterwegs-sie-ki-im-ecoplus-haus-der-digitalisierung-tulln/
CATEGORIES:IT,TechWomen,Wien
ATTACH;FMTTYPE=image/webp:https://www.femvents.at/wp-content/uploads/2026/04/260607_headerimage_neu-qgn2lO.webp
ORGANIZER;CN="Club alpha":MAILTO:clubalpha@clubalpha.at
END:VEVENT
BEGIN:VEVENT
DTSTART;TZID=Europe/Vienna:20260507T170000
DTEND;TZID=Europe/Vienna:20260507T200000
DTSTAMP:20260419T185741
CREATED:20260413T165126Z
LAST-MODIFIED:20260415T060918Z
UID:10001071-1778173200-1778184000@www.femvents.at
SUMMARY:bloomin’ business – Episode 1: Grow & Flow
DESCRIPTION:bloomin’ business ist eine cozy Eventreihe für Menschen\, die sich einen Arbeitsalltag wünschen\, der sich gut anfühlt und Spaß macht. Für alle\, die sich selbst mehr Raum geben möchten und Business bewusster und achtsamer gestalten wollen. \nUnsere erste Episode „Grow & Flow“ widmet sich den unterschiedlichen Phasen im Business und bringt drei kurze\, praxisnahe Impulse in einem kompakten After Work Setting zusammen. \nIm Fokus stehen dabei: \n\nWie du mit intensiveren und ruhigeren Zeiten umgehen kannst und deinen eigenen Rhythmus im Arbeitsalltag findest (mit Christina Katefidis)\nWie du dein Nervensystem verstehen und auch in fordernden Phasen bei dir bleiben kannst (mit Sandra Kendl)\nWie der weibliche Zyklus deinen Arbeitsalltag beeinflusst und wie du wieder mehr in deinen eigenen Flow kommen kannst (mit Sandra Langschwert)\n\nDie Impulse sind so gestaltet\, dass du Gedankenanstöße und kleine Tools mitnimmst\, die du für dich weiterdenken und in deinem Alltag ausprobieren kannst. \nWANN: 7.5.\, Einlass 17 Uhr \nWO: Schatz Imhof\, Universitätsstraße 11\, 1010 Wien \nTicketpreis: 59€ (exkl. MwSt.) \nDas Ticket inkludiert einen Sitzplatz\, Mineralwasser und kleine Snacks am Tisch\, sowei ein Goodie Bag. Weitere Speisen und Getränke können vor Ort individuell bestellt werden und sind selbst zu bezahlen.
URL:https://www.femvents.at/event/bloomin-business-episode-1-grow-flow/
LOCATION:Schatz Imhof\, Universitätsstraße 11\, Wien\, Wien\, 1010
CATEGORIES:After Work,Meetup,Unternehmerinnen,Vortrag,Wien
ATTACH;FMTTYPE=image/jpeg:https://www.femvents.at/wp-content/uploads/2026/04/bloominbusiness-1.jpg
ORGANIZER;CN="Prep and Brace GmbH":MAILTO:hey@prepandbrace.at
GEO:48.2141682;16.3566291
X-APPLE-STRUCTURED-LOCATION;VALUE=URI;X-ADDRESS=Schatz Imhof Universitätsstraße 11 Wien Wien 1010;X-APPLE-RADIUS=500;X-TITLE=Universitätsstraße 11:geo:16.3566291,48.2141682
END:VEVENT
BEGIN:VEVENT
DTSTART;TZID=Europe/Vienna:20260507T180000
DTEND;TZID=Europe/Vienna:20260507T200000
DTSTAMP:20260419T185741
CREATED:20260417T100949Z
LAST-MODIFIED:20260419T100948Z
UID:10001139-1778176800-1778184000@www.femvents.at
SUMMARY:Bgld./ Oberwart LLL-LEBENSFREUDE Frauentreff mit LLL-Botschafterin Waltraud Neubauer
DESCRIPTION:🌸✨ Hallo ihr wundervollen Frauen ✨🌸 \n🌼 Lust\, einfach mal rauszukommen?\n🌸 Lachen\, plaudern\, durchatmen & neue Energie tanken?\nDann komm zu unserem LLL-LEBENSFREUDE TREFF 💚🧡🩷 \nEin Ort für echte Begegnungen\, ehrliche Gespräche und diese kleinen Herzensmomente\, die so unglaublich gut tun 💫\n🌷 Egal ob du ganz neu bist oder schon öfter dabei warst –\n🧁 komm genauso\, wie du bist!\nHier ist Platz für dich\, dein Lächeln und alles\, was dich gerade bewegt 🫶\n💃 Wir freuen uns riesig auf dich! 💕 \nBitte Platzreservierung 🤗\ninfo@vereinlebenliebenlachen.at
URL:https://www.femvents.at/event/bgld-oberwart-lll-lebensfreude-frauentreff-mit-lll-botschafterin-waltraud-neubauer/
LOCATION:FiftyOne The Irish Pub\, Wienerstraße 51\, 7400 Oberwart\, 7400
CATEGORIES:Burgenland,LLL
ATTACH;FMTTYPE=image/jpeg:https://www.femvents.at/wp-content/uploads/2026/04/Waltraud-Oberwart-C1FNvc.jpg
ORGANIZER;CN="LEBEN%2C LIEBEN%2C LACHEN &#8211%3B endlich wei%C3%9F ich wie!":MAILTO:info@vereinlebenliebenlachen.at
GEO:47.2927854;16.2060475
X-APPLE-STRUCTURED-LOCATION;VALUE=URI;X-ADDRESS=FiftyOne The Irish Pub Wienerstraße 51 7400 Oberwart 7400;X-APPLE-RADIUS=500;X-TITLE=Wienerstraße 51:geo:16.2060475,47.2927854
END:VEVENT
BEGIN:VEVENT
DTSTART;TZID=Europe/Vienna:20260507T183000
DTEND;TZID=Europe/Vienna:20260507T203000
DTSTAMP:20260419T185741
CREATED:20260415T091455Z
LAST-MODIFIED:20260419T100948Z
UID:10001110-1778178600-1778185800@www.femvents.at
SUMMARY:Oberpullendorf  LLL-BUSINESS Frauentreff mit LLL-Botschafterinnen Natascha Thurner\, Siegrid Koglbauer & Barbara Krug-Achter
DESCRIPTION:🌸✨ Hallo liebe Unternehmerinnen & Business-Frauen ✨🌸 \n🌼 Lust auf Austausch auf Augenhöhe?\n🌸 Inspirierende Gespräche\, neue Impulse & wertvolle Kontakte?\nDann komm zu unserem LLL-BUSINESS FRAUENTREFF 💚🧡🩷 \nEin Raum für Vernetzung\, Erfahrungsaustausch und echtes Miteinander 💫\n🌷 Egal ob selbstständig\, in Gründung oder beruflich neu orientiert –\n🧁 komm genau so\, wie du bist!\nHier ist Platz für deine Ideen\, deine Visionen und alles\, was dich beruflich bewegt 🫶 \n💼 Gemeinsam wachsen.\n💬 Gemeinsam lernen.\n💖 Gemeinsam erfolgreich sein. \n💃 Wir freuen uns sehr auf dich! \n📩 Bitte um Platzreservierung\ninfo@vereinlebenliebenlachen.at
URL:https://www.femvents.at/event/oberpullendorf-lll-business-frauentreff-mit-lll-botschafterinnen-natascha-thurner-siegrid-koglbauer/
LOCATION:Restaurant SEITNgassl\, Hauptstraße 63\, Oberpullendorf\, 7350
CATEGORIES:Burgenland,LLL
ATTACH;FMTTYPE=image/jpeg:https://www.femvents.at/wp-content/uploads/2026/04/Oberwart-i0pxo6.jpg
ORGANIZER;CN="LEBEN%2C LIEBEN%2C LACHEN &#8211%3B endlich wei%C3%9F ich wie!":MAILTO:info@vereinlebenliebenlachen.at
GEO:47.497899;16.5070512
X-APPLE-STRUCTURED-LOCATION;VALUE=URI;X-ADDRESS=Restaurant SEITNgassl Hauptstraße 63 Oberpullendorf 7350;X-APPLE-RADIUS=500;X-TITLE=Hauptstraße 63:geo:16.5070512,47.497899
END:VEVENT
BEGIN:VEVENT
DTSTART;TZID=Europe/Vienna:20260507T190000
DTEND;TZID=Europe/Vienna:20260507T200000
DTSTAMP:20260419T185741
CREATED:20260217T112311Z
LAST-MODIFIED:20260217T112311Z
UID:10000825-1778180400-1778184000@www.femvents.at
SUMMARY:Gründerinnen-Sprechstunde: Fempreneur
DESCRIPTION:Du möchtest dich selbstständig machen aber hast noch 1000 Fragen?\n💬 Komm zum zweiwöchentlichen Online-Expertinnen-Talk für Gründerinnen (in spe) zu allen Fragen rund um deine Selbstständigkeit! \nIn diesem kostenlosen Webinar erwartet dich: \n\nOffene Q&A-Session zu allen Themen der Unternehmensgründung\nPraxisnahe Antworten auf deine individuellen Herausforderungen\nVernetzung mit Gleichgesinnten in entspannter Atmosphäre\nWertvolle Impulse und konkrete Handlungsschritte\n\nDetails:\n🗓️ Jeden zweiten Donnerstag\n⏰ 19:00 Uhr\n💻 Via Zoom\n💰 Kostenlos \nBringe deine Fragen mit oder höre einfach zu und lass dich inspirieren.\nDieser interaktive Austausch ist perfekt für dich\, egal ob du… \n\nmit dem Gedanken spielst\, dich selbstständig zu machen\nkonkrete Schritte zur Gründung planst\nbereits gegründet hast und vor neuen Herausforderungen stehst\n\n👩‍💼 Über den Host:\nIsabella ist diplomierte psychologische Beraterin\, Business Coach\, Trainerin für Erwachsenenbildung und zertifiziert für Burnoutprävention. Mit 14+ Jahren Erfahrung als selbstständige Digital Product Designerin bringt sie einen reichen Erfahrungsschatz in der Zusammenarbeit mit Kund:innen in ganz Europa mit. ✨ \n🔗 Melde dich jetzt für einen der nächsten Termine an! \nhttps://scheduler.zoom.us/isabella-raunigk/fempreneur-after-work
URL:https://www.femvents.at/event/gruenderinnen-sprechstunde-fempreneur-18/
LOCATION:Online-Event\, Austria
CATEGORIES:After Work,Coaching,Netzwerk-Treffen,Online-Event,Österreichweit
ATTACH;FMTTYPE=image/png:https://www.femvents.at/wp-content/uploads/2026/02/aFempreneur-After-Work-Linkedin-Video-SSG-Coop-4.png
ORGANIZER;CN="Mind Distillery":MAILTO:hello@mind-distillery.com
GEO:47.516231;14.550072
END:VEVENT
END:VCALENDAR