BEGIN:VCALENDAR
VERSION:2.0
PRODID:-//femvents.at - ECPv6.15.18//NONSGML v1.0//EN
CALSCALE:GREGORIAN
METHOD:PUBLISH
X-ORIGINAL-URL:https://www.femvents.at
X-WR-CALDESC:Veranstaltungen für femvents.at
REFRESH-INTERVAL;VALUE=DURATION:PT1H
X-Robots-Tag:noindex
X-PUBLISHED-TTL:PT1H
BEGIN:VTIMEZONE
TZID:Europe/Vienna
BEGIN:DAYLIGHT
TZOFFSETFROM:+0100
TZOFFSETTO:+0200
TZNAME:CEST
DTSTART:20250330T010000
END:DAYLIGHT
BEGIN:STANDARD
TZOFFSETFROM:+0200
TZOFFSETTO:+0100
TZNAME:CET
DTSTART:20251026T010000
END:STANDARD
BEGIN:DAYLIGHT
TZOFFSETFROM:+0100
TZOFFSETTO:+0200
TZNAME:CEST
DTSTART:20260329T010000
END:DAYLIGHT
BEGIN:STANDARD
TZOFFSETFROM:+0200
TZOFFSETTO:+0100
TZNAME:CET
DTSTART:20261025T010000
END:STANDARD
BEGIN:DAYLIGHT
TZOFFSETFROM:+0100
TZOFFSETTO:+0200
TZNAME:CEST
DTSTART:20270328T010000
END:DAYLIGHT
BEGIN:STANDARD
TZOFFSETFROM:+0200
TZOFFSETTO:+0100
TZNAME:CET
DTSTART:20271031T010000
END:STANDARD
END:VTIMEZONE
BEGIN:VTIMEZONE
TZID:Europe/Berlin
BEGIN:DAYLIGHT
TZOFFSETFROM:+0100
TZOFFSETTO:+0200
TZNAME:CEST
DTSTART:20250330T010000
END:DAYLIGHT
BEGIN:STANDARD
TZOFFSETFROM:+0200
TZOFFSETTO:+0100
TZNAME:CET
DTSTART:20251026T010000
END:STANDARD
BEGIN:DAYLIGHT
TZOFFSETFROM:+0100
TZOFFSETTO:+0200
TZNAME:CEST
DTSTART:20260329T010000
END:DAYLIGHT
BEGIN:STANDARD
TZOFFSETFROM:+0200
TZOFFSETTO:+0100
TZNAME:CET
DTSTART:20261025T010000
END:STANDARD
BEGIN:DAYLIGHT
TZOFFSETFROM:+0100
TZOFFSETTO:+0200
TZNAME:CEST
DTSTART:20270328T010000
END:DAYLIGHT
BEGIN:STANDARD
TZOFFSETFROM:+0200
TZOFFSETTO:+0100
TZNAME:CET
DTSTART:20271031T010000
END:STANDARD
END:VTIMEZONE
BEGIN:VEVENT
DTSTART;TZID=Europe/Vienna:20260508T083000
DTEND;TZID=Europe/Vienna:20260508T103000
DTSTAMP:20260419T204705
CREATED:20260416T085704Z
LAST-MODIFIED:20260416T085704Z
UID:10001127-1778229000-1778236200@www.femvents.at
SUMMARY:Zentra – Selbstsicherheit für Seniorinnen* in Villach
DESCRIPTION:Stark\, selbstbewusst & selbstsicher\n\n\nWas tun\, wenn mich jemand im Bus oder auf der Straße beschimpft oder anrempelt\, mir die Handtasche entreißen will\, ich festgehalten werde… oder ich einfach Angst habe\, abends alleine unterwegs zu sein? \nZentra wurde von Frauen* für den Lebensalltag von Frauen* entwickelt\, ist leicht erlernbar und setzt keine Sportlichkeit voraus. Zentra bietet Wissen\, Verhaltensweisen sowie Abwehr- und Befreiungsmöglichkeiten an\, um gewaltbereite Situationen früh zu erkennen\, zu verändern und – wenn notwendig – körperliche Übergriffe möglichst mühelos abzuwehren. \nDas Angebot ist kostenlos. \n\n\n\n\nKursinhalte: \n\n\n\n\n\neigene Körperkraft und mentale Stärke (wieder) entdecken\nÜbergriffe frühzeitig erkennen und benennen\nnonverbale und verbale Wege zur Selbstbehauptung\neinfache Schutz-\, Abwehr- und Befreiungstechniken\nNotwehrtechniken\nHilfs- und Unterstützungsangebote in der Nähe
URL:https://www.femvents.at/event/zentra-selbstsicherheit-fuer-seniorinnen-in-villach/
LOCATION:Villach\, 10.Oktoberstraße. 27\, Villach\, Kärnten\, 9500\, Austria
CATEGORIES:Frauenkreis,Kärnten
ATTACH;FMTTYPE=image/webp:https://www.femvents.at/wp-content/uploads/2026/04/ZENTRA_Selbstsicherheit-fuer-Seniorinnen_2026.webp
GEO:46.6109236;13.8455122
X-APPLE-STRUCTURED-LOCATION;VALUE=URI;X-ADDRESS=Villach 10.Oktoberstraße. 27 Villach Kärnten 9500 Austria;X-APPLE-RADIUS=500;X-TITLE=10.Oktoberstraße. 27:geo:13.8455122,46.6109236
END:VEVENT
BEGIN:VEVENT
DTSTART;TZID=Europe/Berlin:20260508T100000
DTEND;TZID=Europe/Berlin:20260508T120000
DTSTAMP:20260419T204705
CREATED:20260415T083847Z
LAST-MODIFIED:20260415T083847Z
UID:10001094-1778234400-1778241600@www.femvents.at
SUMMARY:Mit Kindern den Beruf im Blick behalten | Babytreffs mit Double Duty Dialogues
DESCRIPTION:  \nModeration: Sophie Ernest\, Valentina Flores\nGast: TBA \nGerade für werdende Mütter und frischgebackene Eltern stellen sich große Fragen: Wie geht es weiter im Beruf? Welche Wege sind mit einem Baby realistisch? Wo bleibt Platz für mich selbst? Genau hier setzen die Babytreffs an. In einer intimen\, vertrauten Atmosphäre steht neben Input und Impulsen vor allem der Austausch im Vordergrund. Die Babytreffs im Club alpha finden jeden zweiten Freitag im Monat statt. Willkommen sind alle\, die Ideen\, Netzwerke und Unterstützung suchen – und Lust haben\, den Weg in Familie\, Karriere und vielleicht sogar Politik neu zu denken. \nDamit Eltern bei den Treffen nicht nur zuhören\, sondern auch Kraft tanken können\, gibt es eine liebevoll gestaltete Kinderkrabbelzone\, Verpflegung und Goodies. Während die Kleinen spielen\, bleibt Raum für Austausch\, Selbstreflexion\, Stärkung und den Blick nach vorne: Schritt für Schritt\, mutig\, entspannt und gut begleitet. \n  \nAnmeldung unter: www.doubleduty.at \n  \n\n  \nDie Babytreffs im Club alpha werden ab Oktober jeden zweiten Freitag im Monat stattfinden. Willkommen sind alle\, die Ideen\, Netzwerke und Unterstützung suchen – und Lust haben\, den Weg in Familie\, Karriere und vielleicht sogar Politik neu zu denken. \n  \nFoto: © beigestellt
URL:https://www.femvents.at/event/mit-kindern-den-beruf-im-blick-behalten-babytreffs-mit-double-duty-dialogues/
LOCATION:Club alpha\, Stubenbastei 12/14\, Wien\, 1010\, Österreich
CATEGORIES:Diskussion,Gesundheit,Karriere,Wien
ATTACH;FMTTYPE=image/png:https://www.femvents.at/wp-content/uploads/2026/04/Titelbild_Nr.-200_Nov_Dez-4-cmiodf.png
ORGANIZER;CN="Club alpha":MAILTO:clubalpha@clubalpha.at
GEO:48.2063723;16.3776169
X-APPLE-STRUCTURED-LOCATION;VALUE=URI;X-ADDRESS=Club alpha Stubenbastei 12/14 Wien 1010 Österreich;X-APPLE-RADIUS=500;X-TITLE=Stubenbastei 12/14:geo:16.3776169,48.2063723
END:VEVENT
BEGIN:VEVENT
DTSTART;TZID=Europe/Vienna:20260508T150000
DTEND;TZID=Europe/Vienna:20260508T170000
DTSTAMP:20260419T204705
CREATED:20260407T062210Z
LAST-MODIFIED:20260419T100948Z
UID:10001019-1778252400-1778259600@www.femvents.at
SUMMARY:NÖ/ Ebreichsdorf  LLL-LEBENSFREUDE Frauentreff mit LLL-Botschafterin Anita Ponweiser
DESCRIPTION:🌸✨ Hallo ihr wundervollen Frauen ✨🌸 \n🌼 Lust\, einfach mal rauszukommen?\n🌸 Lachen\, plaudern\, durchatmen & neue Energie tanken?\nDann komm zu unserem LLL-LEBENSFREUDE TREFF 💚🧡🩷 \nEin Ort für echte Begegnungen\, ehrliche Gespräche und diese kleinen Herzensmomente\, die so unglaublich gut tun 💫\n🌷 Egal ob du ganz neu bist oder schon öfter dabei warst –\n🧁 komm genauso\, wie du bist!\nHier ist Platz für dich\, dein Lächeln und alles\, was dich gerade bewegt 🫶\n💃 Wir freuen uns riesig auf dich! 💕 \nBitte Platzreservierung 🤗\ninfo@vereinlebenliebenlachen.at
URL:https://www.femvents.at/event/noe-ebreichsdorf-lll-lebensfreude-frauentreff-mit-lll-botschafterin-anita-ponweiser-2/
LOCATION:Möhspeis Stub´n\, Rechte Bahnzeile 4\, Ebreichsdorf\, 2483
CATEGORIES:Burgenland,LLL
ATTACH;FMTTYPE=image/jpeg:https://www.femvents.at/wp-content/uploads/2026/04/Moeschspeisstube-5glKYt.jpg
ORGANIZER;CN="LEBEN%2C LIEBEN%2C LACHEN &#8211%3B endlich wei%C3%9F ich wie!":MAILTO:info@vereinlebenliebenlachen.at
GEO:47.9501504;16.4131096
X-APPLE-STRUCTURED-LOCATION;VALUE=URI;X-ADDRESS=Möhspeis Stub´n Rechte Bahnzeile 4 Ebreichsdorf 2483;X-APPLE-RADIUS=500;X-TITLE=Rechte Bahnzeile 4:geo:16.4131096,47.9501504
END:VEVENT
BEGIN:VEVENT
DTSTART;TZID=Europe/Vienna:20260508T150000
DTEND;TZID=Europe/Vienna:20260508T173000
DTSTAMP:20260419T204705
CREATED:20260416T085420Z
LAST-MODIFIED:20260416T085448Z
UID:10001126-1778252400-1778261400@www.femvents.at
SUMMARY:Frauen*Treff
DESCRIPTION:Dein Treffpunkt für Austausch\, Spaß und neue Freundschaften\n\n\n\n\nDu fühlst dich manchmal einsam oder weißt nichts mit deiner (Frei)zeit anzufangen? Keine Sorge\, vielen jungen Frauen* geht es ähnlich! \nIm Frauen*treff hast du die Möglichkeit neue Kontakte zu knüpfen\, zwanglos gemeinsam Zeit zu verbringen und neue Freundschaften zu schließen. Alle jungen Frauen* ab 18 Jahren sind jederzeit willkommen! \nDas Programm wird gemeinsam zusammengestellt\, bring gerne deine Ideen und Wünsche ein!
URL:https://www.femvents.at/event/frauentreff-2/
LOCATION:Klagenfurt\, Klagenfurt\, Austria
CATEGORIES:Frauenkreis,Kärnten
ATTACH;FMTTYPE=image/webp:https://www.femvents.at/wp-content/uploads/2026/04/Frauentreff_Veranstaltungsbild.webp
GEO:46.625704;14.3137371
END:VEVENT
BEGIN:VEVENT
DTSTART;TZID=Europe/Vienna:20260508T150000
DTEND;TZID=Europe/Vienna:20260508T180000
DTSTAMP:20260419T204705
CREATED:20260410T095857Z
LAST-MODIFIED:20260410T095857Z
UID:10001067-1778252400-1778263200@www.femvents.at
SUMMARY:Frauenspaziergang Tauglgries.
DESCRIPTION:Gemeinsam gehen als Kraftquelle im Alltag.\nEinfach losgehen. Spazieren\, durchatmen\, in Gemeinschaft sein und Kraft tanken. Bei diesem Frauenspaziergang nehmen wir uns Zeit. Denn gemeinsam unterwegs sein schafft Verbindung und öffnet Raum für Begegnung. Es entstehen Gespräche\, Leichtigkeit und neue Gedanken. Und es fällt oft leichter\, Erfahrungen auszutauschen und neue Kontakte zu knüpfen. Dadurch entsteht eine Atmosphäre der Offenheit\, die einen wohltuenden Gegenpol zur Hektik des Alltags bietet. An interessanten Plätzen halten wir kurz inne. Kleine Impulse und einfache Übungen laden zum Entspannen\, Loslassen und Auftanken ein. Wir teilen\, was uns stärkt und nehmen Ideen mit\, die uns guttun.\nDie rund zweistündige Wanderung entlang des Themenweges „Lebensader Taugl“ steht unter dem Motto „Ich finde meinen Weg zu meinen Kraftquellen“. Machen wir uns gemeinsam auf die Suche. Der Spaziergang ist ein offenes Angebot für alle Frauen\, die sich eine Pause gönnen möchten. Die Veranstaltung findet bei jedem Wetter statt. Denken Sie bitte an wetterfeste Kleidung und passende Schuhe.
URL:https://www.femvents.at/event/frauenspaziergang-tauglgries/
LOCATION:Salzburg\, Aigner Straße 78\, 5026 Salzburg-Aigen\, Salzburg\, Salzburg\, 5026
CATEGORIES:Meetup,Salzburg
ATTACH;FMTTYPE=image/jpeg:https://www.femvents.at/wp-content/uploads/2026/04/frau-arbeit.jpeg
ORGANIZER;CN="Frau &amp%3B Arbeit":MAILTO:b.karl@frau-und-arbeit.at
GEO:47.516231;14.550072
X-APPLE-STRUCTURED-LOCATION;VALUE=URI;X-ADDRESS=Salzburg Aigner Straße 78 5026 Salzburg-Aigen Salzburg Salzburg 5026;X-APPLE-RADIUS=500;X-TITLE=Aigner Straße 78\, 5026 Salzburg-Aigen:geo:14.550072,47.516231
END:VEVENT
BEGIN:VEVENT
DTSTART;TZID=Europe/Vienna:20260508T160000
DTEND;TZID=Europe/Vienna:20260508T193000
DTSTAMP:20260419T204705
CREATED:20260415T092854Z
LAST-MODIFIED:20260415T092854Z
UID:10001111-1778256000-1778268600@www.femvents.at
SUMMARY:Zeig dich. Echt. – Workshop für selbstständige Frauen\, die sichtbar werden wollen
DESCRIPTION:Ein transformierender Raum für selbstständige Frauen\, die aufhören wollen\, sich zurückzuhalten und lernen möchten\, sich mit echter Präsenz\, natürlicher Ausstrahlung und innerer Sicherheit sichtbar zu zeigen.\n\n\n\n\n\n\n\n\n\nViele selbstständige Frauen wissen\, dass mehr in ihnen steckt und trotzdem halten sie sich zurück\, sobald es darum geht\, sich wirklich zu zeigen. \nSie zerdenken ihre Sichtbarkeit\, verstecken sich hinter Perfektion oder machen sich kleiner\, als sie eigentlich sind. \n„Zeig dich. Echt.“ ist ein intensiver Workshop für selbstständige Frauen\, die ihre Sichtbarkeitsblockaden erkennen und auflösen möchten\, um sich künftig authentisch\, präsent und magnetisch zu zeigen. \nDabei arbeiten wir in einem bewusst kleinen und vertrauensvollen Rahmen mit maximal 6 Teilnehmerinnen\, damit echte Tiefe\, individuelle Begleitung und persönliche Transformation möglich werden. \nSo arbeiten wir:\n\nmit EPT-Klopftechnik\, um emotionale Blockaden rund um Sichtbarkeit und Selbstzweifel zu lösen\nmit Human Design\, um deine natürliche Wirkung und deine individuell magnetischste Form von Sichtbarkeit zu erkennen\nmit verkörperter Präsenzarbeit\, damit du Sichtbarkeit nicht nur verstehst\, sondern fühlst und verkörperst\nmit gezielter Integration für danach\, damit du das Erlebte nachhaltig in deinen Alltag und deine Sichtbarkeit mitnehmen kannst\n\nDas erwartet dich außerdem:\n✨ Individuelle Impulse zu deinem Human Design Profil✨ Getränke & Snacks in liebevoller Atmosphäre✨ Ein exklusives Mini-Shooting vor Ort✨ 1 professionelles Portraitbild pro Teilnehmerin inklusive \nEin Abend voller Tiefe\, echter Begegnung und sichtbarer Transformation – für Frauen\, die bereit sind\, sich nicht länger zurückzuhalten. \n\nFür wen ist der Workshop geeignet?\nFür selbstständige Frauen\, Coaches\, Beraterinnen\, Kreative und Unternehmerinnen\, die sichtbarer werden möchten\, sich aber innerlich noch zurückhalten. \n\nLocation\nHerz an Herz Atelier\, Obertrum \n\nPreis\n150 € inkl. Snacks\, Getränke\, Mini Shooting & 1 Bild \n\nBuchung\nSichere dir jetzt deinen Platz – aufgrund des exklusiven Rahmens stehen nur 6 Plätze zur Verfügung.\nAnmeldung unter: 0676 4648046 oder kontakt@birgitschulz.at
URL:https://www.femvents.at/event/zeig-dich-echt-workshop-fuer-selbststaendige-frauen-die-sichtbar-werden-wollen/
LOCATION:Herz an Herz Atelier\, Hauptstraße 4\, 5162 Obertrum am See\, Hauptstraße 4\, 5162 Obertrum am See\, Salzburg\, 5162\, Austria
CATEGORIES:Fortbildung,Karriere,Persönlichkeitsentwicklung,Salzburg,Unternehmerinnen,Workshop
ATTACH;FMTTYPE=image/png:https://www.femvents.at/wp-content/uploads/2026/04/Flyer_Zeig-dich-Echt_final.png
ORGANIZER;CN="Birgit Schulz":MAILTO:kontakt@birgitschulz.at
GEO:47.9373779;13.0745256
X-APPLE-STRUCTURED-LOCATION;VALUE=URI;X-ADDRESS=Herz an Herz Atelier Hauptstraße 4 5162 Obertrum am See Hauptstraße 4 5162 Obertrum am See Salzburg 5162 Austria;X-APPLE-RADIUS=500;X-TITLE=Hauptstraße 4:geo:13.0745256,47.9373779
END:VEVENT
BEGIN:VEVENT
DTSTART;TZID=Europe/Vienna:20260508T163000
DTEND;TZID=Europe/Vienna:20260508T183000
DTSTAMP:20260419T204705
CREATED:20260410T091645Z
LAST-MODIFIED:20260410T091657Z
UID:10001063-1778257800-1778265000@www.femvents.at
SUMMARY:Frauenkräuter - Kräuterwanderung am Buschberg
DESCRIPTION:Frauenkräuter – Kraft aus der Natur für jede Lebensphase \nFrauenkräuter begleiten uns seit jeher – sanft\, stärkend und unterstützend. Bei diesem gemeinsamen Streifzug durch die Natur entdecken wir Pflanzen\, die speziell auf die Bedürfnisse des weiblichen Körpers eingehen. \nWir lernen\, wie Frauenkräuter in verschiedenen Lebensphasen wirken können. \nGemeinsam erkennen wir sie in der Natur\, erfahren mehr über ihre Anwendung und wie sie unser körperliches und seelisches Wohlbefinden stärken können. \nTreffpunkt: Parkplatz Buschberg \n 
URL:https://www.femvents.at/event/frauenkraeuter-kraeuterwanderung-am-buschberg/
LOCATION:Gnadendorf\, Niederösterreich\, Austria
CATEGORIES:Meetup,Niederösterreich
ATTACH;FMTTYPE=image/png:https://www.femvents.at/wp-content/uploads/2026/04/femventsBild.png
GEO:48.108077;15.8049558
END:VEVENT
END:VCALENDAR