BEGIN:VCALENDAR
VERSION:2.0
PRODID:-//femvents.at - ECPv6.15.18//NONSGML v1.0//EN
CALSCALE:GREGORIAN
METHOD:PUBLISH
X-ORIGINAL-URL:https://www.femvents.at
X-WR-CALDESC:Veranstaltungen für femvents.at
REFRESH-INTERVAL;VALUE=DURATION:PT1H
X-Robots-Tag:noindex
X-PUBLISHED-TTL:PT1H
BEGIN:VTIMEZONE
TZID:Europe/Vienna
BEGIN:DAYLIGHT
TZOFFSETFROM:+0100
TZOFFSETTO:+0200
TZNAME:CEST
DTSTART:20250330T010000
END:DAYLIGHT
BEGIN:STANDARD
TZOFFSETFROM:+0200
TZOFFSETTO:+0100
TZNAME:CET
DTSTART:20251026T010000
END:STANDARD
BEGIN:DAYLIGHT
TZOFFSETFROM:+0100
TZOFFSETTO:+0200
TZNAME:CEST
DTSTART:20260329T010000
END:DAYLIGHT
BEGIN:STANDARD
TZOFFSETFROM:+0200
TZOFFSETTO:+0100
TZNAME:CET
DTSTART:20261025T010000
END:STANDARD
BEGIN:DAYLIGHT
TZOFFSETFROM:+0100
TZOFFSETTO:+0200
TZNAME:CEST
DTSTART:20270328T010000
END:DAYLIGHT
BEGIN:STANDARD
TZOFFSETFROM:+0200
TZOFFSETTO:+0100
TZNAME:CET
DTSTART:20271031T010000
END:STANDARD
END:VTIMEZONE
BEGIN:VEVENT
DTSTART;TZID=Europe/Vienna:20260509T090000
DTEND;TZID=Europe/Vienna:20260509T110000
DTSTAMP:20260419T224449
CREATED:20260419T092449Z
LAST-MODIFIED:20260419T100948Z
UID:10001143-1778317200-1778324400@www.femvents.at
SUMMARY:NÖ/ Baden  LLL LEBENSFREUDE Frauentreff mit LLL-Botschafterin Helga Gumpinger
DESCRIPTION:🌸✨ Hallo ihr wundervollen Frauen ✨🌸 \n🌼 Lust\, einfach mal rauszukommen?\n🌸 Lachen\, plaudern\, durchatmen & neue Energie tanken?\nDann komm zu unserem LLL-LEBENSFREUDE TREFF 💚🧡🩷 \nEin Ort für echte Begegnungen\, ehrliche Gespräche und diese kleinen Herzensmomente\, die so unglaublich gut tun 💫\n🌷 Egal ob du ganz neu bist oder schon öfter dabei warst –\n🧁 komm genauso\, wie du bist!\nHier ist Platz für dich\, dein Lächeln und alles\, was dich gerade bewegt 🫶\n💃 Wir freuen uns riesig auf dich! 💕 \nBitte Platzreservierung 🤗\ninfo@vereinlebenliebenlachen.at
URL:https://www.femvents.at/event/noe-baden-lll-lebensfreude-frauentreff-mit-lll-botschafterin-helga-gumpinger-3/
LOCATION:Cafe Clementine\, Kaiser Franz-Ring 12\, Baden\, 2500
CATEGORIES:Burgenland,LLL
ATTACH;FMTTYPE=image/jpeg:https://www.femvents.at/wp-content/uploads/2026/04/Helga-Baden-3UPyOo.jpg
ORGANIZER;CN="LEBEN%2C LIEBEN%2C LACHEN &#8211%3B endlich wei%C3%9F ich wie!":MAILTO:info@vereinlebenliebenlachen.at
GEO:48.0097754;16.2340284
X-APPLE-STRUCTURED-LOCATION;VALUE=URI;X-ADDRESS=Cafe Clementine Kaiser Franz-Ring 12 Baden 2500;X-APPLE-RADIUS=500;X-TITLE=Kaiser Franz-Ring 12:geo:16.2340284,48.0097754
END:VEVENT
BEGIN:VEVENT
DTSTART;TZID=Europe/Vienna:20260509T100000
DTEND;TZID=Europe/Vienna:20260509T104500
DTSTAMP:20260419T224449
CREATED:20260407T062212Z
LAST-MODIFIED:20260419T100948Z
UID:10001022-1778320800-1778323500@www.femvents.at
SUMMARY:NÖ/ Baden  LLL- Frauen Nordic Walking mit LLL-Botschafterin Zehra Dzanic-Dorninger
DESCRIPTION:Nordic Walking in deinem Rhythmus mit der Natur \nWir wärmen uns kurz mit leichten Dehnungs- und Koordinationsübungen auf und \ngehen danach ca. 45 Minuten eine Runde durch den Kurpark die für alle passt.\nEs sind keine Vorkenntnisse notwendig.\nNordic Walking Sticks bitte mitnehmen.\nAlle Übungen und Nordic Walking Tempo wird individuell angepasst.  \nSo können wir uns gegenseitig stärken\, tanken Energie und leisten so einen wertvollen Beitrag zu unserer Genesung und Gesundheit!  \nBitte komm‘ pünktlich – wir warten 5 Minuten\, dann geht’s los!  \nBei jedem Wetter – außer starkem Regen oder Gewitter!\nSei auch Du dabei!  \nAnmeldung unter\nInfo@vereinlebenliebenlachen.at \noder\neinfach spontan vorbeikommen.  \nDer Kurpark kann ganzjährig bei freiem Eintritt besucht werden. \n(keine Öffnungszeiten) \n 
URL:https://www.femvents.at/event/noe-baden-lll-frauen-nordic-walking-mit-lll-botschafterin-zehra-dzanic-dorninger/
LOCATION:Eingang Kurpark\, Kaiser Franz-Ring\, Baden\, 2500
CATEGORIES:Burgenland,LLL
ATTACH;FMTTYPE=image/jpeg:https://www.femvents.at/wp-content/uploads/2026/04/Zehra-xJEES4.jpg
ORGANIZER;CN="LEBEN%2C LIEBEN%2C LACHEN &#8211%3B endlich wei%C3%9F ich wie!":MAILTO:info@vereinlebenliebenlachen.at
GEO:48.0102379;16.237873
X-APPLE-STRUCTURED-LOCATION;VALUE=URI;X-ADDRESS=Eingang Kurpark Kaiser Franz-Ring Baden 2500;X-APPLE-RADIUS=500;X-TITLE=Kaiser Franz-Ring:geo:16.237873,48.0102379
END:VEVENT
BEGIN:VEVENT
DTSTART;TZID=Europe/Vienna:20260509T100000
DTEND;TZID=Europe/Vienna:20260509T120000
DTSTAMP:20260419T224449
CREATED:20260407T062212Z
LAST-MODIFIED:20260419T100948Z
UID:10001021-1778320800-1778328000@www.femvents.at
SUMMARY:Stmk./ St. Margarethen a.d.Raab   LLL LEBENSFREUDE Frauentreff mit LLL-Botschafterin Margit Baumkirchner
DESCRIPTION:🌸✨ Hallo ihr wundervollen Frauen ✨🌸 \n🌼 Lust\, einfach mal rauszukommen?\n🌸 Lachen\, plaudern\, durchatmen & neue Energie tanken?\nDann komm zu unserem LLL-LEBENSFREUDE TREFF 💚🧡🩷 \nEin Ort für echte Begegnungen\, ehrliche Gespräche und diese kleinen Herzensmomente\, die so unglaublich gut tun 💫\n🌷 Egal ob du ganz neu bist oder schon öfter dabei warst –\n🧁 komm genauso\, wie du bist!\nHier ist Platz für dich\, dein Lächeln und alles\, was dich gerade bewegt 🫶\n💃 Wir freuen uns riesig auf dich! 💕 \nBitte Platzreservierung 🤗\ninfo@vereinlebenliebenlachen.at
URL:https://www.femvents.at/event/stmk-st-margarethen-a-d-raab-lll-lebensfreude-frauentreff-mit-lll-botschafterin-margit-baumkirchner/
LOCATION:Hartis Kabarett Cafe\, St.Margarethen a.d.Raab\, Steirmark\, 8321
CATEGORIES:Burgenland,LLL
ATTACH;FMTTYPE=image/jpeg:https://www.femvents.at/wp-content/uploads/2026/04/Steirmark-Vpmha0.jpg
ORGANIZER;CN="LEBEN%2C LIEBEN%2C LACHEN &#8211%3B endlich wei%C3%9F ich wie!":MAILTO:info@vereinlebenliebenlachen.at
GEO:47.048236;15.7356903
END:VEVENT
BEGIN:VEVENT
DTSTART;TZID=Europe/Vienna:20260509T130000
DTEND;TZID=Europe/Vienna:20260509T153000
DTSTAMP:20260419T224449
CREATED:20260417T081450Z
LAST-MODIFIED:20260417T081450Z
UID:10001133-1778331600-1778340600@www.femvents.at
SUMMARY:Perimenopause Self-Care Event
DESCRIPTION:Sei dabei beim Perimenopause Self-Care Event!\nBist du über 35 und spürst ungewöhnliche Veränderungen in deinem Körper? Gehirnnebel\, Schlafstörungen\, Stimmungsschwankungen\, Erschöpfung\, Gewichtszunahme!? \nBei unserem Perimenopause Self-Care Event lernst Du viele tolle Selbstfürsorge-Tipps für diese herausfordernde Zeit in entspannter Atmosphäre. Das Event beinhaltet einen Vortrag von Andrea Weber mit nützlichen Tipps und ein Handout\, gefolgt von einer kräftigenden Pilates-Sculpt-Session mit CHIAform Studiobesitzerin Chichi. \nZum Abschluss verkosten wir einen frischen veganen Muskel Porridge und einen Power-Woman-Smoothie. Außerdem erhältst du eine Goodie-Bag mit Produktproben von xbyx – Women in Balance\, Sonnentor\, Dr. Vivien Karl\, der Kräuterdrogerie Wien\, sowie Tipps To-Go für einen entspannten Umgang mit den Wechseljahren. \nDer Workshop findet in deutscher Sprache statt. \nOrt: CHIYAform\, Schönborngasse 10\, 1080 Wien \nKosten: 45\,- €
URL:https://www.femvents.at/event/perimenopause-self-care-event/
LOCATION:CHIYA Form\, Schönborngasse 10\, Wien\, Wien\, 1080\, Austria
CATEGORIES:Frauenkreis,Gesundheit,Vortrag,Wechseljahre,Wien
ATTACH;FMTTYPE=image/png:https://www.femvents.at/wp-content/uploads/2026/04/1.png
GEO:48.2109769;16.3472976
X-APPLE-STRUCTURED-LOCATION;VALUE=URI;X-ADDRESS=CHIYA Form Schönborngasse 10 Wien Wien 1080 Austria;X-APPLE-RADIUS=500;X-TITLE=Schönborngasse 10:geo:16.3472976,48.2109769
END:VEVENT
END:VCALENDAR