BEGIN:VCALENDAR
VERSION:2.0
PRODID:-//femvents.at - ECPv6.15.18//NONSGML v1.0//EN
CALSCALE:GREGORIAN
METHOD:PUBLISH
X-ORIGINAL-URL:https://www.femvents.at
X-WR-CALDESC:Veranstaltungen für femvents.at
REFRESH-INTERVAL;VALUE=DURATION:PT1H
X-Robots-Tag:noindex
X-PUBLISHED-TTL:PT1H
BEGIN:VTIMEZONE
TZID:Europe/Vienna
BEGIN:DAYLIGHT
TZOFFSETFROM:+0100
TZOFFSETTO:+0200
TZNAME:CEST
DTSTART:20250330T010000
END:DAYLIGHT
BEGIN:STANDARD
TZOFFSETFROM:+0200
TZOFFSETTO:+0100
TZNAME:CET
DTSTART:20251026T010000
END:STANDARD
BEGIN:DAYLIGHT
TZOFFSETFROM:+0100
TZOFFSETTO:+0200
TZNAME:CEST
DTSTART:20260329T010000
END:DAYLIGHT
BEGIN:STANDARD
TZOFFSETFROM:+0200
TZOFFSETTO:+0100
TZNAME:CET
DTSTART:20261025T010000
END:STANDARD
BEGIN:DAYLIGHT
TZOFFSETFROM:+0100
TZOFFSETTO:+0200
TZNAME:CEST
DTSTART:20270328T010000
END:DAYLIGHT
BEGIN:STANDARD
TZOFFSETFROM:+0200
TZOFFSETTO:+0100
TZNAME:CET
DTSTART:20271031T010000
END:STANDARD
END:VTIMEZONE
BEGIN:VEVENT
DTSTART;TZID=Europe/Vienna:20260517T093000
DTEND;TZID=Europe/Vienna:20260517T123000
DTSTAMP:20260420T003817
CREATED:20260417T094915Z
LAST-MODIFIED:20260417T094915Z
UID:10001138-1779010200-1779021000@www.femvents.at
SUMMARY:🌿 𝐅𝐫𝐚𝐮𝐞𝐧 𝐀𝐮𝐬𝐳𝐞𝐢𝐭 | 𝐌𝐢𝐧𝐢 𝐑𝐞𝐭𝐫𝐞𝐚𝐭 𝐟𝐮̈𝐫 𝐅𝐫𝐚𝐮𝐞𝐧
DESCRIPTION:🌿 𝐅𝐫𝐚𝐮𝐞𝐧 𝐀𝐮𝐬𝐳𝐞𝐢𝐭 | 𝐌𝐢𝐧𝐢 𝐑𝐞𝐭𝐫𝐞𝐚𝐭 𝐟𝐮̈𝐫 𝐅𝐫𝐚𝐮𝐞𝐧 \nDu funktionierst.\nDu gibst viel.\nDu hältst alles zusammen. \nUnd vielleicht spürst du irgendwo in dir\, dass dein Körper nicht mehr nur „ein bisschen müde“ ist —\nsondern 𝐮̈𝐛𝐞𝐫𝐥𝐚𝐬𝐭𝐞𝐭. \nNicht vom Leben.\nSondern vom ständigen „𝐚𝐮𝐟 𝐄𝐦𝐩𝐟𝐚𝐧𝐠 𝐬𝐞𝐢𝐧“. \nDiese Frauen Auszeit ist kein weiteres Event zum Abhaken im Kalender.\nSie ist ein 𝐛𝐞𝐰𝐮𝐬𝐬𝐭𝐞𝐫 𝐒𝐓𝐎𝐏. \nEin Raum\, in dem du 𝐧𝐢𝐜𝐡𝐭𝐬 𝐛𝐞𝐰𝐞𝐢𝐬𝐞𝐧 𝐦𝐮𝐬𝐬𝐭.\nNicht „funktionieren“ musst.\nNichts wissen oder können musst. \n𝐄𝐢𝐧𝐟𝐚𝐜𝐡 𝐝𝐮. 𝐃𝐞𝐢𝐧 𝐊𝐨̈𝐫𝐩𝐞𝐫. 𝐃𝐞𝐢𝐧 𝐀𝐭𝐞𝐦. \nWir kommen raus aus dem Kopf —\nund zurück in den Körper und das Nervensystem. \nSanfte Praxis. Bewegung. 𝐄𝐧𝐭𝐥𝐚𝐝𝐮𝐧𝐠 𝐯𝐨𝐧 𝐒𝐩𝐚𝐧𝐧𝐮𝐧𝐠.\nUnd danach Stille\, die wirklich regeneriert. \n🤍 Für Frauen\, die wieder 𝐛𝐞𝐢 𝐬𝐢𝐜𝐡 𝐚𝐧𝐤𝐨𝐦𝐦𝐞𝐧 wollen\n🤍 Für Frauen\, die spüren: „So wie es ist\, geht es nicht weiter“\n🤍 Für Frauen\, die keine neuen Infos brauchen — 𝐬𝐨𝐧𝐝𝐞𝐫𝐧 𝐄𝐫𝐥𝐞𝐢𝐜𝐡𝐭𝐞𝐫𝐮𝐧𝐠 \nWenn du spürst\, dass das für dich ist —\nschreib mir eine Nachricht und 𝐫𝐞𝐬𝐞𝐫𝐯𝐢𝐞𝐫𝐞 𝐝𝐞𝐢𝐧𝐞𝐧 𝐏𝐥𝐚𝐭𝐳 🤍
URL:https://www.femvents.at/event/%f0%9f%8c%bf-%f0%9d%90%85%f0%9d%90%ab%f0%9d%90%9a%f0%9d%90%ae%f0%9d%90%9e%f0%9d%90%a7-%f0%9d%90%80%f0%9d%90%ae%f0%9d%90%ac%f0%9d%90%b3%f0%9d%90%9e%f0%9d%90%a2%f0%9d%90%ad-%f0%9d%90%8c%f0%9d%90%a2/
LOCATION:Kundalini Yoga mit Agata\, Pragerstraße 14\, Stockerau\, Niederösterreich\, 2000\, Austria
CATEGORIES:Niederösterreich,Retreat
ATTACH;FMTTYPE=image/png:https://www.femvents.at/wp-content/uploads/2026/04/Frauen-Auszeit-–-Sonntag-Morgen-Reset-Yoga-Atem-Meditation-Klang-Gespraechskreis-2.png
GEO:48.3886902;16.1962724
X-APPLE-STRUCTURED-LOCATION;VALUE=URI;X-ADDRESS=Kundalini Yoga mit Agata Pragerstraße 14 Stockerau Niederösterreich 2000 Austria;X-APPLE-RADIUS=500;X-TITLE=Pragerstraße 14:geo:16.1962724,48.3886902
END:VEVENT
BEGIN:VEVENT
DTSTART;TZID=Europe/Vienna:20260517T150000
DTEND;TZID=Europe/Vienna:20260517T154000
DTSTAMP:20260420T003817
CREATED:20260407T062212Z
LAST-MODIFIED:20260419T100949Z
UID:10001028-1779030000-1779032400@www.femvents.at
SUMMARY:Bgld./Wimpassing  LLL- Frauen Schnatterschritte  *LEICHT* mit LLL-Botschafterin Sabine Willmann
DESCRIPTION:Die „LLL-Schnatterschritte LEICHT“\, gedacht für diejenigen unter euch\, die sich gerne bewegen möchten\, aber (noch) keine langen Spaziergänge machen können – sei es nach einer Krankheit\, nach einer Operation oder weil man sich alleine einfach nicht so traut. \nWir gehen gemeinsam ganz entspannt und langsam eine kleine Runde um den See (1\,5 km) „schnattern“ ein bisschen\, genießen \ndie Natur und die frische Luft.  \nSo können wir uns gegenseitig stärken\, tanken Energie und leisten so einen wertvollen Beitrag zu unserer Genesung und Gesundheit!  \nSei auch Du dabei! \nNimm‘ gerne Deine Walkingstöcke mit!  \nDauer: 30 – max. 40 Minuten  \nAnmeldung unter\nInfo@vereinlebenliebenlachen.at \noder\neinfach spontan vorbeikommen.  \nBitte komm‘ pünktlich – wir warten 5 Minuten\, dann geht’s los!  \nBei jedem Wetter – außer Starkregen oder Gewitter!
URL:https://www.femvents.at/event/bgld-wimpassing-lll-frauen-schnatterschritte-leicht-mit-lll-botschafterin-sabine-willmann-5/
LOCATION:Treffpunkt: Am unteren Parkplatz Nr. 2 des Ziegelwerk Gasthaus\, Ziegelofengasse 28\, Wimpassing\, Burgenland
CATEGORIES:Burgenland,LLL
ATTACH;FMTTYPE=image/jpeg:https://www.femvents.at/wp-content/uploads/2026/04/Schnatterschritte-Wimpassing-Logo-qUA8XO.jpg
ORGANIZER;CN="LEBEN%2C LIEBEN%2C LACHEN &#8211%3B endlich wei%C3%9F ich wie!":MAILTO:info@vereinlebenliebenlachen.at
GEO:47.9150551;16.4304338
X-APPLE-STRUCTURED-LOCATION;VALUE=URI;X-ADDRESS=Treffpunkt: Am unteren Parkplatz Nr. 2 des Ziegelwerk Gasthaus Ziegelofengasse 28 Wimpassing Burgenland;X-APPLE-RADIUS=500;X-TITLE=Ziegelofengasse 28:geo:16.4304338,47.9150551
END:VEVENT
BEGIN:VEVENT
DTSTART;TZID=Europe/Vienna:20260517T160000
DTEND;TZID=Europe/Vienna:20260517T173000
DTSTAMP:20260420T003817
CREATED:20260407T062212Z
LAST-MODIFIED:20260419T100949Z
UID:10001029-1779033600-1779039000@www.femvents.at
SUMMARY:Bgld./Wimpassing  LLL- Frauen Schnatterschritte mit LLL-Botschafterin Sabine Willmann
DESCRIPTION:Bei unseren LLL-Schnatterschritten verbinden wir Bewegung mit inspirierenden Gesprächen. \nBei unserem Spaziergang\, gerne mit Walkingstöcke oder Walkingringe\, tauschen wir uns über verschiedenste Themen aus\, genießen die Natur und tanken frische Energie voller LEBEN\, LIEBEN\,LACHEN \nDauer: 60 – max. 90 Minuten \nSei auch Du dabei! \nAnmeldung bitte unter\ninfo@vereinlebenliebenlachen.at \noder \neinfach spontan vorbeikommen!  \nBitte komm‘ pünktlich\, wir warten 5 Minuten\, dann geht’s los!  \nBei jedem Wetter – außer Starkregen oder Gewitter! 
URL:https://www.femvents.at/event/bgld-wimpassing-lll-frauen-schnatterschritte-mit-lll-botschafterin-sabine-willmann-4/
LOCATION:Treffpunkt: Am unteren Parkplatz Nr. 2 des Ziegelwerk Gasthaus\, Ziegelofengasse 28\, Wimpassing\, Burgenland
CATEGORIES:Burgenland,LLL
ATTACH;FMTTYPE=image/jpeg:https://www.femvents.at/wp-content/uploads/2026/04/Schnatterschritte-Wimpassing-Logo-qUA8XO.jpg
ORGANIZER;CN="LEBEN%2C LIEBEN%2C LACHEN &#8211%3B endlich wei%C3%9F ich wie!":MAILTO:info@vereinlebenliebenlachen.at
GEO:47.9150551;16.4304338
X-APPLE-STRUCTURED-LOCATION;VALUE=URI;X-ADDRESS=Treffpunkt: Am unteren Parkplatz Nr. 2 des Ziegelwerk Gasthaus Ziegelofengasse 28 Wimpassing Burgenland;X-APPLE-RADIUS=500;X-TITLE=Ziegelofengasse 28:geo:16.4304338,47.9150551
END:VEVENT
END:VCALENDAR