BEGIN:VCALENDAR
VERSION:2.0
PRODID:-//femvents.at - ECPv6.15.18//NONSGML v1.0//EN
CALSCALE:GREGORIAN
METHOD:PUBLISH
X-ORIGINAL-URL:https://www.femvents.at
X-WR-CALDESC:Veranstaltungen für femvents.at
REFRESH-INTERVAL;VALUE=DURATION:PT1H
X-Robots-Tag:noindex
X-PUBLISHED-TTL:PT1H
BEGIN:VTIMEZONE
TZID:Europe/Vienna
BEGIN:DAYLIGHT
TZOFFSETFROM:+0100
TZOFFSETTO:+0200
TZNAME:CEST
DTSTART:20250330T010000
END:DAYLIGHT
BEGIN:STANDARD
TZOFFSETFROM:+0200
TZOFFSETTO:+0100
TZNAME:CET
DTSTART:20251026T010000
END:STANDARD
BEGIN:DAYLIGHT
TZOFFSETFROM:+0100
TZOFFSETTO:+0200
TZNAME:CEST
DTSTART:20260329T010000
END:DAYLIGHT
BEGIN:STANDARD
TZOFFSETFROM:+0200
TZOFFSETTO:+0100
TZNAME:CET
DTSTART:20261025T010000
END:STANDARD
BEGIN:DAYLIGHT
TZOFFSETFROM:+0100
TZOFFSETTO:+0200
TZNAME:CEST
DTSTART:20270328T010000
END:DAYLIGHT
BEGIN:STANDARD
TZOFFSETFROM:+0200
TZOFFSETTO:+0100
TZNAME:CET
DTSTART:20271031T010000
END:STANDARD
END:VTIMEZONE
BEGIN:VTIMEZONE
TZID:Europe/Berlin
BEGIN:DAYLIGHT
TZOFFSETFROM:+0100
TZOFFSETTO:+0200
TZNAME:CEST
DTSTART:20250330T010000
END:DAYLIGHT
BEGIN:STANDARD
TZOFFSETFROM:+0200
TZOFFSETTO:+0100
TZNAME:CET
DTSTART:20251026T010000
END:STANDARD
BEGIN:DAYLIGHT
TZOFFSETFROM:+0100
TZOFFSETTO:+0200
TZNAME:CEST
DTSTART:20260329T010000
END:DAYLIGHT
BEGIN:STANDARD
TZOFFSETFROM:+0200
TZOFFSETTO:+0100
TZNAME:CET
DTSTART:20261025T010000
END:STANDARD
BEGIN:DAYLIGHT
TZOFFSETFROM:+0100
TZOFFSETTO:+0200
TZNAME:CEST
DTSTART:20270328T010000
END:DAYLIGHT
BEGIN:STANDARD
TZOFFSETFROM:+0200
TZOFFSETTO:+0100
TZNAME:CET
DTSTART:20271031T010000
END:STANDARD
END:VTIMEZONE
BEGIN:VEVENT
DTSTART;TZID=Europe/Vienna:20260518T100000
DTEND;TZID=Europe/Vienna:20260518T113000
DTSTAMP:20260419T224621
CREATED:20260416T092458Z
LAST-MODIFIED:20260419T100949Z
UID:10001130-1779098400-1779103800@www.femvents.at
SUMMARY:NÖ/Wr. Neustadt   LLL- Frauen Nordic Walking mit LLL-Botschafterin Mehtap Elitas-Sevindik
DESCRIPTION:Nordic Walking in deinem Rhythmus mit der Natur \nGemeinsam dehnen\, auflockern\, losmarschieren und wieder runter kommen.  \nSo können wir uns gegenseitig stärken\, tanken Energie und leisten so einen wertvollen Beitrag zu unserer Genesung und Gesundheit!  \nBitte komm‘ pünktlich – wir warten 5 Minuten\, dann geht’s los!  \nBei jedem Wetter – außer starkem Regen oder Gewitter!\nSei auch Du dabei!  \nAnmeldung unter:\nInfo@vereinlebenliebenlachen.at \noder\neinfach spontan vorbeikommen \n \nTreffpunkt roter Punkt \, Parkmöglichkeiten:  Hofer Parkplatz  \n  \n  \n 
URL:https://www.femvents.at/event/noe-wr-neustadt-lll-frauen-nordic-walking-mit-lll-botschafterin-mehtap-elitas-sevindik-2/
LOCATION:Milak Wr.Neustadt\, Burgplatz 1\, Wr. Neustadt\, Niederösterreich\, 2700
CATEGORIES:Burgenland,LLL
ATTACH;FMTTYPE=image/jpeg:https://www.femvents.at/wp-content/uploads/2026/04/Waldbaden-n41GJO.jpg
ORGANIZER;CN="LEBEN%2C LIEBEN%2C LACHEN &#8211%3B endlich wei%C3%9F ich wie!":MAILTO:info@vereinlebenliebenlachen.at
GEO:47.8019748;16.2426907
X-APPLE-STRUCTURED-LOCATION;VALUE=URI;X-ADDRESS=Milak Wr.Neustadt Burgplatz 1 Wr. Neustadt Niederösterreich 2700;X-APPLE-RADIUS=500;X-TITLE=Burgplatz 1:geo:16.2426907,47.8019748
END:VEVENT
BEGIN:VEVENT
DTSTART;TZID=Europe/Vienna:20260518T170000
DTEND;TZID=Europe/Vienna:20260518T180000
DTSTAMP:20260419T224621
CREATED:20260316T163134Z
LAST-MODIFIED:20260316T163134Z
UID:10000927-1779123600-1779127200@www.femvents.at
SUMMARY:„Schlauer als die Crowd – KI als strategischer Vorteil“ mit Julia Peglow & Jörg Müller (THE SKILL)
DESCRIPTION:Seid dabei bei der Webinar-Serie Career Sessions. Inhaltlich gehen wir auf wichtige Themen für die Karriere von Frauen ein. Die Career Session am Montag\, 18. Mai um 17:00 findet mit Brand-Strategin Julia Peglow und KI-Experte Jörg Müller zum Thema „Schlauer als die Crowd. KI als strategischer Vorteil für Frauen in Führung“ statt. \nDu kennst das Game: Lange galt\, was der lauteste oder bestbezahlte Mann im Raum als „richtig“ ansah (HiPPO – Highest paid person’s opinion). Verrückt\, wie viele Business-Entscheidungen auf Bauchgefühl\, Gepoltere und nie hinterfragten Glaubenssätzen beruhen. KI verändert dieses Spielfeld gerade grundlegend. Und zum Vorteil derer\, die wissen wie. \nZum Inhalt:\nKI verschiebt den Vorteil weg von physischer und akustischer Dominanz – hin zu strategischer Intelligenz. Zum ersten Mal ist es möglich\, alleine in zwei Stunden tiefer in ein Thema einzutauchen als früher ein ganzes Research-Team in zwei Wochen. Aus hunderten Seiten Projektmaterial in Sekunden die entscheidenden Muster zu erkennen. Sich einen strategischen Sparringpartner zu konstruieren\, der nie müde wird\, immer kritisch nachfragt – und dessen einzige Agenda ist\, dein Denken zu schärfen. \nFür Frauen in Führung ist strategische KI-Nutzung kein Nice-to-have. Sie ist der entscheidende Wettbewerbsvorteil. Julia und Jörg zeigen in dieser Session\, wie du mit gezielten Methoden – Deep Research\, Knowledge Base und Strategic Advisor – einen echten\, belastbaren Wettbewerbsvorteil aufbaust. Einen\, der auf Evidenz und Fakten basiert\, nicht auf Bauchgefühl oder Lautstärke. \nDas erwartet euch:\n\nDeep Research mit KI: Tiefer recherchieren für echte Market Intelligence – systematisch\, nicht zufällig\nKnowledge Base: KI\, die mit jedem Dokument\, jedem Meeting\, jeder Entscheidung kontextreicher und nützlicher wird\nStrategic Advisor: KI nicht als Antwortmaschine\, sondern als Denkpartnerin\, die kritisch nachfragt und hilft\, die richtigen Fragen zu stellen\nLive-Demo: Hands-on mit echten Tools und echten Projekten – kein PowerPoint-Theater\nHiPPO adé: Fang an\, mit daten- und evidenzbasiertem Arbeiten mit KI das Ende alter Machtmechanismen einzuläuten!\n\nDiese Session ist für alle\, die wissen\, dass KI einen echtes Strategie- und Denk-Upgrade mit sich bringt – und bereit sind\, ihr eigenes Denken und Arbeiten zu verändern. \nAnmeldung:\nEure erste Teilnahme im neuen Career Campus ist kostenlos – einfach bei der Buchung im Shop den Code sheconomy eingeben. Regulär kostet die Teilnahme an einer Career Session 29 €.\nDas Gratis-Ticket gilt auch dann\, wenn ihr euch bereits vor Februar 2026 zu einer anderen Career Session angemeldet hattet. Jetzt Ticket sichern. \nTipp: Mit dem sheconomy Community Abo um nur 99 € pro Jahr ist eure Teilnahme bei allen Career Sessions inkludiert – plus 4 x Printmagazin & E-Paper und she Event Fixplatz in AT oder DE. Jetzt Mitglied in der sheconomy Community werden. Community Member erhalten den Link zur Career Session automatisch am Tag des Events. \nZu den Referent*innen:\nJulia Peglow ist Gründerin & Partnerin von THE SKILL\, Strategic Advisory für Workflow Design und KI-gestützte Wissensarbeit. Nach ihrem Designstudium in Deutschland & England bringt Julia 25+ Jahre Erfahrung im Kreativ-Business als strategische Beraterin und Geschäftsführerin von Branding & UX-Agenturen mit\, für Kunden wie adidas\, BMW\, SAP\, MINI. W&V kürte Julia als „100 Köpfe people to watch“: In ihrem Buch „Wir Internetkinder“ (Verlag H. Schmidt)\, als Moderatorin von Europas größter Branding-Konferenz CXI und in ihren top-bewerteten Seminaren zu Brand Building und KI an Hochschulen und Academies in Wien\, München und Berlin bezeichnet sie kreatives Denken als den wichtigsten Skill auf dem Arbeitsmarkt der Zukunft. \nJörg Müller ist Gründer & Partner von THE SKILL. Jörg bringt 25+ Jahre Erfahrung in der digitalen Produktentwicklung mit: als Software-Entwickler\, Produkt-Manager\, Agile Coach und Innovation-Manager\, u.a. bei der ProSiebenSat.1 Media Gruppe. Seit Ende 2020 beschäftigt er sich intensiv mit generativer KI und Large Language Models. Als strategischer Berater\, Speaker und Dozent – u.a. für die Hochschule München\, Tomorrow Academy\, Bosch\, Burda und das Fraunhofer Institut – zeigt er\, wie KI Workflows\, Wissensarbeit und Wertschöpfung verändert.
URL:https://www.femvents.at/event/schlauer-als-die-crowd-ki-als-strategischer-vorteil-mit-julia-peglow-joerg-mueller-the-skill/
LOCATION:Online-Event\, Austria
CATEGORIES:Wien,Workshop
ATTACH;FMTTYPE=image/png:https://www.femvents.at/wp-content/uploads/2026/03/„Schlauer-als-die-Crowd-–-KI-als-strategischer-Vorteil-mit-Julia-Peglow-Joerg-Mueller-THE-SKILL.png
GEO:47.516231;14.550072
END:VEVENT
BEGIN:VEVENT
DTSTART;TZID=Europe/Vienna:20260518T183000
DTEND;TZID=Europe/Vienna:20260518T200000
DTSTAMP:20260419T224621
CREATED:20260407T062213Z
LAST-MODIFIED:20260419T100950Z
UID:10001044-1779129000-1779134400@www.femvents.at
SUMMARY:NÖ/Baden LLL – Treffpunkt Impuls Talk HUMAN DESIGN mit LLL-Botschafterinnen Renate Monsberger und Barbara Löw
DESCRIPTION:Ein Abend\, der dir zeigt\, warum wahre Gesundheit dort beginnt\, wo du aufhörst\, Symptome zu bekämpfen\, und endlich verstehst\, wie deine Energie wirklich fließen will. \nWenn dein Energiesystem blockiert\, meldet sich der Körper. Nicht als Fehler. Als Hinweis. \nWir führen dich ein in die Essenz deines Designs und zeigen dir\, wie du durch einfache\, präzise Human-Design-Impulse wieder in deinen natürlichen Energiefluss kommst\, raus aus der Symptombehandlung\, hinein zur Ursache.\nHuman Design ist keine Theorie. Es ist der Schlüssel\, der erklärt\, was dein Körper\, dein Nervensystem und deine Lebensenergie brauchen\, damit sich Lebensfreude\, Gesundheit und Klarheit wieder einstellen können. \nAnmeldung direkt bei den Veranstalterinnen\nRenate Monsberger\nrenate.monsberger@outlook.com\noder\nBarbara Löw\nberatung@barbaralion.com \nEine Veranstaltung in Netzwerkverbundenheit mit dem Verein\n„LEBEN\, LIEBEN\, LACHEN – Prävention mit Herz\, Verstand und Freude!“\nDie LLL – Treffpunkt  DER IMPULS TALK  zeigen\, wie primäre Prävention als Schlüssel zu einem erfüllten Leben wirkt.\nOb körperlich\, emotional\, sozial oder finanziell – wer frühzeitig vorsorgt\, schafft Raum für Lebensfreude\, Leichtigkeit und Selbstbestimmung.\nDie Reihe soll  inspirieren\, aktiv Schritte zu gehen\, die Gesundheit\, Sicherheit und Wohlbefinden langfristig fördern.
URL:https://www.femvents.at/event/noe-baden-lll-treffpunkt-impuls-talk-human-design-mit-lll-botschafterinnen-renate-monsberger-und-barbara-loew-2/
LOCATION:LEZ – Leesdorfer Event Zentrum\, Göschlgasse 1\, Baden\, 2500
CATEGORIES:Burgenland,LLL,LLL-PräventionsTreff
ATTACH;FMTTYPE=image/jpeg:https://www.femvents.at/wp-content/uploads/2026/03/Logo-Butah5.jpg
ORGANIZER;CN="Renate Monsberger":MAILTO:renate.monsberger@outlook.com
GEO:48.003221;16.2491114
X-APPLE-STRUCTURED-LOCATION;VALUE=URI;X-ADDRESS=LEZ – Leesdorfer Event Zentrum Göschlgasse 1 Baden 2500;X-APPLE-RADIUS=500;X-TITLE=Göschlgasse 1:geo:16.2491114,48.003221
END:VEVENT
BEGIN:VEVENT
DTSTART;TZID=Europe/Berlin:20260518T190000
DTEND;TZID=Europe/Berlin:20260518T210000
DTSTAMP:20260419T224621
CREATED:20260415T083852Z
LAST-MODIFIED:20260415T083852Z
UID:10001097-1779130800-1779138000@www.femvents.at
SUMMARY:Österreichs Sicherheit wächst nicht auf Beton | Dr. Kurt Weinberger
DESCRIPTION:Referent: Kurt Weinberger \nModeration: Maria Rauch-Kallat \n  \nEine informative Veranstaltung zum Thema Bodenversiegelung  \nin Kooperation mit der Österreichischen Hagelversicherung \n  \nSicherheit wird meist mit Landesverteidigung oder geopolitischer Stabilität verbunden. Doch eine wesentliche Grundlage unserer Zukunft liegt direkt unter unseren Füßen: der Boden. Äcker und Wiesen sichern die heimische Lebensmittelversorgung – und damit unsere Unabhängigkeit und nationale Sicherheit. \nWährend über Krisen\, Inflation und internationale Konflikte diskutiert wird\, geht in Österreich Tag für Tag wertvoller Boden durch Verbauung verloren. Gleichzeitig setzen Dürre\, Hagel\, Starkregen und andere Extremwetterereignisse die Landwirtschaft zunehmend unter Druck. Das ist kein Nebenschauplatz\, sondern eine Frage strategischer Vorsorge. \nDenn mit jeder verbauten Agrarfläche wächst die Abhängigkeit von Importen\, globalen Märkten und störanfälligen Lieferketten. Was im Inland nicht mehr produziert werden kann\, lässt sich im Ernstfall nicht beliebig ersetzen. Das zeigt aktuell die kriegerische Auseinandersetzung in der Straße von Hormus oder die seinerzeitige Blockade des Suez Kanals. \nWer heute fruchtbare Böden aufgibt\, schwächt morgen die Versorgungssicherheit. Ernährungssicherheit lässt sich nicht importieren und ist daher weit mehr als ein agrarpolitisches Thema – sie ist Teil nationaler Sicherheit. \nÖsterreich braucht einen klaren Kurs: weniger Bodenverbrauch\, mehr Schutz für Agrarflächen und das Bewusstsein\, dass Versorgungssicherheit nicht im Supermarkt beginnt\, sondern auf unseren Äckern und Wiesen. \nDenn von Beton kann niemand abbeißen. \n  \n\n  \nDr. Kurt Weinberger\, Generaldirektor Österreichische Hagelversicherung. Der gebürtige Oberösterreicher Kurt Weinberger studierte Agrarökonomik an der Universität für Bodenkultur Wien und später berufsbegleitend Rechtswissenschaften. Nach Tätigkeiten beim Land Oberösterreich und der EG-Kommission in Brüssel trat er 1993 in die Österreichische Hagelversicherung ein\, wurde 1996 Vorstandsmitglied und ist seit 2002 Generaldirektor. Das Unternehmen hat mittlerweile Niederlassungen in sechs osteuropäischen Ländern.  \nSeit rund 20 Jahren engagiert er sich für Klima- und Bodenschutz in Österreich. Er war vier Jahre Präsident der weltweiten Vereinigung der Agrarversicherer AIAG\, Vizepräsident des Aufsichtsrates der ÖBB-Holding\, Vorsitzender des Universitätsrates der BOKU Wien und ist Mitglied des Institutsrates des Hauses der Barmherzigkeit. \nFoto: © ÖHV
URL:https://www.femvents.at/event/oesterreichs-sicherheit-waechst-nicht-auf-beton-dr-kurt-weinberger/
LOCATION:Club alpha\, Stubenbastei 12/14\, Wien\, 1010\, Österreich
CATEGORIES:im Gespräch,Politik,Wien,Wirtschaft,Wissenschaft
ATTACH;FMTTYPE=image/webp:https://www.femvents.at/wp-content/uploads/2026/04/weinberger-fgm6E6.webp
ORGANIZER;CN="Club alpha":MAILTO:clubalpha@clubalpha.at
GEO:48.2063723;16.3776169
X-APPLE-STRUCTURED-LOCATION;VALUE=URI;X-ADDRESS=Club alpha Stubenbastei 12/14 Wien 1010 Österreich;X-APPLE-RADIUS=500;X-TITLE=Stubenbastei 12/14:geo:16.3776169,48.2063723
END:VEVENT
END:VCALENDAR