BEGIN:VCALENDAR
VERSION:2.0
PRODID:-//femvents.at - ECPv6.15.18//NONSGML v1.0//EN
CALSCALE:GREGORIAN
METHOD:PUBLISH
X-ORIGINAL-URL:https://www.femvents.at
X-WR-CALDESC:Veranstaltungen für femvents.at
REFRESH-INTERVAL;VALUE=DURATION:PT1H
X-Robots-Tag:noindex
X-PUBLISHED-TTL:PT1H
BEGIN:VTIMEZONE
TZID:Europe/Berlin
BEGIN:DAYLIGHT
TZOFFSETFROM:+0100
TZOFFSETTO:+0200
TZNAME:CEST
DTSTART:20250330T010000
END:DAYLIGHT
BEGIN:STANDARD
TZOFFSETFROM:+0200
TZOFFSETTO:+0100
TZNAME:CET
DTSTART:20251026T010000
END:STANDARD
BEGIN:DAYLIGHT
TZOFFSETFROM:+0100
TZOFFSETTO:+0200
TZNAME:CEST
DTSTART:20260329T010000
END:DAYLIGHT
BEGIN:STANDARD
TZOFFSETFROM:+0200
TZOFFSETTO:+0100
TZNAME:CET
DTSTART:20261025T010000
END:STANDARD
BEGIN:DAYLIGHT
TZOFFSETFROM:+0100
TZOFFSETTO:+0200
TZNAME:CEST
DTSTART:20270328T010000
END:DAYLIGHT
BEGIN:STANDARD
TZOFFSETFROM:+0200
TZOFFSETTO:+0100
TZNAME:CET
DTSTART:20271031T010000
END:STANDARD
END:VTIMEZONE
BEGIN:VEVENT
DTSTART;TZID=Europe/Berlin:20260519T190000
DTEND;TZID=Europe/Berlin:20260519T210000
DTSTAMP:20260419T224623
CREATED:20260415T083852Z
LAST-MODIFIED:20260415T083852Z
UID:10001098-1779217200-1779224400@www.femvents.at
SUMMARY:Von der Wirtschaft in die Politik | Im Gespräch mit Elisabeth Zehetner
DESCRIPTION:Referentin: Elisabeth Zehetner\nModeration: Karin Meier-Martetschläger \n  \nElisabeth Zehetner war viele Jahre in der Wirtschaftskammer Österreich tätig\, als sie der Ruf zur Staatssekretärin für Energie\, Startups und Tourismus im Bundesministerium für Wirtschaft\, Energie und Tourismus ereilte. \nDie Mutter einer Tochter wird uns einen Einblick in ihren Werdegang geben\, und wir werden mit ihr über die Herausforderungen ihres Alltags sprechen. Wir werden von ihrem ganz persönlichen Spagat zwischen ihren Aufgaben als Mutter und ihrem Tun für Österreich hören. \nAls ehemalige Geschäftsführerin von Oecolution Austria\, einer Initiative zur nachhaltigen Standortentwicklung mit Focus auf pragmatische Energie- und Klimapolitik und in Hinblick auf die aktuellen politischen Ereignisse und Unsicherheiten in vielen Ländern ist das Thema Energie für sie heute wichtiger denn je! Auch Tourismus ist für sie eine Herzensangelegenheit. Tourismus sieht sie ebenfalls als treibenden Wirtschaftsfaktor für unser Land. \nTrotz aller Verpflichtungen versucht sie Freundschaften auch tatsächlich zu leben und für ihre Tochter Mutter\, wie Freundin sein – nicht immer ist alles möglich! \nAn diesem Abend gewährt uns Elisabeth Zehetner sehr persönliche Einblicke in die Welt der Politik. Sie wird über die eine oder andere Anekdote plaudern und über die Herausforderungen\, denen Politikerinnen manchmal ausgesetzt sind. \n  \nFreuen sie sich auf einen interessanten Abend im Club alpha! \n  \n\n  \nElisabeth Zehetner studierte an der Universität Wien Französisch\, Politikwissenschaften\, Italianistik und Arabistik und schloss ihr Studium 2000 erfolgreich ab. Ihre ersten beruflichen Sporen erwarb sie in einer PR-Agentur\, bevor sie Bundesgeschäftsführerin von „Frau in der Wirtschaft” der WKO wurde. Bevor sie 2022 Geschäftsführerin von oecolution austria wurde\, war sie Leiterin der Abteilung Zielgruppenmanagement der WKO sowie Bundesgeschäftsführerin des Gründerservice und der Jungen Wirtschaft. Seit März 2025 ist sie Staatssekretärin. \nFoto: © BKA/Andy Wenzel
URL:https://www.femvents.at/event/von-der-wirtschaft-in-die-politik-im-gespraech-mit-elisabeth-zehetner/
LOCATION:Club alpha\, Stubenbastei 12/14\, Wien\, 1010\, Österreich
CATEGORIES:im Gespräch,Politik,Wien
ATTACH;FMTTYPE=image/webp:https://www.femvents.at/wp-content/uploads/2026/04/titelbilder_alpha-203_0506.2026-1-Jlsjhg.webp
ORGANIZER;CN="Club alpha":MAILTO:clubalpha@clubalpha.at
GEO:48.2063723;16.3776169
X-APPLE-STRUCTURED-LOCATION;VALUE=URI;X-ADDRESS=Club alpha Stubenbastei 12/14 Wien 1010 Österreich;X-APPLE-RADIUS=500;X-TITLE=Stubenbastei 12/14:geo:16.3776169,48.2063723
END:VEVENT
END:VCALENDAR