BEGIN:VCALENDAR
VERSION:2.0
PRODID:-//femvents.at - ECPv6.15.18//NONSGML v1.0//EN
CALSCALE:GREGORIAN
METHOD:PUBLISH
X-WR-CALNAME:femvents.at
X-ORIGINAL-URL:https://www.femvents.at
X-WR-CALDESC:Veranstaltungen für femvents.at
REFRESH-INTERVAL;VALUE=DURATION:PT1H
X-Robots-Tag:noindex
X-PUBLISHED-TTL:PT1H
BEGIN:VTIMEZONE
TZID:Europe/Vienna
BEGIN:DAYLIGHT
TZOFFSETFROM:+0100
TZOFFSETTO:+0200
TZNAME:CEST
DTSTART:20250330T010000
END:DAYLIGHT
BEGIN:STANDARD
TZOFFSETFROM:+0200
TZOFFSETTO:+0100
TZNAME:CET
DTSTART:20251026T010000
END:STANDARD
BEGIN:DAYLIGHT
TZOFFSETFROM:+0100
TZOFFSETTO:+0200
TZNAME:CEST
DTSTART:20260329T010000
END:DAYLIGHT
BEGIN:STANDARD
TZOFFSETFROM:+0200
TZOFFSETTO:+0100
TZNAME:CET
DTSTART:20261025T010000
END:STANDARD
BEGIN:DAYLIGHT
TZOFFSETFROM:+0100
TZOFFSETTO:+0200
TZNAME:CEST
DTSTART:20270328T010000
END:DAYLIGHT
BEGIN:STANDARD
TZOFFSETFROM:+0200
TZOFFSETTO:+0100
TZNAME:CET
DTSTART:20271031T010000
END:STANDARD
END:VTIMEZONE
BEGIN:VEVENT
DTSTART;TZID=Europe/Vienna:20260520T083000
DTEND;TZID=Europe/Vienna:20260520T103000
DTSTAMP:20260419T224239
CREATED:20260313T085637Z
LAST-MODIFIED:20260313T090643Z
UID:10000910-1779265800-1779273000@www.femvents.at
SUMMARY:Bruck/Leitha  LLL LEBENSFREUDE Frauentreff mit LLL-Botschafterin Pia Kasa & Sabine Kolb
DESCRIPTION:🌸✨ Hallo ihr wundervollen Frauen ✨🌸\n🌼 Lust\, einfach mal rauszukommen?\n🌸 Lachen\, plaudern\, durchatmen & neue Energie tanken?\nDann komm zu unserem LLL-LEBENSFREUDE TREFF 💚🧡🩷\nEin Ort für echte Begegnungen\, ehrliche Gespräche und diese kleinen Herzensmomente\, die so unglaublich gut tun 💫\n🌷 Egal ob du ganz neu bist oder schon öfter dabei warst –\n🧁 komm genauso\, wie du bist!\nHier ist Platz für dich\, dein Lächeln und alles\, was dich gerade bewegt 🫶\n💃 Wir freuen uns riesig auf dich! 💕\nBitte Platzreservierung 🤗\ninfo@vereinlebenliebenlachen.at
URL:https://www.femvents.at/event/bruck-leitha-lll-lebensfreude-frauentreff-mit-lll-botschafterin-pia-kasa-sabine-kolb-4/
LOCATION:Krupbauers Backhaus 1872\, Burgenlandstraße 12\, Bruck/Leitha\, 2460\, Austria\, Burgenlandstraße 12\, Gemeinde Bruck an der Leitha\, Niederösterreich\, 2460\, Austria
CATEGORIES:Burgenland,L💛L🧡L🩷 Frauentreff
ATTACH;FMTTYPE=image/jpeg:https://www.femvents.at/wp-content/uploads/2026/03/Frauentreff-Pia-g1f1my.jpg
ORGANIZER;CN="Verein 'LEBEN%2C LIEBEN%2C LACHEN - endlich wei%C3%9F ich wie!'":MAILTO:info@vereinlebenliebenlachen.at
GEO:48.024322;16.7798086
X-APPLE-STRUCTURED-LOCATION;VALUE=URI;X-ADDRESS=Krupbauers Backhaus 1872 Burgenlandstraße 12 Bruck/Leitha 2460 Austria Burgenlandstraße 12 Gemeinde Bruck an der Leitha Niederösterreich 2460 Austria;X-APPLE-RADIUS=500;X-TITLE=Burgenlandstraße 12:geo:16.7798086,48.024322
END:VEVENT
BEGIN:VEVENT
DTSTART;TZID=Europe/Vienna:20260520T083000
DTEND;TZID=Europe/Vienna:20260520T103000
DTSTAMP:20260419T224239
CREATED:20260407T062212Z
LAST-MODIFIED:20260419T100949Z
UID:10001030-1779265800-1779273000@www.femvents.at
SUMMARY:NÖ/Bruck/Leitha  LLL LEBENSFREUDE Frauentreff mit LLL-Botschafterin Pia Kasa & Sabine Kolb
DESCRIPTION:🌸✨ Hallo ihr wundervollen Frauen ✨🌸 \n🌼 Lust\, einfach mal rauszukommen?\n🌸 Lachen\, plaudern\, durchatmen & neue Energie tanken?\nDann komm zu unserem LLL-LEBENSFREUDE TREFF 💚🧡🩷 \nEin Ort für echte Begegnungen\, ehrliche Gespräche und diese kleinen Herzensmomente\, die so unglaublich gut tun 💫\n🌷 Egal ob du ganz neu bist oder schon öfter dabei warst –\n🧁 komm genauso\, wie du bist!\nHier ist Platz für dich\, dein Lächeln und alles\, was dich gerade bewegt 🫶\n💃 Wir freuen uns riesig auf dich! 💕 \nBitte Platzreservierung 🤗\ninfo@vereinlebenliebenlachen.at
URL:https://www.femvents.at/event/noe-bruck-leitha-lll-lebensfreude-frauentreff-mit-lll-botschafterin-pia-kasa-sabine-kolb/
LOCATION:Krupbauers Backhaus 1872\, Burgenlandstraße 12\, Bruck/Leitha\, 2460\, Austria
CATEGORIES:Burgenland,LLL
ATTACH;FMTTYPE=image/jpeg:https://www.femvents.at/wp-content/uploads/2026/03/Frauentreff-Bruck-Z8Ljnk.jpg
ORGANIZER;CN="LEBEN%2C LIEBEN%2C LACHEN &#8211%3B endlich wei%C3%9F ich wie!":MAILTO:info@vereinlebenliebenlachen.at
GEO:48.024322;16.7798086
X-APPLE-STRUCTURED-LOCATION;VALUE=URI;X-ADDRESS=Krupbauers Backhaus 1872 Burgenlandstraße 12 Bruck/Leitha 2460 Austria;X-APPLE-RADIUS=500;X-TITLE=Burgenlandstraße 12:geo:16.7798086,48.024322
END:VEVENT
BEGIN:VEVENT
DTSTART;TZID=Europe/Vienna:20260520T163000
DTEND;TZID=Europe/Vienna:20260520T180000
DTSTAMP:20260419T224239
CREATED:20260317T091341Z
LAST-MODIFIED:20260317T091341Z
UID:10000932-1779294600-1779300000@www.femvents.at
SUMMARY:KI vs. KI – Körperintelligenz trifft Künstliche Intelligenz
DESCRIPTION:Treffpunkt Frauenwissen\n\nDer digitale Mama Alltag fordert unser Nervensystem oft mehr\, als wir wahrnehmen. Dieser Vortrag zeigt\, wie wir Reizüberflutung und Perfektionsdruck früher erkennen und wieder stärker ins eigene Spüren finden. Mit einfachen\, nervensystemfreundlichen Mini Tools gelingt es\, Selbstführung zurückzugewinnen und im Alltag stabil zu bleiben. Ein kompakter Impuls für mehr innere Ruhe und moderne mentale Stärke. \n\n\nmit Vera STANGER
URL:https://www.femvents.at/event/ki-vs-ki-koerperintelligenz-trifft-kuenstliche-intelligenz/
LOCATION:Linz
CATEGORIES:Oberösterreich,Workshop
ATTACH;FMTTYPE=image/png:https://www.femvents.at/wp-content/uploads/2025/06/femvents_eventbild.png
END:VEVENT
BEGIN:VEVENT
DTSTART;TZID=Europe/Vienna:20260520T180000
DTEND;TZID=Europe/Vienna:20260520T193000
DTSTAMP:20260419T224239
CREATED:20260313T140233Z
LAST-MODIFIED:20260313T140233Z
UID:10000917-1779300000-1779305400@www.femvents.at
SUMMARY:Yoni Steaming Circle
DESCRIPTION:Yoni Steaming ist ein Dampfbad für deinen Intimbereich & Unterleib. Es ist eine uralte Tradition und auf der ganzen Welt verbreitet. Du setzt dich dabei über einen Kräutersud und lässt den Dampf in die Vulva und den Bauchraum steigen. \nVaginal Steaming kann bei vielen Themen/Beschwerden unterstützen – Menstruationsbeschwerden\, Geburtsvorbereitung\, Menopause\, (chronischen) Blasenentzündungen\, Endometriose uvm. \nBeim Yoni Steaming Circle hast du die Möglichkeit es unter professioneller Anleitung auf einem eigens dafür konzipiertem Hocker auszuprobieren. Außerdem zeige ich dir\, wie du zuhause sicher steamen kannst und welche Alternativen es gibt\, wenn du keinen Steaminghocker besitzt. \nDie Teilnehmeranzahl ist auf 4 Personen beschränkt. \nMehr Infos & Anmeldung: https://www.allaboutperiod.com/yoni-steaming-circle/\nPreis: 29€ pro Person (inkludiert eine Kräutermischung für die Anwendung beim Workshop und danach für mehrmaliges Steamen zuhause\, plus Snacks & Tee) \nPrivate Termine auf Anfrage!
URL:https://www.femvents.at/event/yoni-steaming-circle-5/
LOCATION:all about period\, Lerchenfelderstrasse 65\, Wien\, Wien\, 1070\, Austria
CATEGORIES:Frauenkreis,Wien,Workshop
ATTACH;FMTTYPE=image/jpeg:https://www.femvents.at/wp-content/uploads/2026/03/TessaViktoriaKutsamFoto_ALLABOUTPERIOD_YONISTEAMING-9-1.jpg
GEO:48.206719;16.3466189
X-APPLE-STRUCTURED-LOCATION;VALUE=URI;X-ADDRESS=all about period Lerchenfelderstrasse 65 Wien Wien 1070 Austria;X-APPLE-RADIUS=500;X-TITLE=Lerchenfelderstrasse 65:geo:16.3466189,48.206719
END:VEVENT
BEGIN:VEVENT
DTSTART;TZID=Europe/Vienna:20260520T180000
DTEND;TZID=Europe/Vienna:20260520T220000
DTSTAMP:20260419T224239
CREATED:20260313T085637Z
LAST-MODIFIED:20260313T085637Z
UID:10000911-1779300000-1779314400@www.femvents.at
SUMMARY:Baden LLL-Frauen Tanz Treff für VIP's und die\, die es noch werden wollen *LADIES LATIN NIGHT (SALSA)
DESCRIPTION:LLL-Frauen Tanz Treff in Eisenstadt & Baden 💚🧡🩷\nTanzen zu ABBA\, Country\, Oldies & Salsa –jeder Abend ein anderer Musikstyle\, immer dieselbe Freude am Tanzen.\n💃🏻💃🏻💃🏻HEUTE: LADIES LATIN NIGHT (SALSA)💃🏻💃🏻💃🏻 \nEin Raum für neue Begegnungen mit Tanzen und Spaß ~ wir feiern gemeinsam das Leben mit guter Musik 💃🏻💃🏻💃🏻\n#tanzenmachtglücklich\nOhne Anmeldung: Komm einfach vorbei!\nSpecial: Fashion-Tausch\nBring Kleider\, Schuhe\, Taschen & Schmuck mit\, die du nicht mehr brauchst (max.10 Stück)\nTausch gegen neue Schätze aus der Mitbring-Kollektion\nSortiert & fair: Jede Teilnehmerin kann stöbern und tauschen; alles sauber & gut erhaltenFür unsere VIP’s  und die\, die es noch werden wollen. 🙂\n 
URL:https://www.femvents.at/event/baden-lll-frauen-tanz-treff-fuer-vips-und-die-die-es-noch-werden-wollen-ladies-latin-night-salsa-2/
LOCATION:LEZ – Leesdorfer Event Zentrum\, Göschlgasse 1\, Baden\, 2500\, Göschlgasse 1\, Baden\, Niederösterreich\, 2500\, Austria
CATEGORIES:Burgenland,LLL-FrauenTanz Treff
ATTACH;FMTTYPE=image/jpeg:https://www.femvents.at/wp-content/uploads/2026/03/LLL-Frauen_Tanz_Treffs-mit-Herzen_Konfetti-2026-QSXXi3.jpg
ORGANIZER;CN="LEBEN%2C LIEBEN%2C LACHEN - endlich wei%C3%9F ich wie!":MAILTO:info@vereinlebenliebenlachen.at
GEO:48.003221;16.2491114
X-APPLE-STRUCTURED-LOCATION;VALUE=URI;X-ADDRESS=LEZ – Leesdorfer Event Zentrum Göschlgasse 1 Baden 2500 Göschlgasse 1 Baden Niederösterreich 2500 Austria;X-APPLE-RADIUS=500;X-TITLE=Göschlgasse 1:geo:16.2491114,48.003221
END:VEVENT
BEGIN:VEVENT
DTSTART;TZID=Europe/Vienna:20260520T180000
DTEND;TZID=Europe/Vienna:20260520T220000
DTSTAMP:20260419T224239
CREATED:20260407T062212Z
LAST-MODIFIED:20260419T100949Z
UID:10001031-1779300000-1779314400@www.femvents.at
SUMMARY:*ABGESAGT* Baden LLL-Frauen Tanz Treff für VIP’s und die\, die es noch werden wollen
DESCRIPTION:
URL:https://www.femvents.at/event/abgesagt-baden-lll-frauen-tanz-treff-fuer-vips-und-die-die-es-noch-werden-wollen/
LOCATION:LEZ – Leesdorfer Event Zentrum\, Göschlgasse 1\, Baden\, 2500
CATEGORIES:Burgenland
ORGANIZER;CN="LEBEN%2C LIEBEN%2C LACHEN &#8211%3B endlich wei%C3%9F ich wie!":MAILTO:info@vereinlebenliebenlachen.at
GEO:48.003221;16.2491114
X-APPLE-STRUCTURED-LOCATION;VALUE=URI;X-ADDRESS=LEZ – Leesdorfer Event Zentrum Göschlgasse 1 Baden 2500;X-APPLE-RADIUS=500;X-TITLE=Göschlgasse 1:geo:16.2491114,48.003221
END:VEVENT
BEGIN:VEVENT
DTSTART;TZID=Europe/Vienna:20260520T183000
DTEND;TZID=Europe/Vienna:20260520T203000
DTSTAMP:20260419T224239
CREATED:20260128T111253Z
LAST-MODIFIED:20260128T111253Z
UID:10000719-1779301800-1779309000@www.femvents.at
SUMMARY:FRAU SEiN Seminar: Selbsthilfe trifft Medizin
DESCRIPTION:In diesem Seminar beleuchten wir die Schnittstelle zwischen eigenverantwortlichem Handeln und professioneller medizinischer Unterstützung. Teilnehmende erfahren\, wie Selbsthilfe\, Prävention und aktive Lebensgestaltung sinnvoll mit ärztlicher Betreuung kombiniert werden können. Der ganzheitliche Ansatz des Seminars zeigt Wege auf\, Körper\, Geist und Lebensstil miteinander in Einklang zu bringen und so die persönliche Gesundheitskompetenz nachhaltig zu stärken. \nTerminanfrage unter:\nTel: 02822/2134020\nE-Mail: frausein@frau-ida.at \n\nÜber die Referentin \nDr. Monika Steinkellner ist Fachärztin für Allgemeinmedizin und Familienmedizin & Homöopathin.
URL:https://www.femvents.at/event/frau-sein-seminar-selbsthilfe-trifft-medizin/
LOCATION:FRAU iDA\, Hauptplatz 16\, Zwettl\, Niederösterreich\, 3910\, Austria
CATEGORIES:Niederösterreich,Vortrag,Workshop
ATTACH;FMTTYPE=image/jpeg:https://www.femvents.at/wp-content/uploads/2026/01/Logo-FRAU-SEiN-3.jpg
ORGANIZER;CN="FRAU iDA":MAILTO:office@frau-ida.at
GEO:48.6041614;15.167567
X-APPLE-STRUCTURED-LOCATION;VALUE=URI;X-ADDRESS=FRAU iDA Hauptplatz 16 Zwettl Niederösterreich 3910 Austria;X-APPLE-RADIUS=500;X-TITLE=Hauptplatz 16:geo:15.167567,48.6041614
END:VEVENT
END:VCALENDAR