BEGIN:VCALENDAR
VERSION:2.0
PRODID:-//femvents.at - ECPv6.15.18//NONSGML v1.0//EN
CALSCALE:GREGORIAN
METHOD:PUBLISH
X-ORIGINAL-URL:https://www.femvents.at
X-WR-CALDESC:Veranstaltungen für femvents.at
REFRESH-INTERVAL;VALUE=DURATION:PT1H
X-Robots-Tag:noindex
X-PUBLISHED-TTL:PT1H
BEGIN:VTIMEZONE
TZID:Europe/Vienna
BEGIN:DAYLIGHT
TZOFFSETFROM:+0100
TZOFFSETTO:+0200
TZNAME:CEST
DTSTART:20250330T010000
END:DAYLIGHT
BEGIN:STANDARD
TZOFFSETFROM:+0200
TZOFFSETTO:+0100
TZNAME:CET
DTSTART:20251026T010000
END:STANDARD
BEGIN:DAYLIGHT
TZOFFSETFROM:+0100
TZOFFSETTO:+0200
TZNAME:CEST
DTSTART:20260329T010000
END:DAYLIGHT
BEGIN:STANDARD
TZOFFSETFROM:+0200
TZOFFSETTO:+0100
TZNAME:CET
DTSTART:20261025T010000
END:STANDARD
BEGIN:DAYLIGHT
TZOFFSETFROM:+0100
TZOFFSETTO:+0200
TZNAME:CEST
DTSTART:20270328T010000
END:DAYLIGHT
BEGIN:STANDARD
TZOFFSETFROM:+0200
TZOFFSETTO:+0100
TZNAME:CET
DTSTART:20271031T010000
END:STANDARD
END:VTIMEZONE
BEGIN:VEVENT
DTSTART;TZID=Europe/Vienna:20260521T110000
DTEND;TZID=Europe/Vienna:20260521T130000
DTSTAMP:20260419T224442
CREATED:20260414T062508Z
LAST-MODIFIED:20260419T100949Z
UID:10001080-1779361200-1779368400@www.femvents.at
SUMMARY:NÖ/Felixdorf  LLL- LEBENSFREUDE Frauentreff mit LLL-Botschafterin Gabi Gaubmann
DESCRIPTION:🌸✨ Hallo ihr wundervollen Frauen ✨🌸 \n🌼 Lust\, einfach mal rauszukommen?\n🌸 Lachen\, plaudern\, durchatmen & neue Energie tanken?\nDann komm zu unserem LLL-LEBENSFREUDE TREFF 💚🧡🩷 \nEin Ort für echte Begegnungen\, ehrliche Gespräche und diese kleinen Herzensmomente\, die so unglaublich gut tun 💫\n🌷 Egal ob du ganz neu bist oder schon öfter dabei warst –\n🧁 komm genauso\, wie du bist!\nHier ist Platz für dich\, dein Lächeln und alles\, was dich gerade bewegt 🫶\n💃 Wir freuen uns riesig auf dich! 💕 \nBitte Platzreservierung 🤗\ninfo@vereinlebenliebenlachen.at
URL:https://www.femvents.at/event/noe-felixdorf-lll-lebensfreude-frauentreff-mit-lll-botschafterin-gabi-gaubmann-2/
LOCATION:Lisi’s Cafè Konditorei\, Hauptstraße 23\, Felixdorf\, 2603
CATEGORIES:Burgenland,LLL
ATTACH;FMTTYPE=image/jpeg:https://www.femvents.at/wp-content/uploads/2026/04/Lisi-QnLx2R.jpg
ORGANIZER;CN="LEBEN%2C LIEBEN%2C LACHEN &#8211%3B endlich wei%C3%9F ich wie!":MAILTO:info@vereinlebenliebenlachen.at
GEO:47.8826452;16.2435867
X-APPLE-STRUCTURED-LOCATION;VALUE=URI;X-ADDRESS=Lisi’s Cafè Konditorei Hauptstraße 23 Felixdorf 2603;X-APPLE-RADIUS=500;X-TITLE=Hauptstraße 23:geo:16.2435867,47.8826452
END:VEVENT
BEGIN:VEVENT
DTSTART;TZID=Europe/Vienna:20260521T133000
DTEND;TZID=Europe/Vienna:20260521T183000
DTSTAMP:20260419T224442
CREATED:20260313T085628Z
LAST-MODIFIED:20260313T090706Z
UID:10000904-1779370200-1779388200@www.femvents.at
SUMMARY:Hornstein LLL - "Die Malerinnen"  mit LLL - Botschafterin Cleo Ruisz
DESCRIPTION:🎨 Achtung\, Farb-Alarm! 🎨\nLadies\, es wird bunt!\nCleo öffnet einmal im Monat die Türen ihres Ateliers für einen entspannten Malnachmittag – ganz ohne Leistungsdruck\, ganz ohne „Workshop-Feeling“.\nDafür mit viel Spaß\, Farbe an den Fingern und vielleicht auch auf der Nase. 😉\nWir malen gemeinsam vor uns hin\, quatschen\,  lachen – und wenn Ihr feststeckt\, flüstert Cleo euch gerne den einen oder anderen kreativen Schubs zu.\nFarben & Co. bitte selbst einpacken – wer spontan ohne Material dasteht\, kann sich gegen einen kleinen Wertschätzungsbeitrag gerne bei Cleo bedienen.\nFreut euch auf eure kreativen Chaos-Momente mit Cleo.\n👩‍🎨 Nur 4 Plätze – also schnell anmelden!\ninfo@vereinlebenliebenlachen.at
URL:https://www.femvents.at/event/hornstein-lll-die-malerinnen-mit-lll-botschafterin-cleo-ruisz-2/
LOCATION:Atelier Cleo Ruisz\, Eisenstädterstraße 80\, Hornstein\, 7053\, Eisenstädter Straße 80\, Hornstein\, Burgenland\, 7053\, Austria
CATEGORIES:Burgenland,L💛L🧡L🩷 Frauentreff
ATTACH;FMTTYPE=image/png:https://www.femvents.at/wp-content/uploads/2026/03/Foto-scaled-rDZ5NO.png
ORGANIZER;CN="Verein 'LEBEN%2C LIEBEN%2C LACHEN - endlich wei%C3%9F ich wie!'":MAILTO:info@vereinlebenliebenlachen.at
GEO:47.8728967;16.4405648
X-APPLE-STRUCTURED-LOCATION;VALUE=URI;X-ADDRESS=Atelier Cleo Ruisz Eisenstädterstraße 80 Hornstein 7053 Eisenstädter Straße 80 Hornstein Burgenland 7053 Austria;X-APPLE-RADIUS=500;X-TITLE=Eisenstädter Straße 80:geo:16.4405648,47.8728967
END:VEVENT
BEGIN:VEVENT
DTSTART;TZID=Europe/Vienna:20260521T133000
DTEND;TZID=Europe/Vienna:20260521T183000
DTSTAMP:20260419T224442
CREATED:20260407T062212Z
LAST-MODIFIED:20260419T100949Z
UID:10001032-1779370200-1779388200@www.femvents.at
SUMMARY:Bgld./Hornstein LLL – „Die Malerinnen“  mit LLL – Botschafterin Cleo Ruisz
DESCRIPTION:🎨 Achtung\, Farb-Alarm! 🎨 \nLadies\, es wird bunt!\nCleo öffnet einmal im Monat die Türen ihres Ateliers für einen entspannten Malnachmittag – ganz ohne Leistungsdruck\, ganz ohne „Workshop-Feeling“.\nDafür mit viel Spaß\, Farbe an den Fingern und vielleicht auch auf der Nase. 😉 \nWir malen gemeinsam vor uns hin\, quatschen\,  lachen – und wenn Ihr feststeckt\, flüstert Cleo euch gerne den einen oder anderen kreativen Schubs zu. \nFarben & Co. bitte selbst einpacken – wer spontan ohne Material dasteht\, kann sich gegen einen kleinen Wertschätzungsbeitrag gerne bei Cleo bedienen. \nFreut euch auf eure kreativen Chaos-Momente mit Cleo. \n👩‍🎨 Nur 4 Plätze – also schnell anmelden!\ninfo@vereinlebenliebenlachen.at \n  \n 
URL:https://www.femvents.at/event/bgld-hornstein-lll-die-malerinnen-mit-lll-botschafterin-cleo-ruisz-2/
LOCATION:Atelier Cleo Ruisz\, Eisenstädterstraße 80\, Hornstein\, 7053
CATEGORIES:Burgenland,LLL
ATTACH;FMTTYPE=image/png:https://www.femvents.at/wp-content/uploads/2026/03/Foto-scaled-V1t3hS.png
ORGANIZER;CN="LEBEN%2C LIEBEN%2C LACHEN &#8211%3B endlich wei%C3%9F ich wie!":MAILTO:info@vereinlebenliebenlachen.at
GEO:47.8728967;16.4405648
X-APPLE-STRUCTURED-LOCATION;VALUE=URI;X-ADDRESS=Atelier Cleo Ruisz Eisenstädterstraße 80 Hornstein 7053;X-APPLE-RADIUS=500;X-TITLE=Eisenstädterstraße 80:geo:16.4405648,47.8728967
END:VEVENT
BEGIN:VEVENT
DTSTART;TZID=Europe/Vienna:20260521T183000
DTEND;TZID=Europe/Vienna:20260521T213000
DTSTAMP:20260419T224442
CREATED:20260416T064312Z
LAST-MODIFIED:20260416T064510Z
UID:10001112-1779388200-1779399000@www.femvents.at
SUMMARY:ÜBER GELD SPRICHT MAN NICHT- WIR SCHON!
DESCRIPTION:ÜBER GELD SPRICHT MAN NICHT- WIR SCHON!\nWenn Frauen ihr Geld wirklich verstehen\, verändert sich alles.Finanzielle Bildung ist kein Luxus – sie ist Lebensqualität. \nFreu dich auf einen Abend voller Aha-Momente rund ums Thema Geld: einfache Tipps & Tricks mehr Klarheit über deine Finanzen ein ganz neues Gefühl von Selbstbestimmung \nSei dabei und genieße einen Abend in angenehmer Atmosphäre und kulinarischem Genuss – denn Geld geht bekanntlich auch durch den Magen.  \nVon Frauen. Für Frauen. \nProgramm:18:00 Welcome Drink18:30- 19:15 Keynote19:15- Open EndAustausch\, Netzwerken und gemütlicher kulinarischer Ausklang \nTickets erhältlich unter folgendem Link: \nEarly Bird Ticket bis 30.4.202627\,99\,- pro Person \nTicket ab 1.5.2026 34\,99 \ninkl. Welcome Drink & Fingerfood \nTickets sind auf Eventbrite erhältlich:https://www.eventbrite.com/…/uber-geld-spricht-man… \nZusätzliche Getränke abseits vom Welcome Drink sind vor Ort auf eigene Kosten zu erwerben.
URL:https://www.femvents.at/event/ueber-geld-spricht-man-nicht-wir-schon/
LOCATION:San Pietro & San Bar\, St. Peter Hauptstraße 141\, Graz\, Steiermark\, 8042\, Austria
CATEGORIES:After Work,Finanzen,Netzwerk-Treffen,Steiermark,Vortrag
ATTACH;FMTTYPE=image/png:https://www.femvents.at/wp-content/uploads/2026/04/Ueber-Geld-spricht-man-nicht-5.png
ORGANIZER;CN="Birgit Lackner":MAILTO:birgit.lackner@dvag.at
GEO:47.0504343;15.4802392
X-APPLE-STRUCTURED-LOCATION;VALUE=URI;X-ADDRESS=San Pietro & San Bar St. Peter Hauptstraße 141 Graz Steiermark 8042 Austria;X-APPLE-RADIUS=500;X-TITLE=St. Peter Hauptstraße 141:geo:15.4802392,47.0504343
END:VEVENT
BEGIN:VEVENT
DTSTART;TZID=Europe/Vienna:20260521T190000
DTEND;TZID=Europe/Vienna:20260521T200000
DTSTAMP:20260419T224442
CREATED:20260217T112313Z
LAST-MODIFIED:20260304T081500Z
UID:10000826-1779390000-1779393600@www.femvents.at
SUMMARY:Gründerinnen-Sprechstunde: Fempreneur
DESCRIPTION:Du möchtest dich selbstständig machen aber hast noch 1000 Fragen?\n💬 Komm zum zweiwöchentlichen Online-Expertinnen-Talk für Gründerinnen (in spe) zu allen Fragen rund um deine Selbstständigkeit! \nIn diesem kostenlosen Webinar erwartet dich: \n\nOffene Q&A-Session zu allen Themen der Unternehmensgründung\nPraxisnahe Antworten auf deine individuellen Herausforderungen\nVernetzung mit Gleichgesinnten in entspannter Atmosphäre\nWertvolle Impulse und konkrete Handlungsschritte\n\nDetails:\n🗓️ Jeden zweiten Donnerstag\n⏰ 19:00 Uhr\n💻 Via Zoom\n💰 Kostenlos \nBringe deine Fragen mit oder höre einfach zu und lass dich inspirieren.\nDieser interaktive Austausch ist perfekt für dich\, egal ob du… \n\nmit dem Gedanken spielst\, dich selbstständig zu machen\nkonkrete Schritte zur Gründung planst\nbereits gegründet hast und vor neuen Herausforderungen stehst\n\n👩‍💼 Über den Host:\nIsabella ist diplomierte psychologische Beraterin\, Business Coach\, Trainerin für Erwachsenenbildung und zertifiziert für Burnoutprävention. Mit 14+ Jahren Erfahrung als selbstständige Digital Product Designerin bringt sie einen reichen Erfahrungsschatz in der Zusammenarbeit mit Kund:innen in ganz Europa mit. ✨ \n🔗 Melde dich jetzt für einen der nächsten Termine an! \nhttps://scheduler.zoom.us/isabella-raunigk/fempreneur-after-work
URL:https://www.femvents.at/event/gruenderinnen-sprechstunde-fempreneur-19/
LOCATION:Online-Event\, Austria
CATEGORIES:After Work,Coaching,Netzwerk-Treffen,Online-Event,Österreichweit
ATTACH;FMTTYPE=image/png:https://www.femvents.at/wp-content/uploads/2026/02/aFempreneur-After-Work-Linkedin-Video-SSG-Coop-5.png
ORGANIZER;CN="Mind Distillery":MAILTO:hello@mind-distillery.com
GEO:47.516231;14.550072
END:VEVENT
END:VCALENDAR