BEGIN:VCALENDAR
VERSION:2.0
PRODID:-//femvents.at - ECPv6.15.18//NONSGML v1.0//EN
CALSCALE:GREGORIAN
METHOD:PUBLISH
X-WR-CALNAME:femvents.at
X-ORIGINAL-URL:https://www.femvents.at
X-WR-CALDESC:Veranstaltungen für femvents.at
REFRESH-INTERVAL;VALUE=DURATION:PT1H
X-Robots-Tag:noindex
X-PUBLISHED-TTL:PT1H
BEGIN:VTIMEZONE
TZID:Europe/Vienna
BEGIN:DAYLIGHT
TZOFFSETFROM:+0100
TZOFFSETTO:+0200
TZNAME:CEST
DTSTART:20250330T010000
END:DAYLIGHT
BEGIN:STANDARD
TZOFFSETFROM:+0200
TZOFFSETTO:+0100
TZNAME:CET
DTSTART:20251026T010000
END:STANDARD
BEGIN:DAYLIGHT
TZOFFSETFROM:+0100
TZOFFSETTO:+0200
TZNAME:CEST
DTSTART:20260329T010000
END:DAYLIGHT
BEGIN:STANDARD
TZOFFSETFROM:+0200
TZOFFSETTO:+0100
TZNAME:CET
DTSTART:20261025T010000
END:STANDARD
BEGIN:DAYLIGHT
TZOFFSETFROM:+0100
TZOFFSETTO:+0200
TZNAME:CEST
DTSTART:20270328T010000
END:DAYLIGHT
BEGIN:STANDARD
TZOFFSETFROM:+0200
TZOFFSETTO:+0100
TZNAME:CET
DTSTART:20271031T010000
END:STANDARD
END:VTIMEZONE
BEGIN:VEVENT
DTSTART;VALUE=DATE:20260525
DTEND;VALUE=DATE:20260531
DTSTAMP:20260419T224312
CREATED:20260106T210733Z
LAST-MODIFIED:20260107T090658Z
UID:10000612-1779667200-1780185599@www.femvents.at
SUMMARY:Retreat Kroatien Mai 2026
DESCRIPTION:Ein exklusives Retreat in Kroatien für Frauen\, die innehalten\, Klarheit gewinnenund neue Kraft für ihr Leben schöpfen möchten. \nRaus aus dem Alltag. Rein in die Ruhe.In einer kleinen\, geschützten Gruppe von maximal 6 Frauenkombinieren wir Coaching\, Bewegung\, Reflexion und Meeresenergie.
URL:https://www.femvents.at/event/retreat-kroatien-mai-2026/
LOCATION:23245 Tribanj\, Kozjaca 16D\, Tribanj (Kreis Zadar)\, 23245\, Croatia (Local Name: Hrvatska)
CATEGORIES:Niederösterreich,Oberösterreich,Österreichweit,Retreat
ATTACH;FMTTYPE=image/png:https://www.femvents.at/wp-content/uploads/2026/01/Retreat-Kroatien-1.png
ORGANIZER;CN="Marijana Coach":MAILTO:office@marijana-coach.at
GEO:44.3314868;15.3655482
X-APPLE-STRUCTURED-LOCATION;VALUE=URI;X-ADDRESS=23245 Tribanj Kozjaca 16D Tribanj (Kreis Zadar) 23245 Croatia (Local Name: Hrvatska);X-APPLE-RADIUS=500;X-TITLE=Kozjaca 16D:geo:15.3655482,44.3314868
END:VEVENT
END:VCALENDAR