BEGIN:VCALENDAR
VERSION:2.0
PRODID:-//femvents.at - ECPv6.15.18//NONSGML v1.0//EN
CALSCALE:GREGORIAN
METHOD:PUBLISH
X-WR-CALNAME:femvents.at
X-ORIGINAL-URL:https://www.femvents.at
X-WR-CALDESC:Veranstaltungen für femvents.at
REFRESH-INTERVAL;VALUE=DURATION:PT1H
X-Robots-Tag:noindex
X-PUBLISHED-TTL:PT1H
BEGIN:VTIMEZONE
TZID:Europe/Vienna
BEGIN:DAYLIGHT
TZOFFSETFROM:+0100
TZOFFSETTO:+0200
TZNAME:CEST
DTSTART:20250330T010000
END:DAYLIGHT
BEGIN:STANDARD
TZOFFSETFROM:+0200
TZOFFSETTO:+0100
TZNAME:CET
DTSTART:20251026T010000
END:STANDARD
BEGIN:DAYLIGHT
TZOFFSETFROM:+0100
TZOFFSETTO:+0200
TZNAME:CEST
DTSTART:20260329T010000
END:DAYLIGHT
BEGIN:STANDARD
TZOFFSETFROM:+0200
TZOFFSETTO:+0100
TZNAME:CET
DTSTART:20261025T010000
END:STANDARD
BEGIN:DAYLIGHT
TZOFFSETFROM:+0100
TZOFFSETTO:+0200
TZNAME:CEST
DTSTART:20270328T010000
END:DAYLIGHT
BEGIN:STANDARD
TZOFFSETFROM:+0200
TZOFFSETTO:+0100
TZNAME:CET
DTSTART:20271031T010000
END:STANDARD
END:VTIMEZONE
BEGIN:VTIMEZONE
TZID:Europe/Berlin
BEGIN:DAYLIGHT
TZOFFSETFROM:+0100
TZOFFSETTO:+0200
TZNAME:CEST
DTSTART:20250330T010000
END:DAYLIGHT
BEGIN:STANDARD
TZOFFSETFROM:+0200
TZOFFSETTO:+0100
TZNAME:CET
DTSTART:20251026T010000
END:STANDARD
BEGIN:DAYLIGHT
TZOFFSETFROM:+0100
TZOFFSETTO:+0200
TZNAME:CEST
DTSTART:20260329T010000
END:DAYLIGHT
BEGIN:STANDARD
TZOFFSETFROM:+0200
TZOFFSETTO:+0100
TZNAME:CET
DTSTART:20261025T010000
END:STANDARD
BEGIN:DAYLIGHT
TZOFFSETFROM:+0100
TZOFFSETTO:+0200
TZNAME:CEST
DTSTART:20270328T010000
END:DAYLIGHT
BEGIN:STANDARD
TZOFFSETFROM:+0200
TZOFFSETTO:+0100
TZNAME:CET
DTSTART:20271031T010000
END:STANDARD
END:VTIMEZONE
BEGIN:VEVENT
DTSTART;VALUE=DATE:20260525
DTEND;VALUE=DATE:20260531
DTSTAMP:20260419T224311
CREATED:20260106T210733Z
LAST-MODIFIED:20260107T090658Z
UID:10000612-1779667200-1780185599@www.femvents.at
SUMMARY:Retreat Kroatien Mai 2026
DESCRIPTION:Ein exklusives Retreat in Kroatien für Frauen\, die innehalten\, Klarheit gewinnenund neue Kraft für ihr Leben schöpfen möchten. \nRaus aus dem Alltag. Rein in die Ruhe.In einer kleinen\, geschützten Gruppe von maximal 6 Frauenkombinieren wir Coaching\, Bewegung\, Reflexion und Meeresenergie.
URL:https://www.femvents.at/event/retreat-kroatien-mai-2026/
LOCATION:23245 Tribanj\, Kozjaca 16D\, Tribanj (Kreis Zadar)\, 23245\, Croatia (Local Name: Hrvatska)
CATEGORIES:Niederösterreich,Oberösterreich,Österreichweit,Retreat
ATTACH;FMTTYPE=image/png:https://www.femvents.at/wp-content/uploads/2026/01/Retreat-Kroatien-1.png
ORGANIZER;CN="Marijana Coach":MAILTO:office@marijana-coach.at
GEO:44.3314868;15.3655482
X-APPLE-STRUCTURED-LOCATION;VALUE=URI;X-ADDRESS=23245 Tribanj Kozjaca 16D Tribanj (Kreis Zadar) 23245 Croatia (Local Name: Hrvatska);X-APPLE-RADIUS=500;X-TITLE=Kozjaca 16D:geo:15.3655482,44.3314868
END:VEVENT
BEGIN:VEVENT
DTSTART;TZID=Europe/Vienna:20260527T180000
DTEND;TZID=Europe/Vienna:20260527T200000
DTSTAMP:20260419T224311
CREATED:20260407T062212Z
LAST-MODIFIED:20260419T100949Z
UID:10001035-1779904800-1779912000@www.femvents.at
SUMMARY:NÖ/Baden LLL-BUSINESS Frauentreff mit LLL-Botschafterin Maria Eitler
DESCRIPTION:🌸✨ Hallo liebe Unternehmerinnen & Business-Frauen ✨🌸 \n🌼 Lust auf Austausch auf Augenhöhe?\n🌸 Inspirierende Gespräche\, neue Impulse & wertvolle Kontakte?\nDann komm zu unserem LLL-BUSINESS FRAUENTREFF 💚🧡🩷 \nEin Raum für Vernetzung\, Erfahrungsaustausch und echtes Miteinander 💫\n🌷 Egal ob selbstständig\, in Gründung oder beruflich neu orientiert –\n🧁 komm genau so\, wie du bist!\nHier ist Platz für deine Ideen\, deine Visionen und alles\, was dich beruflich bewegt 🫶 \n💼 Gemeinsam wachsen.\n💬 Gemeinsam lernen.\n💖 Gemeinsam erfolgreich sein. \n💃 Wir freuen uns sehr auf dich! \n📩 Bitte um Platzreservierung\ninfo@vereinlebenliebenlachen.at
URL:https://www.femvents.at/event/noe-baden-lll-business-frauentreff-mit-lll-botschafterin-maria-eitler-2/
LOCATION:LEZ – Leesdorfer Event Zentrum\, Göschlgasse 1\, Baden\, 2500
CATEGORIES:Burgenland,LLL
ATTACH;FMTTYPE=image/jpeg:https://www.femvents.at/wp-content/uploads/2026/04/Business-Treff-Baden-MDiMgq.jpg
ORGANIZER;CN="LEBEN%2C LIEBEN%2C LACHEN &#8211%3B endlich wei%C3%9F ich wie!":MAILTO:info@vereinlebenliebenlachen.at
GEO:48.003221;16.2491114
X-APPLE-STRUCTURED-LOCATION;VALUE=URI;X-ADDRESS=LEZ – Leesdorfer Event Zentrum Göschlgasse 1 Baden 2500;X-APPLE-RADIUS=500;X-TITLE=Göschlgasse 1:geo:16.2491114,48.003221
END:VEVENT
BEGIN:VEVENT
DTSTART;TZID=Europe/Berlin:20260527T190000
DTEND;TZID=Europe/Berlin:20260527T210000
DTSTAMP:20260419T224311
CREATED:20260415T083855Z
LAST-MODIFIED:20260415T083855Z
UID:10001100-1779908400-1779915600@www.femvents.at
SUMMARY:Ein FEMALE WAKE-UP CALL | Buchpräsentation von Maren Wölfl
DESCRIPTION:Referentin: Maren Wölfl \nModeration: Maria Rauch-Kallat \n  \nFür Frauen\, die wirksam\, souverän und authentisch in Führung gehen.  \n  \nMit “Ein FEMALE WAKE-UP CALL” setzt Maren Wölfl ein kraftvolles Zeichen für eine neue Art von Führung. Dieses Buch ist kein klassischer Ratgeber – es ist ein Weckruf. Ein Weckruf für Frauen\, die nicht lauter werden wollen\, sondern klarer und für alle\, die sich nicht länger an bestehende\, männlich geprägte Strukturen anpassen möchten\, sondern diese aktiv mitgestalten wollen. \nMaren Wölfl plädiert für weibliche Führung\, die nicht härter\, sondern bewusster\, menschlicher und authentischer ist. Sie zeigt auf\, dass wir keine weiteren scheinbar perfekten Frauen im Topmanagement brauchen\, die sich verbiegen\, um dazuzugehören. Was wir brauchen\, sind Frauen mit Haltung\, mit innerer Klarheit – und mit dem Mut\, an den Tischen Platz zu nehmen\, an denen Entscheidungen getroffen werden. JETZT. \nDas Buch verbindet persönliche Erfahrungen\, ehrliche Einblicke und praxisnahe Impulse mit reflektierenden Fragen\, die dazu einladen\, eigene Denkmuster zu hinterfragen. Es richtet sich an Frauen\, die zwischen Erwartungen\, Selbstzweifeln und dem Anspruch\, es allen recht zu machen\, oft ihre eigene Stimme leiser drehen. \nEin FEMALE WAKE-UP CALL erinnert daran\, dass Führung kein Titel ist\, sondern eine Entscheidung für Präsenz\, Integrität und Wirksamkeit ist. \nGerade in Zeiten des Wandels braucht es neue Narrative. Dieses Buch ermutigt dazu\, alte Geschichten hinter sich zu lassen und Zukunft neu zu denken – nicht angepasst\, sondern selbstbestimmt. Es stärkt Frauen darin\, interne wie externe Barrieren zu überwinden und ihren eigenen Weg souverän zu gehen. \nDiese Veranstaltung im Club Alpha ist eine besondere Premiere: Zum ersten Mal stellt Maren Wölfl ihr Buch öffentlich vor und lädt dazu ein\, gemeinsam in einen offenen Austausch über weibliche Führung\, Mut und Veränderung zu gehen. Im Anschluss an die Präsentation gibt es die Möglichkeit zur persönlichen Signatur und zum Gespräch. \nWenn nicht jetzt\, wann dann! \n  \n\n  \nMaren Wölfl ist inspirierende Female Leadership-Expertin\, Speakerin und Beraterin für Unternehmen. Mit ihrer Plattform FEMALE WAKE-UP CALL erreicht sie tausende Frauen im deutschsprachigen Raum. Sie schreibt regelmäßig Gastkommentare für den Trend und die Sheconomy. Im Jahr 2024 wurde Sie als Unternehmerin des Jahres\, Top 15 Business-Coachin in Wien und Top 30 HR Influencerin ausgezeichnet. Ihr erstes Buch ist 2022 erschienen. \nFoto: © Nicole Stessl Photography
URL:https://www.femvents.at/event/ein-female-wake-up-call-buchpraesentation-von-maren-woelfl/
LOCATION:Club alpha\, Stubenbastei 12/14\, Wien\, 1010\, Österreich
CATEGORIES:Buchpräsentation,Karriere,Persönlichkeitsentwicklung,Wien
ATTACH;FMTTYPE=image/webp:https://www.femvents.at/wp-content/uploads/2026/04/woelfl_buchpraesentation-pNmzYq.webp
ORGANIZER;CN="Club alpha":MAILTO:clubalpha@clubalpha.at
GEO:48.2063723;16.3776169
X-APPLE-STRUCTURED-LOCATION;VALUE=URI;X-ADDRESS=Club alpha Stubenbastei 12/14 Wien 1010 Österreich;X-APPLE-RADIUS=500;X-TITLE=Stubenbastei 12/14:geo:16.3776169,48.2063723
END:VEVENT
END:VCALENDAR